BEGIN:VCALENDAR
VERSION:2.0
PRODID:-//Komunitní prostor Smíchov - ECPv6.15.20//NONSGML v1.0//EN
CALSCALE:GREGORIAN
METHOD:PUBLISH
X-WR-CALNAME:Komunitní prostor Smíchov
X-ORIGINAL-URL:https://kpsmichov.cz
X-WR-CALDESC:Akce na Komunitní prostor Smíchov
REFRESH-INTERVAL;VALUE=DURATION:PT1H
X-Robots-Tag:noindex
X-PUBLISHED-TTL:PT1H
BEGIN:VTIMEZONE
TZID:Europe/Prague
BEGIN:DAYLIGHT
TZOFFSETFROM:+0100
TZOFFSETTO:+0200
TZNAME:CEST
DTSTART:20240331T010000
END:DAYLIGHT
BEGIN:STANDARD
TZOFFSETFROM:+0200
TZOFFSETTO:+0100
TZNAME:CET
DTSTART:20241027T010000
END:STANDARD
BEGIN:DAYLIGHT
TZOFFSETFROM:+0100
TZOFFSETTO:+0200
TZNAME:CEST
DTSTART:20250330T010000
END:DAYLIGHT
BEGIN:STANDARD
TZOFFSETFROM:+0200
TZOFFSETTO:+0100
TZNAME:CET
DTSTART:20251026T010000
END:STANDARD
BEGIN:DAYLIGHT
TZOFFSETFROM:+0100
TZOFFSETTO:+0200
TZNAME:CEST
DTSTART:20260329T010000
END:DAYLIGHT
BEGIN:STANDARD
TZOFFSETFROM:+0200
TZOFFSETTO:+0100
TZNAME:CET
DTSTART:20261025T010000
END:STANDARD
END:VTIMEZONE
BEGIN:VEVENT
DTSTART;TZID=Europe/Prague:20250926T190000
DTEND;TZID=Europe/Prague:20250926T203000
DTSTAMP:20260422T004320
CREATED:20250906T152236Z
LAST-MODIFIED:20250922T151927Z
UID:8867-1758913200-1758918600@kpsmichov.cz
SUMMARY:Zvolte patro ...už zase repríza!
DESCRIPTION:Omezený prostor\, čtyři stěny a zrcadlo. Co vám probleskne hlavou při cestě napříč patry?\nPředstavení v duchu současného tance. \nVstupné dobrovolné. \nBudeme rádi\, když zaškrtnete účast ve Facebookové události. Budeme pak vědět\, kolik míst pro Vás připravit. Děkujeme!Není šito na míru dětskému publiku\, ovšem neslyšné děti neva. \nÚčinkují: Anežka Kocourková\, Eliška Rajmonová\, Michaela Zurynková\, Helena Čermáková\, Aneta Zelenková\, Denisa Beranová \n 
URL:https://kpsmichov.cz/program/zvolte-patro-zase-repriza/
LOCATION:Chrám\, Komunitní prostor Smíchov Na Doubkové 8\, Praha 5\, kraj hlavní město praha\, 150 00\, Česká republika
CATEGORIES:Kultura v prostoru
ATTACH;FMTTYPE=image/jpeg:https://kpsmichov.cz/wp-content/uploads/2025/09/533106218_3102456819909202_8243635713043990079_n.jpg
END:VEVENT
END:VCALENDAR