BEGIN:VCALENDAR
VERSION:2.0
PRODID:-//Komunitní prostor Smíchov - ECPv6.15.20//NONSGML v1.0//EN
CALSCALE:GREGORIAN
METHOD:PUBLISH
X-WR-CALNAME:Komunitní prostor Smíchov
X-ORIGINAL-URL:https://kpsmichov.cz
X-WR-CALDESC:Akce na Komunitní prostor Smíchov
REFRESH-INTERVAL;VALUE=DURATION:PT1H
X-Robots-Tag:noindex
X-PUBLISHED-TTL:PT1H
BEGIN:VTIMEZONE
TZID:Europe/Prague
BEGIN:DAYLIGHT
TZOFFSETFROM:+0100
TZOFFSETTO:+0200
TZNAME:CEST
DTSTART:20230326T010000
END:DAYLIGHT
BEGIN:STANDARD
TZOFFSETFROM:+0200
TZOFFSETTO:+0100
TZNAME:CET
DTSTART:20231029T010000
END:STANDARD
BEGIN:DAYLIGHT
TZOFFSETFROM:+0100
TZOFFSETTO:+0200
TZNAME:CEST
DTSTART:20240331T010000
END:DAYLIGHT
BEGIN:STANDARD
TZOFFSETFROM:+0200
TZOFFSETTO:+0100
TZNAME:CET
DTSTART:20241027T010000
END:STANDARD
BEGIN:DAYLIGHT
TZOFFSETFROM:+0100
TZOFFSETTO:+0200
TZNAME:CEST
DTSTART:20250330T010000
END:DAYLIGHT
BEGIN:STANDARD
TZOFFSETFROM:+0200
TZOFFSETTO:+0100
TZNAME:CET
DTSTART:20251026T010000
END:STANDARD
END:VTIMEZONE
BEGIN:VEVENT
DTSTART;TZID=Europe/Prague:20240311T000000
DTEND;TZID=Europe/Prague:20240426T000000
DTSTAMP:20260422T055232
CREATED:20240311T114444Z
LAST-MODIFIED:20240502T202216Z
UID:5833-1710115200-1714089600@kpsmichov.cz
SUMMARY:Výstava: Prociť komunity
DESCRIPTION:11. 3. – 26. 4. 2024\nVystavující: Adrián Kriška\, Anna Veronika Křížová\, Darja Lukjanenko\, kolektiv Neklikej a spi\, kolektiv Prádelna a Karolína Schön\nKurátoři: Jan Kieweg\, Karolína Lapešová  \nV pátek 8. 3. 2024 byla v Galerii Na Věky zahájena nová výstava Prociť komunity z cyklu (Ne)viditelná ruka péče. Výstava představuje tvorbu mladých autorek\, autorů a kolektivů\, jejichž činnost upozorňuje na dění v daných komunitách\, a to včetně problémů\, se kterými se potýkají. Péče o tyto komunity\, stejně jako její absence\, nastoluje otázku k zamyšlení\, co pro tyto komunity můžeme jako společnost udělat. Výstava prezentuje vybrané komunity (ukrajinskou\, queer\, etnickou\, studentskou i uměleckou)\, které vyžadují naši pozornost.  \nUmělkyně Darja Lukjanenko na výstavě zastupuje ukrajinskou komunitu svým dílem – záznamem performance\, které vzniklo v chrámu kostela Českobratrské církve evangelické. Na queer komunitu se zaměřuje závěsná tapiserie Adriána Krišky\, v němž autor rozvíjí osobitou mytologii v kombinaci s queer tématy. Mapování romské komunity se věnuje autorka Anna Veronika Křížová\, která je na výstavě zastoupena instalací fotografií romské komunity na Slovensku. Tématu romské i sociální komunity se věnuje kolektiv Prádelna\, který galerii zapůjčil video a výstavu doplní o doprovodný program v podobě projekce snímku Jak vyjádřit touhu nemožného (2022) prezentovaného na festivalu Marienbad v loňském roce. Problematice umělecké práce a praxi na vysokých uměleckých školách se věnuje umělkyně Karolína Schön z AVU v rámci instalace upozorňující na status umělce a kolektiv Neklikej a spi z FA a FSv ČVUT\, který poukazuje na péči o studenty a studentky architektury.  \nGrafický design: Jakub Veselý \nFoto: Rebeka Pojarová \nPořádá: Galerie Na Věky\, Českobratrská církev evangelická\, Komunitní prostor Smíchov\, Kavárna Na Věky \nProjekt vznikl za podpory: Státní fond kultury ČR\, Magistrát hlavního města Prahy \nMediální partneři: Fakulta umění a designu UJEP\, ArtMap\, Kulturní magazín UNI\, Maomai
URL:https://kpsmichov.cz/program/vystava-procit-komunity/
LOCATION:Galerie Na Věky\, Na Doubkové 8\, Praha\, 150 00\, Česká republika
CATEGORIES:Kultura v prostoru
ATTACH;FMTTYPE=image/jpeg:https://kpsmichov.cz/wp-content/uploads/2024/02/komunita_udalost-scaled.jpg
END:VEVENT
END:VCALENDAR