BEGIN:VCALENDAR
VERSION:2.0
PRODID:-//Komunitní prostor Smíchov - ECPv6.15.20//NONSGML v1.0//EN
CALSCALE:GREGORIAN
METHOD:PUBLISH
X-WR-CALNAME:Komunitní prostor Smíchov
X-ORIGINAL-URL:https://kpsmichov.cz
X-WR-CALDESC:Akce na Komunitní prostor Smíchov
REFRESH-INTERVAL;VALUE=DURATION:PT1H
X-Robots-Tag:noindex
X-PUBLISHED-TTL:PT1H
BEGIN:VTIMEZONE
TZID:Europe/Prague
BEGIN:DAYLIGHT
TZOFFSETFROM:+0100
TZOFFSETTO:+0200
TZNAME:CEST
DTSTART:20240331T010000
END:DAYLIGHT
BEGIN:STANDARD
TZOFFSETFROM:+0200
TZOFFSETTO:+0100
TZNAME:CET
DTSTART:20241027T010000
END:STANDARD
BEGIN:DAYLIGHT
TZOFFSETFROM:+0100
TZOFFSETTO:+0200
TZNAME:CEST
DTSTART:20250330T010000
END:DAYLIGHT
BEGIN:STANDARD
TZOFFSETFROM:+0200
TZOFFSETTO:+0100
TZNAME:CET
DTSTART:20251026T010000
END:STANDARD
BEGIN:DAYLIGHT
TZOFFSETFROM:+0100
TZOFFSETTO:+0200
TZNAME:CEST
DTSTART:20260329T010000
END:DAYLIGHT
BEGIN:STANDARD
TZOFFSETFROM:+0200
TZOFFSETTO:+0100
TZNAME:CET
DTSTART:20261025T010000
END:STANDARD
END:VTIMEZONE
BEGIN:VEVENT
DTSTART;TZID=Europe/Prague:20251007T143000
DTEND;TZID=Europe/Prague:20251007T160000
DTSTAMP:20260421T072309
CREATED:20241129T184316Z
LAST-MODIFIED:20260313T221846Z
UID:10006426-1759847400-1759852800@kpsmichov.cz
SUMMARY:Tchaj-Ťi Čchüan
DESCRIPTION:vede Tomáš Pospíšil \nRegistrace a více informací na telefonu: +420 605 433 445. \n‚‚Užitím jeho principů lze budovat duši\, užitím jeho pohybů lze budovat tělo\, ovládnutím jeho bojové části lze dosáhnout umění sebeobrany.‘‘  \nMistr Chen Xiao Wang \n 
URL:https://kpsmichov.cz/program/tchaj-ti-cchuan-041224/2025-10-07/
LOCATION:Chrám\, Komunitní prostor Smíchov Na Doubkové 8\, Praha 5\, kraj hlavní město praha\, 150 00\, Česká republika
CATEGORIES:Pohybová cvičení
ATTACH;FMTTYPE=image/jpeg:https://kpsmichov.cz/wp-content/uploads/2024/10/cxwbio-DSC5877c-1024x837-1-e1730133425583.jpg
END:VEVENT
END:VCALENDAR