BEGIN:VCALENDAR
VERSION:2.0
PRODID:-//Komunitní prostor Smíchov - ECPv6.15.20//NONSGML v1.0//EN
CALSCALE:GREGORIAN
METHOD:PUBLISH
X-WR-CALNAME:Komunitní prostor Smíchov
X-ORIGINAL-URL:https://kpsmichov.cz
X-WR-CALDESC:Akce na Komunitní prostor Smíchov
REFRESH-INTERVAL;VALUE=DURATION:PT1H
X-Robots-Tag:noindex
X-PUBLISHED-TTL:PT1H
BEGIN:VTIMEZONE
TZID:Europe/Prague
BEGIN:DAYLIGHT
TZOFFSETFROM:+0100
TZOFFSETTO:+0200
TZNAME:CEST
DTSTART:20240331T010000
END:DAYLIGHT
BEGIN:STANDARD
TZOFFSETFROM:+0200
TZOFFSETTO:+0100
TZNAME:CET
DTSTART:20241027T010000
END:STANDARD
BEGIN:DAYLIGHT
TZOFFSETFROM:+0100
TZOFFSETTO:+0200
TZNAME:CEST
DTSTART:20250330T010000
END:DAYLIGHT
BEGIN:STANDARD
TZOFFSETFROM:+0200
TZOFFSETTO:+0100
TZNAME:CET
DTSTART:20251026T010000
END:STANDARD
BEGIN:DAYLIGHT
TZOFFSETFROM:+0100
TZOFFSETTO:+0200
TZNAME:CEST
DTSTART:20260329T010000
END:DAYLIGHT
BEGIN:STANDARD
TZOFFSETFROM:+0200
TZOFFSETTO:+0100
TZNAME:CET
DTSTART:20261025T010000
END:STANDARD
END:VTIMEZONE
BEGIN:VEVENT
DTSTART;TZID=Europe/Prague:20251210T193000
DTEND;TZID=Europe/Prague:20251210T220000
DTSTAMP:20260421T072918
CREATED:20251001T112342Z
LAST-MODIFIED:20260320T225809Z
UID:10006414-1765395000-1765404000@kpsmichov.cz
SUMMARY:Tančírna forró CZ/ENG
DESCRIPTION:Brazilský tanec forró se zkušeným a hravým lektorem pro všechny\, kdo se chtějí hýbat – nezávisle na předchozí zkušenosti / s partnerem i bez / (16+) / CZ/ENG / vede Eder Cardoso Santana\n\nTermín forró označuje hudební žánr\, rytmus\, tanec a také samotnou událost\, na které se hraje a tančí hudba forró. Hudební styl forró je silně spojený s kulturou a každodenním životem severovýchodního regionu Brazílie.\n\nVstupné dobrovolné v podobě daru (0–250 Kč).\n\n\nkaždou středu 19:30–22:00 \n\n\notevřená tančírna s možným seznámením základního kroku pro nováčky \nAktivita je finančně podpořena MČ Praha 5.
URL:https://kpsmichov.cz/program/tancirna-forro-cz-eng/2025-12-10/
LOCATION:Chrám\, Komunitní prostor Smíchov Na Doubkové 8\, Praha 5\, kraj hlavní město praha\, 150 00\, Česká republika
CATEGORIES:Taneční aktivity
ATTACH;FMTTYPE=image/png:https://kpsmichov.cz/wp-content/uploads/2024/03/Navrhova-plocha-1.png
END:VEVENT
END:VCALENDAR