BEGIN:VCALENDAR
VERSION:2.0
PRODID:-//Komunitní prostor Smíchov - ECPv6.15.20//NONSGML v1.0//EN
CALSCALE:GREGORIAN
METHOD:PUBLISH
X-WR-CALNAME:Komunitní prostor Smíchov
X-ORIGINAL-URL:https://kpsmichov.cz
X-WR-CALDESC:Akce na Komunitní prostor Smíchov
REFRESH-INTERVAL;VALUE=DURATION:PT1H
X-Robots-Tag:noindex
X-PUBLISHED-TTL:PT1H
BEGIN:VTIMEZONE
TZID:Europe/Prague
BEGIN:DAYLIGHT
TZOFFSETFROM:+0100
TZOFFSETTO:+0200
TZNAME:CEST
DTSTART:20250330T010000
END:DAYLIGHT
BEGIN:STANDARD
TZOFFSETFROM:+0200
TZOFFSETTO:+0100
TZNAME:CET
DTSTART:20251026T010000
END:STANDARD
BEGIN:DAYLIGHT
TZOFFSETFROM:+0100
TZOFFSETTO:+0200
TZNAME:CEST
DTSTART:20260329T010000
END:DAYLIGHT
BEGIN:STANDARD
TZOFFSETFROM:+0200
TZOFFSETTO:+0100
TZNAME:CET
DTSTART:20261025T010000
END:STANDARD
BEGIN:DAYLIGHT
TZOFFSETFROM:+0100
TZOFFSETTO:+0200
TZNAME:CEST
DTSTART:20270328T010000
END:DAYLIGHT
BEGIN:STANDARD
TZOFFSETFROM:+0200
TZOFFSETTO:+0100
TZNAME:CET
DTSTART:20271031T010000
END:STANDARD
END:VTIMEZONE
BEGIN:VEVENT
DTSTART;TZID=Europe/Prague:20260412T174500
DTEND;TZID=Europe/Prague:20260412T210000
DTSTAMP:20260421T022445
CREATED:20251101T144538Z
LAST-MODIFIED:20260320T191944Z
UID:10006607-1776015900-1776027600@kpsmichov.cz
SUMMARY:Nedělní Jam Kontaktní Improvizace / Sunday CI Jam
DESCRIPTION:Milí přátelé a tanečníci\,\nzveme vás na JAM kontaktní improvizace každou druhou a poslední neděli v měsíci v Komunitním Prostoru Smíchov\, v čase 18:30-21:00.\nKontaktní improvizace (Contact Improvisation\, zkráceně CI)\nje pohybová improvizace praktikovaná v kontaktu s jedním nebo více lidmi\, která je založena na sdílení váhy a dalších principech. Je to vyvíjející se praxe\, kterou v roce 1972 inicioval americký choreograf Steve Paxton a následně rozvíjeli i další tanečníci. Existuje mnoho způsobů\, jak CI definovat. Zde najdete některé z nich:https://ciglobalcalendar.net/…/what-is-contact… \n.\nNaším přáním je na JAMech utvářet vzájemně vyživující prostor\, společně držené pole\, kde se můžeme otevřít inteligenci našich těl\, prozkoumávat a prožívat jejich kreativitu\, pohybové možnosti\, kvality a propojenost.\nKontaktní improvizaci vnímáme také jako praxi\, kde se pohyb rozvíjí z naslouchání tělu a spojení se s hlubším tělesným vnímáním. Kontakt s partnerem je pak pozvánkou k přenesení tohoto naslouchání do společně tvořeného pohybu\, kde zároveň zůstáváme autonomními bytostmi. Do každého JAMU budeme vstupovat společně\, vedeným pohybovým úvodem (lead-in).\nOd 28.9. jste před začátkem JAMU\, v čase 17:45-18:15\, vítání přijít na Pre-Jam LAB\, které jsou prostorem pro zkoušení a zkoumání čehokoliv spojeného s CI\, co vás zajímá. Můžete přinášet otázky a téma které vám na jamech vyvstali. Také se můžeme společně věnovat zkoumání základních principů CI. Pre-Jam LABy jsou otevřené všem\, zvláště je doporučujeme pokud s CI začínáte. První Lab se uskuteční 28.9.2025\n\nPRAKTICKÉ INFORMACE:\n Kdy: druhá a poslední neděle v měsíci (s výjimkou 14.9. a 11/2025)17:45 – 18:15 Pre-Jam LAB18:30 – 21:00 JAM Kde: Komunitní Prostor Smíchov\, Na Doubkové 8/2040\, Praha 5 Cena: 300 Kč (+Máme místo pro 1 dobrovolníka. Pište PM.)\n.\nWhatsApp Skupina pro JAMy: https://chat.whatsapp.com/HlJ7tpR6zmQ6o8O0sHX4Sr\n\nProstor bude otevřen minimálně 15 minut předem. Doporučujeme přijít dřív a naladit se. S sebou pohodlné oblečení ideálně s dlouhými rukávy. Tančíme bosky nebo v ponožkách.\nBudeme rády za šíření pozvánky mezi ty\, které by to mohlo zajímat.\nTěšíme se na setkání v tanci!Vaše otázky a návrhy jsou vítány.\n\nMaysara Volf\, Len Sabolčáková\, Lucie Klosová a Tereza Kodíčková\n\nENG \n\n\n\nDear friends and dancers\,\nbe invited to SUNDAY CI JAMs which are happening every second and every last Sunday of the month in Smíchov Community Space\, from 6:30 PM to 9:00 PM.\nContact Improvisation (CI)\nis a movement improvisation practiced in contact with one or more people\, based on weight sharing and other principles. It is an evolving movement practice initiated in 1972 by American choreographer Steve Paxton followed by other exploring dancers. There are many ways to define CI. Here you can find some:https://ciglobalcalendar.net/…/what-is-contact…\n.\nOur wish is to create a mutually nourishing space\, a jointly held field where we can open to the intelligence of our bodies\, explore and experience its creativity\, movement possibilities\, qualities and interconnectedness.\nWe see Contact Improvisation also as a practice where movement develops from listening to the body and from deeper bodily connection. Contact with a partner is then an invitation to transfer this listening into a jointly created movement\, while we remain autonomous beings at the same time. We will enter every Jam with lead-in.\nBefore JAMs\, from 5:45-6:15 PM\, you are welcome to join Pre-Jam LAB. This is a space for exploring anything related to CI that interests you. You can bring your questions and topics that arose e.g. during the jams. We can also explore the basic principles of CI together. Pre-Jam LABs are open to everyone\, and are recommend especially if you are new to CI. The first Lab will take place on 28.9.2025\n\nPRACTICAL INFORMATION:\n When: Every 2nd and every last Sunday of the month (14.9. and 11/25 is an exception)5:45 PM – 6:15 Pre-Jam LAB6:30 PM – 9:00 PM JAM Where: Community Space Smíchov\, Na Doubkové 8/2040\, Prague 5 Price: 300 CZK (+1 volunteer spot\, send PM)\n.\nWhatsApp group for JAMs: https://chat.whatsapp.com/HlJ7tpR6zmQ6o8O0sHX4Sr\n\nThe space will be open at least 15 minutes in advance. We recommend coming early to have a time to arrive and attune. Please\, bring comfortable clothing\, ideally with long sleeves. We dance barefoot or in socks.\nWe would be happy if you spread awareness of this idea among those who might be interested.\nWe are looking forward to meeting you at the dance!Questions and suggestions are welcome.\n\nMaysara Volf\, Len Sabolčáková\, Lucie Klosová a Tereza Kodíčková\n\n\nThe laboratory is supported by the German-Czech Future Foundation and Nir de Volff / TOTAL BRUTAL.
URL:https://kpsmichov.cz/program/sunday-ci-jam/2026-04-12/
LOCATION:Chrám\, Komunitní prostor Smíchov Na Doubkové 8\, Praha 5\, kraj hlavní město praha\, 150 00\, Česká republika
CATEGORIES:Taneční aktivity,Živé téma
ATTACH;FMTTYPE=image/jpeg:https://kpsmichov.cz/wp-content/uploads/2025/11/545814277_10162571921808525_7574984714424615500_n.jpg
END:VEVENT
END:VCALENDAR