BEGIN:VCALENDAR
VERSION:2.0
PRODID:-//Komunitní prostor Smíchov - ECPv6.15.20//NONSGML v1.0//EN
CALSCALE:GREGORIAN
METHOD:PUBLISH
X-WR-CALNAME:Komunitní prostor Smíchov
X-ORIGINAL-URL:https://kpsmichov.cz
X-WR-CALDESC:Akce na Komunitní prostor Smíchov
REFRESH-INTERVAL;VALUE=DURATION:PT1H
X-Robots-Tag:noindex
X-PUBLISHED-TTL:PT1H
BEGIN:VTIMEZONE
TZID:Europe/Prague
BEGIN:DAYLIGHT
TZOFFSETFROM:+0100
TZOFFSETTO:+0200
TZNAME:CEST
DTSTART:20250330T010000
END:DAYLIGHT
BEGIN:STANDARD
TZOFFSETFROM:+0200
TZOFFSETTO:+0100
TZNAME:CET
DTSTART:20251026T010000
END:STANDARD
BEGIN:DAYLIGHT
TZOFFSETFROM:+0100
TZOFFSETTO:+0200
TZNAME:CEST
DTSTART:20260329T010000
END:DAYLIGHT
BEGIN:STANDARD
TZOFFSETFROM:+0200
TZOFFSETTO:+0100
TZNAME:CET
DTSTART:20261025T010000
END:STANDARD
BEGIN:DAYLIGHT
TZOFFSETFROM:+0100
TZOFFSETTO:+0200
TZNAME:CEST
DTSTART:20270328T010000
END:DAYLIGHT
BEGIN:STANDARD
TZOFFSETFROM:+0200
TZOFFSETTO:+0100
TZNAME:CET
DTSTART:20271031T010000
END:STANDARD
END:VTIMEZONE
BEGIN:VEVENT
DTSTART;TZID=Europe/Prague:20260402T180000
DTEND;TZID=Europe/Prague:20260402T200000
DTSTAMP:20260421T202730
CREATED:20260317T180336Z
LAST-MODIFIED:20260317T181550Z
UID:10006596-1775152800-1775160000@kpsmichov.cz
SUMMARY:Saxon Strings
DESCRIPTION:Nenechte si ujít koncert talentovaných mladých hudebníků Saxon Strings\, kteří do Prahy přivážejí energii\, preciznost a radost ze společného muzicírování. \nSaxon Strings je smyčcový orchestr složený z talentovaných mladých hudebníků\, které spojuje vášeň pro orchestrální hudbu a společné muzicírování. Soubor je součástí rozsáhlého školního orchestrálního programu\, do něhož je zapojeno mnoho mladých instrumentalistů.\nProgram zahrnuje přibližně 185 mladých hudebníků\, z nichž významná část se účastní tohoto evropského turné. Soubor je držitelem ocenění Blue Ribbon ve státních hodnoceních po dobu posledních patnácti let a získal také prestižní National Mark of Excellence Award. Orchestr vystoupil mimo jiné v Carnegie Hall v New Yorku a absolvoval mezinárodní turné v Kanadě\, Itálii\, Irsku a Španělsku. \nVýběr z programu:\nAntonín Dvořák – Symfonie č. 9 „Z Nového světa“\nW. A. Mozart – Symfonie č. 29\nLudwig van Beethoven – Symfonie č. 7\nBedřich Smetana – Vltava\nFranz Schubert – Symfonie „Nedokončená“ \nVstupné je dobrovolné. \nDobrovolné vstupné bude věnováno organizaci Cesta domů.\nCesta domů provozuje Domácí hospic na území hl. m. Prahy. Komukoliv z České republiky poskytuje poradenské služby v oblasti péče o nevyléčitelně nemocné a umírající.
URL:https://kpsmichov.cz/program/saxon-strings/
LOCATION:Chrám\, Komunitní prostor Smíchov Na Doubkové 8\, Praha 5\, kraj hlavní město praha\, 150 00\, Česká republika
CATEGORIES:Kultura v prostoru
ATTACH;FMTTYPE=application/pdf:https://kpsmichov.cz/wp-content/uploads/2026/03/Saxon-Strings-Praha-2.4.-2026-2.pdf
END:VEVENT
BEGIN:VEVENT
DTSTART;TZID=Europe/Prague:20260409T180000
DTEND;TZID=Europe/Prague:20260409T200000
DTSTAMP:20260421T202730
CREATED:20260317T181259Z
LAST-MODIFIED:20260326T174941Z
UID:10006598-1775757600-1775764800@kpsmichov.cz
SUMMARY:Long Island Sound
DESCRIPTION:Smyčcový orchestr Long Island Sound tvoří talentovaní mladí hudebníci\, kteří představí výběr známých orchestrálních skladeb v energickém a svěžím provedení. Tvoří jej studenti ve věku 14–18 let\, kteří mají za sebou vystoupení na prestižních pódiích jako Lincoln Center či Carnegie Hall. Pod vedením charismatické dirigentky Dorie M. Downs\, která více než tři desetiletí inspiruje mladé hudebníky\, vás tento soubor vezme na hudební cestu napříč historií i současností. Přijďte zažít koncert\, kde se setkává vášeň pro hudbu s touhou poznávat svět – autentický\, živý a nezapomenutelný. \nLong Island Sound je smyčcový orchestr složený ze studentů několika středních škol. Myšlenka jeho vzniku se objevila na jaře roku 2024\, kdy se začali setkávat studenti a rodiče se zájmem vytvořit společný orchestrální projekt. Po konkurzech byli vybráni mladí hudebníci\, kteří začali pravidelně zkoušet a připravovat program pro společné koncertní turné.\nSoubor spojuje studenty z pěti různých škol a tří školních okrsků. Hudebníci ve věku přibližně 14–18 let hrají na housle\, violu a violoncello a setkávají se ke společným zkouškám\, aby vytvořili program odpovídající jejich schopnostem a zároveň představující hudbu míst\, která během turné navštíví.\nMnozí členové orchestru mají zkušenosti s vystupováním na významných koncertních pódiích a historických místech. Jejich společný projekt spojuje nadšení pro hudbu s touhou poznávat nová místa a nacházet inspiraci v hudební historii. Toto turné pro ně představuje výjimečnou příležitost propojit lásku k hudbě s objevováním kulturních tradic evropských měst. \nVýběr z programu:\nAaron Copland – Hoe Down z baletu Rodeo\nGiacomo Puccini – I Crisantemi\nEdvard Grieg – Dvě elegické melodie\nAram Chačaturjan – Valčík z Masquerade Suite\nBedřich Smetana – Themes from “The Moldau”\n\nVstupné je dobrovolné.\nDobrovolné vstupné bude věnováno organizaci Cesta domů.\nCesta domů provozuje Domácí hospic na území hl. m. Prahy. Komukoliv z České republiky poskytuje poradenské služby v oblasti péče o nevyléčitelně nemocné a umírající.
URL:https://kpsmichov.cz/program/long-island-sound/
LOCATION:Chrám\, Komunitní prostor Smíchov Na Doubkové 8\, Praha 5\, kraj hlavní město praha\, 150 00\, Česká republika
CATEGORIES:Kultura v prostoru
ATTACH;FMTTYPE=image/jpeg:https://kpsmichov.cz/wp-content/uploads/2026/03/Long-island-Sound-Praha-9.4.2026-scaled.jpg
END:VEVENT
BEGIN:VEVENT
DTSTART;TZID=Europe/Prague:20260410T180000
DTEND;TZID=Europe/Prague:20260410T203000
DTSTAMP:20260421T202730
CREATED:20260323T123945Z
LAST-MODIFIED:20260323T124146Z
UID:10006612-1775844000-1775853000@kpsmichov.cz
SUMMARY:Vernisáž výstavy Jiřiny Adamcové – LUNETY
DESCRIPTION:Akademická malířka Jiřina Adamcová (1927–2019) patří k osobnostem českého poválečného umění. Narodila se v Rudlicích u Znojma\, vyrůstala v evangelickém prostředí a v letech 1946–1950 studovala na Akademii výtvarných umění v Praze v ateliéru grafiky u Vladimíra Pukla. Zpočátku se prosadila především jako grafička a ilustrátorka\, později realizovala řadu monumentálních děl v architektuře – např. mozaiku Jan Želivský a jeho doba v pražském metru na stanici Želivského. Od konce 80. let se její tvorba soustředila téměř výhradně na křesťanské motivy\, které zpracovávala osobitou kombinovanou technikou spojující malbu\, kresbu\, koláž i rukopisné texty. Vystavovala nejen v Česku\, ale také na Slovensku\, v Polsku\, Švýcarsku\, Německu a ve Spojených státech. Její díla jsou zastoupena např. ve sbírkách Národní galerie v Praze\, Galerie hlavního města Prahy\, v Památníku Terezín\, v Showspace Gallery ve Philadelphii\, či v australském kostele v Glenbrooku. \n  \nAdamcová chápala výtvarné umění jako prostor svědectví – jako místo\, kde se osobní zkušenost\, víra a dějiny protínají v obraze. Typická je pro ni práce s kontrastem světla a tmy\, s dynamickou linií i s výraznou\, často symbolicky zatíženou barevností. Do obrazové plochy vstupuje slovo – biblický verš\, úryvek modlitby\, osobní poznámka – které není ilustrací\, ale rovnocennou součástí kompozice. Její díla otevírají téma času\, utrpení a naděje. Na místo popisnosti volí metaforu a vrstvení významů. \n  \nCyklus Lunety představuje paralelní vrchol této pozdní fáze. Autorka zde volně pracuje s principem lunety – nikoli jako doslovným architektonickým prvkem ve tvaru půlkruhu\, ale jako symbolickým polem\, které v křesťanské tradici nese rozmanité výjevy. Formáty mají atypický\, dynamicky tvarovaný obrys\, kompozice napínají obrazovou plochu směrem vzhůru a otevírají ji prostoru naděje. Soubor Malé lunety toto téma rozvíjí v intimnějším měřítku a přímo využívá půlkruhový formát jako meditativní obrazový rámec. Celý vystavený soubor tak představuje pozdní a koncentrované svědectví autorčiny víry\, v němž se osobní zkušenost proměňuje v obraz naděje.\n\n\nKurátorky: trio Artikulum\n_________________________________________ \nVýstava se uskuteční za finanční podpory MČ Praha 5 v rámci projektu Sousluktury 2026.
URL:https://kpsmichov.cz/program/vernisaz-lunety/
LOCATION:Galerie Na Věky\, Na Doubkové 8\, Praha\, 150 00\, Česká republika
CATEGORIES:Kultura v prostoru
ATTACH;FMTTYPE=image/jpeg:https://kpsmichov.cz/wp-content/uploads/2026/03/A3_200g_jirinka-plakat-v3_ZNACKY-scaled.jpg
END:VEVENT
BEGIN:VEVENT
DTSTART;TZID=Europe/Prague:20260410T180000
DTEND;TZID=Europe/Prague:20260620T230000
DTSTAMP:20260421T202730
CREATED:20260323T124413Z
LAST-MODIFIED:20260323T124518Z
UID:10006613-1775844000-1781996400@kpsmichov.cz
SUMMARY:Výstava Jiřiny Adamcové – LUNETY
DESCRIPTION:Akademická malířka Jiřina Adamcová (1927–2019) patří k osobnostem českého poválečného umění. Narodila se v Rudlicích u Znojma\, vyrůstala v evangelickém prostředí a v letech 1946–1950 studovala na Akademii výtvarných umění v Praze v ateliéru grafiky u Vladimíra Pukla. Zpočátku se prosadila především jako grafička a ilustrátorka\, později realizovala řadu monumentálních děl v architektuře – např. mozaiku Jan Želivský a jeho doba v pražském metru na stanici Želivského. Od konce 80. let se její tvorba soustředila téměř výhradně na křesťanské motivy\, které zpracovávala osobitou kombinovanou technikou spojující malbu\, kresbu\, koláž i rukopisné texty. Vystavovala nejen v Česku\, ale také na Slovensku\, v Polsku\, Švýcarsku\, Německu a ve Spojených státech. Její díla jsou zastoupena např. ve sbírkách Národní galerie v Praze\, Galerie hlavního města Prahy\, v Památníku Terezín\, v Showspace Gallery ve Philadelphii\, či v australském kostele v Glenbrooku. \n  \nAdamcová chápala výtvarné umění jako prostor svědectví – jako místo\, kde se osobní zkušenost\, víra a dějiny protínají v obraze. Typická je pro ni práce s kontrastem světla a tmy\, s dynamickou linií i s výraznou\, často symbolicky zatíženou barevností. Do obrazové plochy vstupuje slovo – biblický verš\, úryvek modlitby\, osobní poznámka – které není ilustrací\, ale rovnocennou součástí kompozice. Její díla otevírají téma času\, utrpení a naděje. Na místo popisnosti volí metaforu a vrstvení významů. \n  \nCyklus Lunety představuje paralelní vrchol této pozdní fáze. Autorka zde volně pracuje s principem lunety – nikoli jako doslovným architektonickým prvkem ve tvaru půlkruhu\, ale jako symbolickým polem\, které v křesťanské tradici nese rozmanité výjevy. Formáty mají atypický\, dynamicky tvarovaný obrys\, kompozice napínají obrazovou plochu směrem vzhůru a otevírají ji prostoru naděje. Soubor Malé lunety toto téma rozvíjí v intimnějším měřítku a přímo využívá půlkruhový formát jako meditativní obrazový rámec. Celý vystavený soubor tak představuje pozdní a koncentrované svědectví autorčiny víry\, v němž se osobní zkušenost proměňuje v obraz naděje.\n\n\nKurátorky: trio Artikulum\n_________________________________________ \nVýstava probíhá za finanční podpory MČ Praha 5 v rámci projektu Sousluktury 2026.
URL:https://kpsmichov.cz/program/vystava-jiriny-adamcove-lunety/
LOCATION:Galerie Na Věky\, Na Doubkové 8\, Praha\, 150 00\, Česká republika
CATEGORIES:Kultura v prostoru
ATTACH;FMTTYPE=image/jpeg:https://kpsmichov.cz/wp-content/uploads/2026/03/A3_200g_jirinka-plakat-v3_ZNACKY-scaled.jpg
END:VEVENT
BEGIN:VEVENT
DTSTART;TZID=Europe/Prague:20260410T193000
DTEND;TZID=Europe/Prague:20260410T210000
DTSTAMP:20260421T202730
CREATED:20260320T210703Z
LAST-MODIFIED:20260320T211019Z
UID:10006611-1775849400-1775854800@kpsmichov.cz
SUMMARY:Hudba v souvislostech
DESCRIPTION:První koncert cyklu 2026 bude věnován pražsko-ostravské hudební kolaboraci. Koncert\, jehož program zazněl v totožné podobě loni na podzim v Ostravě v rámci festivalu Hudební souČASnost\, představí tři pražské a čtyři ostravské skladatele. Skladbu Pavla Nesita premiéroval soubor právě loni v Ostravě a další kompozice jsou částečně repertoárové skladby Ensemblu Coccinelle\, případně byly nastudovány pro tento výměnný projekt.\n\n.\nPROGRAM\nJaroslav Rybář: KyrieJan Málek: Cantica DavidisJan Rybář: 6 příběhů pro 5 ženských hlasů a 2 nástrojeMarkéta Dvořáková: MinimšeMarkéta Kapustová: Lux AeternaPavel Nesit: Pár vět ze SyrakusPetra Šuško: Hudba vzorné domácnosti\n.\núčinkují:Ensemble CoccinelleAnna Nekvasilová – violoncelloJaroslav Škuta – klarinetJan Rybář – dirigent\n.\nVstupné: 150–250 Kč
URL:https://kpsmichov.cz/program/hudba-v-souvislostech/
LOCATION:Chrám\, Komunitní prostor Smíchov Na Doubkové 8\, Praha 5\, kraj hlavní město praha\, 150 00\, Česká republika
CATEGORIES:Kultura v prostoru
ATTACH;FMTTYPE=image/jpeg:https://kpsmichov.cz/wp-content/uploads/2026/03/637361828_122241126146102417_910122043961681534_n-scaled.jpg
END:VEVENT
BEGIN:VEVENT
DTSTART;TZID=Europe/Prague:20260417T190000
DTEND;TZID=Europe/Prague:20260417T213000
DTSTAMP:20260421T202730
CREATED:20260320T205415Z
LAST-MODIFIED:20260320T211421Z
UID:10006610-1776452400-1776461400@kpsmichov.cz
SUMMARY:VoCoDe – ONE SHOW ONLY
DESCRIPTION:Umělecké uskupení NEKLIDNÍ se opět hlásí o slovo. Po dvou letech se opět vynořují z hlubin peřin\, aby ve svojí naprosto bezkonkurenční hudebně performační show předvedli\, co za tu dobu upekli. Po velkém úspěchu prvního alba se nyní můžete těšit na představení nového alba s názvem VOCODE společně s hostujícími performery/hudebníky\, již pomáhali tomuto albu vzniknout\, a to vše během jednoho nesmazatelného večera. Co očekávat? Očekávejte neočekávatelné\, nedělejte si žádné iluze\, nasaďte si rukávky\, připravte airbagy a doražte.\n\nNeklidní přicházejí.\n\nSupport: 40 hluchých dětí – experimental music zo Slovenska\n\n\nVstupné dobrovolné.
URL:https://kpsmichov.cz/program/vocode/
LOCATION:Chrám\, Komunitní prostor Smíchov Na Doubkové 8\, Praha 5\, kraj hlavní město praha\, 150 00\, Česká republika
CATEGORIES:Kultura v prostoru
ATTACH;FMTTYPE=image/jpeg:https://kpsmichov.cz/wp-content/uploads/2026/03/655915318_4262576570724836_1655925184221227407_n.jpg
END:VEVENT
BEGIN:VEVENT
DTSTART;TZID=Europe/Prague:20260419T190000
DTEND;TZID=Europe/Prague:20260419T200000
DTSTAMP:20260421T202730
CREATED:20260410T123641Z
LAST-MODIFIED:20260410T123657Z
UID:10006614-1776625200-1776628800@kpsmichov.cz
SUMMARY:Temere u Evangelíků
DESCRIPTION:Na programu máme dva kusy pro smyčce\, které se na koncertech zas tak moc nehrají. Na programu je A. Hughes a A. Litvinovsky\, účinkují Temere Musicantes\, dirigent Janek Makarius.\n.\nArwel Hughes byl waleský skladatel\, který strávil kariéru tím\, že prosazoval hudbu ostatních a vlastní tvorbu trochu zanedbával. Jeho Fantasia in A minor z roku 1936 je tichý důkaz\, že to byla možná škoda (posoudíte sami\, naše názory na tuto otázku se v průběhu nácviku neustále mění )\nAlexander Litvinovsky napsal smyčcovou suitu Pelléas et Mélisande v roce 2021. Vychází ze symbolistického dramatu o zakázané lásce\, které inspirovalo Debussyho\, Fauréa i Sibelia. Litvinovsky uchopil „adaptaci“ po svém. Příběh rozdělil do 12 obrazů a my (ikdyž jsme na našem soustředění absolvovali přednášku o tomto díle\, kterou zpracovala naše violová sekce) nedokážeme přesně určit\, které části příběhu se které části suity snaží zpracovat. Ale muzika je to pěkná\, to zas jo!\n.\nDiriguje Janek Makarius\nVstup za co dáš (platíme nájem\, takže aspoň drobásky oceníme )
URL:https://kpsmichov.cz/program/temere-u-evangeliku/
LOCATION:Chrám\, Komunitní prostor Smíchov Na Doubkové 8\, Praha 5\, kraj hlavní město praha\, 150 00\, Česká republika
CATEGORIES:Kultura v prostoru
ATTACH;FMTTYPE=image/jpeg:https://kpsmichov.cz/wp-content/uploads/2026/04/Plakat-na-sirku.jpg
END:VEVENT
BEGIN:VEVENT
DTSTART;TZID=Europe/Prague:20260423T193000
DTEND;TZID=Europe/Prague:20260423T210000
DTSTAMP:20260421T202730
CREATED:20260319T112819Z
LAST-MODIFIED:20260319T113119Z
UID:10006599-1776972600-1776978000@kpsmichov.cz
SUMMARY:Koncert InVoice No.3
DESCRIPTION:InVoice je pražský komorní smíšený pěvecký sbor vedený Michalem Hodanem\, nadšeným hudebníkem a multiinstrumentalistou. V současném složení funguje sbor od ledna 2024. Největším úspěchem sboru bylo ocenění Zlaté pásmo na soutěži Musica Orbis Gloria 2025.\nNa dubnovém koncertu zazní a cappella melodie různých žánrů\, včetně známých popularnich písní ve sborovém hávu.\n\nTěšit se můžete také na zajímavého hosta koncertu\, mužskou vokální skupinu 10men.\n\nVstup od 19:00. Vstupné dobrovolné (k zakoupení na místě).
URL:https://kpsmichov.cz/program/invoice-no-3/
LOCATION:Chrám\, Komunitní prostor Smíchov Na Doubkové 8\, Praha 5\, kraj hlavní město praha\, 150 00\, Česká republika
CATEGORIES:Kultura v prostoru
ATTACH;FMTTYPE=image/png:https://kpsmichov.cz/wp-content/uploads/2026/03/Pozvanka_23.4.26_Smichov.png
END:VEVENT
BEGIN:VEVENT
DTSTART;TZID=Europe/Prague:20260430T170000
DTEND;TZID=Europe/Prague:20260430T230000
DTSTAMP:20260421T202730
CREATED:20260313T221508Z
LAST-MODIFIED:20260313T221508Z
UID:10006588-1777568400-1777590000@kpsmichov.cz
SUMMARY:Dubnová sousedská
DESCRIPTION:Připravte se na dubnovou sousedskou! Bližší informace zveřejníme týden před akcí. 🙂 \nBude polévka!Bude potravinovka!Bude hudba!Bude zábava! \n\n\n vstupné dobrovolné\n\n\n\n\n\n\n\nTěšíme se na vás!
URL:https://kpsmichov.cz/program/dubnova-sousedska-2/
LOCATION:Kavárna\, Komunitní prostor Smíchov Na Doubkové 8\, Praha 5\, kraj hlavní město praha\, 150 00\, Česká republika
CATEGORIES:Sousedská setkání
END:VEVENT
BEGIN:VEVENT
DTSTART;TZID=Europe/Prague:20260514T200000
DTEND;TZID=Europe/Prague:20260514T215000
DTSTAMP:20260421T202730
CREATED:20260312T230024Z
LAST-MODIFIED:20260313T093416Z
UID:10006553-1778788800-1778795400@kpsmichov.cz
SUMMARY:Michal Nikodem: Vyprovokuj (se) tancem!
DESCRIPTION:Seberozvojový umělecký večer vztahologa Michala Nikodema s prvky terapie a tance \nVSTUPENKY ZDE\n(Kapacita je omezena.) \n~PŘEDSTAVENÍ\, KTERÉ NENÍ PŘEDSTAVENÍM\, ALE SVĚTEM PŘEDSTAV~ \n17. setkání\, které je příležitostí k vyprovokování vlastních zdrojů\, k vyprovokování větší citlivosti\, díky které jsme vnímavější\, otevřenější a autentičtější. Je jedno\, zda chceme zlepšit prostředí\, kterým se obklopujeme\, nebo lépe porozumět umění\, zda chceme sofistikovaněji rozvíjet svou kariéru nebo se sami pustit do tvůrčí činnosti. Impuls\, který stojí na začátku každého našeho přání\, přechází k potřebě udělat nové kroky. Ovšem naše přání se neplní jen tak! Vše nové je vystaveno vnitřním pochybnostem a tvrdým zkouškám. Naše vlastní zdroje jsou hluboko zakopaným pokladem\, ale jedině ty nám pomáhají ony zkoušky zvládnout. \nUmění samo o sobě umí nastartovat ozdravné procesy\, které máme všichni v sobě k dispozici.\nPřijďte se setkat. Přijďte se inspirovat. Přijďte objevit svůj poklad! \nCo vás čeká:\n• Prostor k zastavení\, zpřítomnění a zcitlivění\n• Taneční představení – impulz pro vnitřní pohyb\n• Inspirativní atmosféra podpořená zkušeným průvodcem \n__________________________________________________________ \nAutor a průvodce večera: Michal Nikodem\nTvůrčí spolupráce: Tereza Krčálová\nHudba: Václav Chalupský\nChoreografie: Jitka Sara Páníková\, Yuri Korec\nInterpretace: Jitka Sara Páníková\, Daniel Raček\nUmělecká supervize\, produkce: Honza Malík & 2VA z. s. \nKoproducent: Komunitní prostor Smíchov – chrám \nZa podpory: MČ Praha 5\, MK ČR\, BaladaSITE \nPoděkování: Jakub Šandera\, Donio.cz\, Vojtěch Brtnický\, Helena a Jakub Urbanovi (Studio TEP39)\, Berrak Yedek (Limpid Works Studio)\, Jana Dolejšová\, Štěpán Zahálka\, Anna Línová\, Jana Baladová \nZ tisku:\n„…umění pomáhá řešit problémy. Ať už myslíte na štěnice\, nebo na současnou dramatickou situaci ve světě a vlastní postavení vůči ní. Toto představení problém sice nevyřešilo\, ale možná nás povzbudilo k tomu\, abychom se jím zabývali hlouběji. (…) Jednu věc večer přinesl: Lidé si po představení mezi sebou dokázali snadno a nenuceně popovídat. Ve vzduchu však zůstává viset otázka: Bylo to umění nebo terapie\, nebo od obojího trochu?“ Peter Kees\, Münchner Merkur/ Ebersberger Zeitung\, 17. 11. 2023 (článek „Umění jako druh terapie – Vzrušující experiment s pohybem v divadle Meta-Theater“) \nTrailer: https://youtu.be/NsstnrYdQU0
URL:https://kpsmichov.cz/program/michal-nikodem-vyprovokuj-se-tancem-2/
LOCATION:Chrám\, Komunitní prostor Smíchov Na Doubkové 8\, Praha 5\, kraj hlavní město praha\, 150 00\, Česká republika
CATEGORIES:Pohybová cvičení
ATTACH;FMTTYPE=image/jpeg:https://kpsmichov.cz/wp-content/uploads/2026/03/VYPROVOKUJ-SE-TANCEM_0126_FB_1200x628.jpg
END:VEVENT
BEGIN:VEVENT
DTSTART;TZID=Europe/Prague:20260521T203000
DTEND;TZID=Europe/Prague:20260521T223000
DTSTAMP:20260421T202730
CREATED:20260417T235656Z
LAST-MODIFIED:20260417T235656Z
UID:10006615-1779395400-1779402600@kpsmichov.cz
SUMMARY:Představení AMEN / Mystérium o posvátném
DESCRIPTION:Když se zastavíš a podíváš se\, vždy ho uvidíš. Ale když se ho pokusíš dotknout\, nikdy ho neucítíš. I když jdeš k němu\, zůstává od tebe ve stejné vzdálenosti. Co je to? \nVladimir Benderski a [S]NOVÉ DIVADLO srdečně zve na imerzivní site-specific divadelní happening. \nAMEN / Mystérium o posvátném je o tom\, co je pro lidi posvátné. O tom\, co je posvátné pro lidi všeobecně\, a také konkrétně\, co je posvátné pro každého osobně. \nTéma posvátného je důležité a zároveň kontroverzní\, jelikož hluboce zasahuje do toho\, co je posvátné v každém člověku. \nJsme přesvědčeni\, že každý jedinec má něco\, co je pro něj posvátné\, nedotknutelné\, nezměrné. Pro někoho je to jeho víra\, náboženství\, pro někoho láska nebo rodina\, dítě\, zvířata\, příroda\, blízký člověk nebo třeba jeho pes. \nPosvátno je spojeno s poutí a diváci se spolu s herci a tanečníky vydají na magickou pouť spojující pohyb butó\, tanec\, happening/performance\, živou hudbu a slovo. Diváci by se měli volně pohybovat v prostoru\, nebo i přecházet během představení do jiných prostor\, vedeni skupinou herců. \n\nZveme Vás na nevšední zážitek a na společnou diskuzi po představení. \n\nTvůrčí tým:Předloha: Vladimir Benderski\, Samuel Beckett\, Džaláleddín Balchí RúmíRežie: Vladimir BenderskiDramaturgie: Vladimir Benderski\, Jakub KrajícChoreografie: Markéta Fagan\, Vladimir BenderskiKostýmy: Martina StieglerováHrají: Pavla Procházková\, Lucie Zachovalová\, Kateřina Eva Lanči/Veronika Ježová\, Jaroslava Klučinova/Sára Koblihová\, Jaroslav Šimek\, Petr Hudeček/Vladimir BenderskiHudba: Jaroslav Šimek\, Pavla ProcházkováGrafika: Jakub Krajíc\, Vladimir Benderski\n.\nVstupenky: GoOut\nFB událost
URL:https://kpsmichov.cz/program/predstaveni-amen-mysterium-o-posvatnem/
LOCATION:Chrám\, Komunitní prostor Smíchov Na Doubkové 8\, Praha 5\, kraj hlavní město praha\, 150 00\, Česká republika
CATEGORIES:Duchovní záležitosti,Kultura v prostoru
ATTACH;FMTTYPE=image/jpeg:https://kpsmichov.cz/wp-content/uploads/2026/04/Amen_Smichov.jpg
END:VEVENT
BEGIN:VEVENT
DTSTART;TZID=Europe/Prague:20260528T170000
DTEND;TZID=Europe/Prague:20260528T230000
DTSTAMP:20260421T202730
CREATED:20260313T221653Z
LAST-MODIFIED:20260313T221653Z
UID:10006589-1779987600-1780009200@kpsmichov.cz
SUMMARY:Květnová sousedská
DESCRIPTION:Připravte se na květnovou sousedskou! Bližší informace zveřejníme týden před akcí. 🙂 \nBude polévka!Bude potravinovka!Bude hudba!Bude zábava! \n\n\n vstupné dobrovolné\n\n\n\n\n\n\n\nTěšíme se na vás!
URL:https://kpsmichov.cz/program/kvetnova-sousedska-2/
LOCATION:Kavárna\, Komunitní prostor Smíchov Na Doubkové 8\, Praha 5\, kraj hlavní město praha\, 150 00\, Česká republika
CATEGORIES:Sousedská setkání
END:VEVENT
BEGIN:VEVENT
DTSTART;TZID=Europe/Prague:20260625T170000
DTEND;TZID=Europe/Prague:20260625T230000
DTSTAMP:20260421T202730
CREATED:20260313T221801Z
LAST-MODIFIED:20260313T221801Z
UID:10006590-1782406800-1782428400@kpsmichov.cz
SUMMARY:Červnová sousedská
DESCRIPTION:Připravte se na červnovou sousedskou! Bližší informace zveřejníme týden před akcí. 🙂 \nBude polévka!Bude potravinovka!Bude hudba!Bude zábava! \n\n\n vstupné dobrovolné\n\n\n\n\n\n\n\nTěšíme se na vás!
URL:https://kpsmichov.cz/program/cervnova-sousedska-2/
LOCATION:Kavárna\, Komunitní prostor Smíchov Na Doubkové 8\, Praha 5\, kraj hlavní město praha\, 150 00\, Česká republika
CATEGORIES:Sousedská setkání
END:VEVENT
END:VCALENDAR