BEGIN:VCALENDAR
VERSION:2.0
PRODID:-//Komunitní prostor Smíchov - ECPv6.15.20//NONSGML v1.0//EN
CALSCALE:GREGORIAN
METHOD:PUBLISH
X-ORIGINAL-URL:https://kpsmichov.cz
X-WR-CALDESC:Akce na Komunitní prostor Smíchov
REFRESH-INTERVAL;VALUE=DURATION:PT1H
X-Robots-Tag:noindex
X-PUBLISHED-TTL:PT1H
BEGIN:VTIMEZONE
TZID:Europe/Prague
BEGIN:DAYLIGHT
TZOFFSETFROM:+0100
TZOFFSETTO:+0200
TZNAME:CEST
DTSTART:20250330T010000
END:DAYLIGHT
BEGIN:STANDARD
TZOFFSETFROM:+0200
TZOFFSETTO:+0100
TZNAME:CET
DTSTART:20251026T010000
END:STANDARD
BEGIN:DAYLIGHT
TZOFFSETFROM:+0100
TZOFFSETTO:+0200
TZNAME:CEST
DTSTART:20260329T010000
END:DAYLIGHT
BEGIN:STANDARD
TZOFFSETFROM:+0200
TZOFFSETTO:+0100
TZNAME:CET
DTSTART:20261025T010000
END:STANDARD
BEGIN:DAYLIGHT
TZOFFSETFROM:+0100
TZOFFSETTO:+0200
TZNAME:CEST
DTSTART:20270328T010000
END:DAYLIGHT
BEGIN:STANDARD
TZOFFSETFROM:+0200
TZOFFSETTO:+0100
TZNAME:CET
DTSTART:20271031T010000
END:STANDARD
END:VTIMEZONE
BEGIN:VEVENT
DTSTART;TZID=Europe/Prague:20260422T193000
DTEND;TZID=Europe/Prague:20260422T220000
DTSTAMP:20260420T105211
CREATED:20251001T112342Z
LAST-MODIFIED:20260320T225809Z
UID:10006557-1776886200-1776895200@kpsmichov.cz
SUMMARY:Tančírna forró CZ/ENG
DESCRIPTION:Brazilský tanec forró se zkušeným a hravým lektorem pro všechny\, kdo se chtějí hýbat – nezávisle na předchozí zkušenosti / s partnerem i bez / (16+) / CZ/ENG / vede Eder Cardoso Santana\n\nTermín forró označuje hudební žánr\, rytmus\, tanec a také samotnou událost\, na které se hraje a tančí hudba forró. Hudební styl forró je silně spojený s kulturou a každodenním životem severovýchodního regionu Brazílie.\n\nVstupné dobrovolné v podobě daru (0–250 Kč).\n\n\nkaždou středu 19:30–22:00 \n\n\notevřená tančírna s možným seznámením základního kroku pro nováčky \nAktivita je finančně podpořena MČ Praha 5.
URL:https://kpsmichov.cz/program/tancirna-forro-cz-eng/2026-04-22/
LOCATION:Chrám\, Komunitní prostor Smíchov Na Doubkové 8\, Praha 5\, kraj hlavní město praha\, 150 00\, Česká republika
CATEGORIES:Taneční aktivity
ATTACH;FMTTYPE=image/png:https://kpsmichov.cz/wp-content/uploads/2024/03/Navrhova-plocha-1.png
END:VEVENT
BEGIN:VEVENT
DTSTART;TZID=Europe/Prague:20260429T193000
DTEND;TZID=Europe/Prague:20260429T220000
DTSTAMP:20260420T105211
CREATED:20251001T112342Z
LAST-MODIFIED:20260320T225809Z
UID:10006558-1777491000-1777500000@kpsmichov.cz
SUMMARY:Tančírna forró CZ/ENG
DESCRIPTION:Brazilský tanec forró se zkušeným a hravým lektorem pro všechny\, kdo se chtějí hýbat – nezávisle na předchozí zkušenosti / s partnerem i bez / (16+) / CZ/ENG / vede Eder Cardoso Santana\n\nTermín forró označuje hudební žánr\, rytmus\, tanec a také samotnou událost\, na které se hraje a tančí hudba forró. Hudební styl forró je silně spojený s kulturou a každodenním životem severovýchodního regionu Brazílie.\n\nVstupné dobrovolné v podobě daru (0–250 Kč).\n\n\nkaždou středu 19:30–22:00 \n\n\notevřená tančírna s možným seznámením základního kroku pro nováčky \nAktivita je finančně podpořena MČ Praha 5.
URL:https://kpsmichov.cz/program/tancirna-forro-cz-eng/2026-04-29/
LOCATION:Chrám\, Komunitní prostor Smíchov Na Doubkové 8\, Praha 5\, kraj hlavní město praha\, 150 00\, Česká republika
CATEGORIES:Taneční aktivity
ATTACH;FMTTYPE=image/png:https://kpsmichov.cz/wp-content/uploads/2024/03/Navrhova-plocha-1.png
END:VEVENT
BEGIN:VEVENT
DTSTART;TZID=Europe/Prague:20260506T193000
DTEND;TZID=Europe/Prague:20260506T220000
DTSTAMP:20260420T105211
CREATED:20251001T112342Z
LAST-MODIFIED:20260320T225809Z
UID:10006559-1778095800-1778104800@kpsmichov.cz
SUMMARY:Tančírna forró CZ/ENG
DESCRIPTION:Brazilský tanec forró se zkušeným a hravým lektorem pro všechny\, kdo se chtějí hýbat – nezávisle na předchozí zkušenosti / s partnerem i bez / (16+) / CZ/ENG / vede Eder Cardoso Santana\n\nTermín forró označuje hudební žánr\, rytmus\, tanec a také samotnou událost\, na které se hraje a tančí hudba forró. Hudební styl forró je silně spojený s kulturou a každodenním životem severovýchodního regionu Brazílie.\n\nVstupné dobrovolné v podobě daru (0–250 Kč).\n\n\nkaždou středu 19:30–22:00 \n\n\notevřená tančírna s možným seznámením základního kroku pro nováčky \nAktivita je finančně podpořena MČ Praha 5.
URL:https://kpsmichov.cz/program/tancirna-forro-cz-eng/2026-05-06/
LOCATION:Chrám\, Komunitní prostor Smíchov Na Doubkové 8\, Praha 5\, kraj hlavní město praha\, 150 00\, Česká republika
CATEGORIES:Taneční aktivity
ATTACH;FMTTYPE=image/png:https://kpsmichov.cz/wp-content/uploads/2024/03/Navrhova-plocha-1.png
END:VEVENT
BEGIN:VEVENT
DTSTART;TZID=Europe/Prague:20260513T193000
DTEND;TZID=Europe/Prague:20260513T220000
DTSTAMP:20260420T105211
CREATED:20251001T112342Z
LAST-MODIFIED:20260320T225809Z
UID:10006560-1778700600-1778709600@kpsmichov.cz
SUMMARY:Tančírna forró CZ/ENG
DESCRIPTION:Brazilský tanec forró se zkušeným a hravým lektorem pro všechny\, kdo se chtějí hýbat – nezávisle na předchozí zkušenosti / s partnerem i bez / (16+) / CZ/ENG / vede Eder Cardoso Santana\n\nTermín forró označuje hudební žánr\, rytmus\, tanec a také samotnou událost\, na které se hraje a tančí hudba forró. Hudební styl forró je silně spojený s kulturou a každodenním životem severovýchodního regionu Brazílie.\n\nVstupné dobrovolné v podobě daru (0–250 Kč).\n\n\nkaždou středu 19:30–22:00 \n\n\notevřená tančírna s možným seznámením základního kroku pro nováčky \nAktivita je finančně podpořena MČ Praha 5.
URL:https://kpsmichov.cz/program/tancirna-forro-cz-eng/2026-05-13/
LOCATION:Chrám\, Komunitní prostor Smíchov Na Doubkové 8\, Praha 5\, kraj hlavní město praha\, 150 00\, Česká republika
CATEGORIES:Taneční aktivity
ATTACH;FMTTYPE=image/png:https://kpsmichov.cz/wp-content/uploads/2024/03/Navrhova-plocha-1.png
END:VEVENT
BEGIN:VEVENT
DTSTART;TZID=Europe/Prague:20260520T193000
DTEND;TZID=Europe/Prague:20260520T220000
DTSTAMP:20260420T105211
CREATED:20251001T112342Z
LAST-MODIFIED:20260320T225809Z
UID:10006561-1779305400-1779314400@kpsmichov.cz
SUMMARY:Tančírna forró CZ/ENG
DESCRIPTION:Brazilský tanec forró se zkušeným a hravým lektorem pro všechny\, kdo se chtějí hýbat – nezávisle na předchozí zkušenosti / s partnerem i bez / (16+) / CZ/ENG / vede Eder Cardoso Santana\n\nTermín forró označuje hudební žánr\, rytmus\, tanec a také samotnou událost\, na které se hraje a tančí hudba forró. Hudební styl forró je silně spojený s kulturou a každodenním životem severovýchodního regionu Brazílie.\n\nVstupné dobrovolné v podobě daru (0–250 Kč).\n\n\nkaždou středu 19:30–22:00 \n\n\notevřená tančírna s možným seznámením základního kroku pro nováčky \nAktivita je finančně podpořena MČ Praha 5.
URL:https://kpsmichov.cz/program/tancirna-forro-cz-eng/2026-05-20/
LOCATION:Chrám\, Komunitní prostor Smíchov Na Doubkové 8\, Praha 5\, kraj hlavní město praha\, 150 00\, Česká republika
CATEGORIES:Taneční aktivity
ATTACH;FMTTYPE=image/png:https://kpsmichov.cz/wp-content/uploads/2024/03/Navrhova-plocha-1.png
END:VEVENT
BEGIN:VEVENT
DTSTART;TZID=Europe/Prague:20260527T193000
DTEND;TZID=Europe/Prague:20260527T220000
DTSTAMP:20260420T105211
CREATED:20251001T112342Z
LAST-MODIFIED:20260320T225809Z
UID:10006562-1779910200-1779919200@kpsmichov.cz
SUMMARY:Tančírna forró CZ/ENG
DESCRIPTION:Brazilský tanec forró se zkušeným a hravým lektorem pro všechny\, kdo se chtějí hýbat – nezávisle na předchozí zkušenosti / s partnerem i bez / (16+) / CZ/ENG / vede Eder Cardoso Santana\n\nTermín forró označuje hudební žánr\, rytmus\, tanec a také samotnou událost\, na které se hraje a tančí hudba forró. Hudební styl forró je silně spojený s kulturou a každodenním životem severovýchodního regionu Brazílie.\n\nVstupné dobrovolné v podobě daru (0–250 Kč).\n\n\nkaždou středu 19:30–22:00 \n\n\notevřená tančírna s možným seznámením základního kroku pro nováčky \nAktivita je finančně podpořena MČ Praha 5.
URL:https://kpsmichov.cz/program/tancirna-forro-cz-eng/2026-05-27/
LOCATION:Chrám\, Komunitní prostor Smíchov Na Doubkové 8\, Praha 5\, kraj hlavní město praha\, 150 00\, Česká republika
CATEGORIES:Taneční aktivity
ATTACH;FMTTYPE=image/png:https://kpsmichov.cz/wp-content/uploads/2024/03/Navrhova-plocha-1.png
END:VEVENT
BEGIN:VEVENT
DTSTART;TZID=Europe/Prague:20260603T193000
DTEND;TZID=Europe/Prague:20260603T220000
DTSTAMP:20260420T105211
CREATED:20251001T112342Z
LAST-MODIFIED:20260320T225809Z
UID:10006563-1780515000-1780524000@kpsmichov.cz
SUMMARY:Tančírna forró CZ/ENG
DESCRIPTION:Brazilský tanec forró se zkušeným a hravým lektorem pro všechny\, kdo se chtějí hýbat – nezávisle na předchozí zkušenosti / s partnerem i bez / (16+) / CZ/ENG / vede Eder Cardoso Santana\n\nTermín forró označuje hudební žánr\, rytmus\, tanec a také samotnou událost\, na které se hraje a tančí hudba forró. Hudební styl forró je silně spojený s kulturou a každodenním životem severovýchodního regionu Brazílie.\n\nVstupné dobrovolné v podobě daru (0–250 Kč).\n\n\nkaždou středu 19:30–22:00 \n\n\notevřená tančírna s možným seznámením základního kroku pro nováčky \nAktivita je finančně podpořena MČ Praha 5.
URL:https://kpsmichov.cz/program/tancirna-forro-cz-eng/2026-06-03/
LOCATION:Chrám\, Komunitní prostor Smíchov Na Doubkové 8\, Praha 5\, kraj hlavní město praha\, 150 00\, Česká republika
CATEGORIES:Taneční aktivity
ATTACH;FMTTYPE=image/png:https://kpsmichov.cz/wp-content/uploads/2024/03/Navrhova-plocha-1.png
END:VEVENT
BEGIN:VEVENT
DTSTART;TZID=Europe/Prague:20260610T193000
DTEND;TZID=Europe/Prague:20260610T220000
DTSTAMP:20260420T105211
CREATED:20251001T112342Z
LAST-MODIFIED:20260320T225809Z
UID:10006564-1781119800-1781128800@kpsmichov.cz
SUMMARY:Tančírna forró CZ/ENG
DESCRIPTION:Brazilský tanec forró se zkušeným a hravým lektorem pro všechny\, kdo se chtějí hýbat – nezávisle na předchozí zkušenosti / s partnerem i bez / (16+) / CZ/ENG / vede Eder Cardoso Santana\n\nTermín forró označuje hudební žánr\, rytmus\, tanec a také samotnou událost\, na které se hraje a tančí hudba forró. Hudební styl forró je silně spojený s kulturou a každodenním životem severovýchodního regionu Brazílie.\n\nVstupné dobrovolné v podobě daru (0–250 Kč).\n\n\nkaždou středu 19:30–22:00 \n\n\notevřená tančírna s možným seznámením základního kroku pro nováčky \nAktivita je finančně podpořena MČ Praha 5.
URL:https://kpsmichov.cz/program/tancirna-forro-cz-eng/2026-06-10/
LOCATION:Chrám\, Komunitní prostor Smíchov Na Doubkové 8\, Praha 5\, kraj hlavní město praha\, 150 00\, Česká republika
CATEGORIES:Taneční aktivity
ATTACH;FMTTYPE=image/png:https://kpsmichov.cz/wp-content/uploads/2024/03/Navrhova-plocha-1.png
END:VEVENT
BEGIN:VEVENT
DTSTART;TZID=Europe/Prague:20260617T193000
DTEND;TZID=Europe/Prague:20260617T220000
DTSTAMP:20260420T105211
CREATED:20251001T112342Z
LAST-MODIFIED:20260320T225809Z
UID:10006565-1781724600-1781733600@kpsmichov.cz
SUMMARY:Tančírna forró CZ/ENG
DESCRIPTION:Brazilský tanec forró se zkušeným a hravým lektorem pro všechny\, kdo se chtějí hýbat – nezávisle na předchozí zkušenosti / s partnerem i bez / (16+) / CZ/ENG / vede Eder Cardoso Santana\n\nTermín forró označuje hudební žánr\, rytmus\, tanec a také samotnou událost\, na které se hraje a tančí hudba forró. Hudební styl forró je silně spojený s kulturou a každodenním životem severovýchodního regionu Brazílie.\n\nVstupné dobrovolné v podobě daru (0–250 Kč).\n\n\nkaždou středu 19:30–22:00 \n\n\notevřená tančírna s možným seznámením základního kroku pro nováčky \nAktivita je finančně podpořena MČ Praha 5.
URL:https://kpsmichov.cz/program/tancirna-forro-cz-eng/2026-06-17/
LOCATION:Chrám\, Komunitní prostor Smíchov Na Doubkové 8\, Praha 5\, kraj hlavní město praha\, 150 00\, Česká republika
CATEGORIES:Taneční aktivity
ATTACH;FMTTYPE=image/png:https://kpsmichov.cz/wp-content/uploads/2024/03/Navrhova-plocha-1.png
END:VEVENT
BEGIN:VEVENT
DTSTART;TZID=Europe/Prague:20260624T193000
DTEND;TZID=Europe/Prague:20260624T220000
DTSTAMP:20260420T105211
CREATED:20251001T112342Z
LAST-MODIFIED:20260320T225809Z
UID:10006566-1782329400-1782338400@kpsmichov.cz
SUMMARY:Tančírna forró CZ/ENG
DESCRIPTION:Brazilský tanec forró se zkušeným a hravým lektorem pro všechny\, kdo se chtějí hýbat – nezávisle na předchozí zkušenosti / s partnerem i bez / (16+) / CZ/ENG / vede Eder Cardoso Santana\n\nTermín forró označuje hudební žánr\, rytmus\, tanec a také samotnou událost\, na které se hraje a tančí hudba forró. Hudební styl forró je silně spojený s kulturou a každodenním životem severovýchodního regionu Brazílie.\n\nVstupné dobrovolné v podobě daru (0–250 Kč).\n\n\nkaždou středu 19:30–22:00 \n\n\notevřená tančírna s možným seznámením základního kroku pro nováčky \nAktivita je finančně podpořena MČ Praha 5.
URL:https://kpsmichov.cz/program/tancirna-forro-cz-eng/2026-06-24/
LOCATION:Chrám\, Komunitní prostor Smíchov Na Doubkové 8\, Praha 5\, kraj hlavní město praha\, 150 00\, Česká republika
CATEGORIES:Taneční aktivity
ATTACH;FMTTYPE=image/png:https://kpsmichov.cz/wp-content/uploads/2024/03/Navrhova-plocha-1.png
END:VEVENT
END:VCALENDAR