BEGIN:VCALENDAR
VERSION:2.0
PRODID:-//Komunitní prostor Smíchov - ECPv6.15.20//NONSGML v1.0//EN
CALSCALE:GREGORIAN
METHOD:PUBLISH
X-WR-CALNAME:Komunitní prostor Smíchov
X-ORIGINAL-URL:https://kpsmichov.cz
X-WR-CALDESC:Akce na Komunitní prostor Smíchov
REFRESH-INTERVAL;VALUE=DURATION:PT1H
X-Robots-Tag:noindex
X-PUBLISHED-TTL:PT1H
BEGIN:VTIMEZONE
TZID:Europe/Prague
BEGIN:DAYLIGHT
TZOFFSETFROM:+0100
TZOFFSETTO:+0200
TZNAME:CEST
DTSTART:20240331T010000
END:DAYLIGHT
BEGIN:STANDARD
TZOFFSETFROM:+0200
TZOFFSETTO:+0100
TZNAME:CET
DTSTART:20241027T010000
END:STANDARD
BEGIN:DAYLIGHT
TZOFFSETFROM:+0100
TZOFFSETTO:+0200
TZNAME:CEST
DTSTART:20250330T010000
END:DAYLIGHT
BEGIN:STANDARD
TZOFFSETFROM:+0200
TZOFFSETTO:+0100
TZNAME:CET
DTSTART:20251026T010000
END:STANDARD
BEGIN:DAYLIGHT
TZOFFSETFROM:+0100
TZOFFSETTO:+0200
TZNAME:CEST
DTSTART:20260329T010000
END:DAYLIGHT
BEGIN:STANDARD
TZOFFSETFROM:+0200
TZOFFSETTO:+0100
TZNAME:CET
DTSTART:20261025T010000
END:STANDARD
END:VTIMEZONE
BEGIN:VEVENT
DTSTART;TZID=Europe/Prague:20251204T163000
DTEND;TZID=Europe/Prague:20251204T210000
DTSTAMP:20260420T105652
CREATED:20251120T224401Z
LAST-MODIFIED:20251120T224401Z
UID:9120-1764865800-1764882000@kpsmichov.cz
SUMMARY:ŠTĚDRÝ SVAŘÁK 2025 – tradiční benefiční akce centra RUBIKON
DESCRIPTION:Akce je určená lidem\, kteří chtějí být štědří\, podporují naši práci a věří v otevřenou společnost bez předsudků. Výtěžek pomůže našim klientům*kám s trestní minulostí – především v prvních dnech po propuštění nebo při nástupu do zaměstnání. Poznejte lidi z RUBIKON Centra\, naše spolupracující organizace\, partnery\, zaměstnavatele\, nové přátele i blízké. \nVstupenky pro jednotlivce i firemní týmy lze koupit online na našem eshopu\, nebo přímo na místě. Na doprovodný program je vstup ZDARMA. \n\nInformace též zde:\nhttps://www.rubikoncentrum.cz/beneficni-akce-stedry-svarak/\nFB událost\n Pokud máte zájem o firemní vstupenky jako adventní dárek pro své zaměstnance\, kontaktujte prosím: Hana Kramlová\, mobil +420 730 158 873\, kramlova@rubikoncentrum.cz \nNa co že se můžete těšit v doprovodném programu?\nPromítání unikátního vězeňského muzikálu WEST SIDE STORY ZA MŘÍŽEMI\, který nastudovali odsouzení ve Věznici Příbram pod taktovkou režiséra a choreografa Zdeňka Prokeše a producentky snímku\, vězeňské kaplanky Venduly Glancové \n\nPromítání dokumentu WEST KRIM STORY\, který natočila reportérka Česká televize  a Lea Surovcová\n \nPoutavou fotografickou výstavu emeritního sólisty Baletu Národního divadla Alexandra Katsapova \n\nBesedu s tvůrci a protagonisty\n\nDěti všech věkových kategorií jsou vítány a do 6 let mají na celou akci vstup ZDARMA.\nV době promítání je pro ty nejmenší připraven tematický program\, při kterém potkají opravdického anděla\, napíšou si dopis Ježíškovi a ozdobí si vánoční perníčky. \nPřijďte si užít příjemný večer s bohatým kulturním programem\, provoněný vínem a kořením! \nTěšíme se na setkání!\nRUBIKON Centrum
URL:https://kpsmichov.cz/program/stedry-svarak-2025-tradicni-beneficni-akce-centra-rubikon/
LOCATION:Chrám\, Komunitní prostor Smíchov Na Doubkové 8\, Praha 5\, kraj hlavní město praha\, 150 00\, Česká republika
CATEGORIES:Živé téma
ATTACH;FMTTYPE=image/webp:https://kpsmichov.cz/wp-content/uploads/2025/11/SS_2025_banner_s_QR_fin_WEB-1536x768-1.webp
END:VEVENT
END:VCALENDAR