BEGIN:VCALENDAR
VERSION:2.0
PRODID:-//Komunitní prostor Smíchov - ECPv6.15.20//NONSGML v1.0//EN
CALSCALE:GREGORIAN
METHOD:PUBLISH
X-WR-CALNAME:Komunitní prostor Smíchov
X-ORIGINAL-URL:https://kpsmichov.cz
X-WR-CALDESC:Akce na Komunitní prostor Smíchov
REFRESH-INTERVAL;VALUE=DURATION:PT1H
X-Robots-Tag:noindex
X-PUBLISHED-TTL:PT1H
BEGIN:VTIMEZONE
TZID:Europe/Prague
BEGIN:DAYLIGHT
TZOFFSETFROM:+0100
TZOFFSETTO:+0200
TZNAME:CEST
DTSTART:20230326T010000
END:DAYLIGHT
BEGIN:STANDARD
TZOFFSETFROM:+0200
TZOFFSETTO:+0100
TZNAME:CET
DTSTART:20231029T010000
END:STANDARD
BEGIN:DAYLIGHT
TZOFFSETFROM:+0100
TZOFFSETTO:+0200
TZNAME:CEST
DTSTART:20240331T010000
END:DAYLIGHT
BEGIN:STANDARD
TZOFFSETFROM:+0200
TZOFFSETTO:+0100
TZNAME:CET
DTSTART:20241027T010000
END:STANDARD
BEGIN:DAYLIGHT
TZOFFSETFROM:+0100
TZOFFSETTO:+0200
TZNAME:CEST
DTSTART:20250330T010000
END:DAYLIGHT
BEGIN:STANDARD
TZOFFSETFROM:+0200
TZOFFSETTO:+0100
TZNAME:CET
DTSTART:20251026T010000
END:STANDARD
END:VTIMEZONE
BEGIN:VEVENT
DTSTART;TZID=Europe/Prague:20240927T180000
DTEND;TZID=Europe/Prague:20240927T210000
DTSTAMP:20260423T104239
CREATED:20240904T113101Z
LAST-MODIFIED:20250712T142412Z
UID:7282-1727460000-1727470800@kpsmichov.cz
SUMMARY:SOM FEST aneb 30 let obchůdku Jeden Svět
DESCRIPTION:Festival připravují mladí zástupci Seniorátního odboru mládeže spolu s dalšími zapojenými mladými lidmi. Jedná se o hudební program spojený s oslavou 30. výročí obchůdku Jednoho světa.\nJEDEN SVĚT je nevládní nezisková organizace a pracuje na základě dobrovolnosti. Cílem společnosti je pomáhat chudým a postiženým lidem ve „třetím světě“ i u nás doma tak\, aby si dokázali pomoci sami. Tato pomoc spočívá v prodeji řemeslných výrobků a potravin z rozvojových zemí a realizuje se v Praze v OBCHŮDKU JEDNOHO SVĚTA\, Korunní ulice 1440/60\, Praha 2-Vinohrady. \nVíce zde: https://www.jedensvet.org/o-nas/ \nVíce se dozvíte na: https://www.jedensvet.org/o-nas/ \nFB obchůdku \nIG Seniorátního odboru mládeže
URL:https://kpsmichov.cz/program/som-fest-aneb-30-let-obchudku-jeden-svet/
LOCATION:Chrám\, Komunitní prostor Smíchov Na Doubkové 8\, Praha 5\, kraj hlavní město praha\, 150 00\, Česká republika
CATEGORIES:Živé téma
ATTACH;FMTTYPE=image/jpeg:https://kpsmichov.cz/wp-content/uploads/2024/09/somfest_plakat_final_3-1-scaled.jpg
END:VEVENT
END:VCALENDAR