BEGIN:VCALENDAR
VERSION:2.0
PRODID:-//Komunitní prostor Smíchov - ECPv6.15.20//NONSGML v1.0//EN
CALSCALE:GREGORIAN
METHOD:PUBLISH
X-WR-CALNAME:Komunitní prostor Smíchov
X-ORIGINAL-URL:https://kpsmichov.cz
X-WR-CALDESC:Akce na Komunitní prostor Smíchov
REFRESH-INTERVAL;VALUE=DURATION:PT1H
X-Robots-Tag:noindex
X-PUBLISHED-TTL:PT1H
BEGIN:VTIMEZONE
TZID:Europe/Prague
BEGIN:DAYLIGHT
TZOFFSETFROM:+0100
TZOFFSETTO:+0200
TZNAME:CEST
DTSTART:20210328T010000
END:DAYLIGHT
BEGIN:STANDARD
TZOFFSETFROM:+0200
TZOFFSETTO:+0100
TZNAME:CET
DTSTART:20211031T010000
END:STANDARD
BEGIN:DAYLIGHT
TZOFFSETFROM:+0100
TZOFFSETTO:+0200
TZNAME:CEST
DTSTART:20220327T010000
END:DAYLIGHT
BEGIN:STANDARD
TZOFFSETFROM:+0200
TZOFFSETTO:+0100
TZNAME:CET
DTSTART:20221030T010000
END:STANDARD
BEGIN:DAYLIGHT
TZOFFSETFROM:+0100
TZOFFSETTO:+0200
TZNAME:CEST
DTSTART:20230326T010000
END:DAYLIGHT
BEGIN:STANDARD
TZOFFSETFROM:+0200
TZOFFSETTO:+0100
TZNAME:CET
DTSTART:20231029T010000
END:STANDARD
END:VTIMEZONE
BEGIN:VEVENT
DTSTART;TZID=Europe/Prague:20221115T170000
DTEND;TZID=Europe/Prague:20221115T200000
DTSTAMP:20260421T162951
CREATED:20221104T221122Z
LAST-MODIFIED:20250712T145159Z
UID:2023-1668531600-1668542400@kpsmichov.cz
SUMMARY:Slavnostní uvedení romského Nového zákona a knihy Na každý den s tórou
DESCRIPTION:PROGRAM \nzačátek v 17:00 \ntisková konference \nkulturní vstup \npanelová diskuse na téma Bible dnes \npředstavení knih \nkulturní vstup II. \nprodej knih\, občerstvení\, rozhovory \nSrdečně vás zveme\, vstup je volný\na otevřený široké veřejnosti \n  \nAkci pořádá ČCE v režii Mikuláše Vymětala\, Komunitní prostor Smíchov a Sbor CASD Trinity Hradec Králové
URL:https://kpsmichov.cz/program/slavnostni-uvedeni-romskeho-noveho-zakona-a-knihy-na-kazdy-den-s-torou/
CATEGORIES:Duchovní záležitosti,Kultura v prostoru
ATTACH;FMTTYPE=image/jpeg:https://kpsmichov.cz/wp-content/uploads/2022/11/uvedeni-romskeho-noveho-zakona-scaled.jpg
END:VEVENT
END:VCALENDAR