BEGIN:VCALENDAR
VERSION:2.0
PRODID:-//Komunitní prostor Smíchov - ECPv6.15.20//NONSGML v1.0//EN
CALSCALE:GREGORIAN
METHOD:PUBLISH
X-WR-CALNAME:Komunitní prostor Smíchov
X-ORIGINAL-URL:https://kpsmichov.cz
X-WR-CALDESC:Akce na Komunitní prostor Smíchov
REFRESH-INTERVAL;VALUE=DURATION:PT1H
X-Robots-Tag:noindex
X-PUBLISHED-TTL:PT1H
BEGIN:VTIMEZONE
TZID:Europe/Prague
BEGIN:DAYLIGHT
TZOFFSETFROM:+0100
TZOFFSETTO:+0200
TZNAME:CEST
DTSTART:20250330T010000
END:DAYLIGHT
BEGIN:STANDARD
TZOFFSETFROM:+0200
TZOFFSETTO:+0100
TZNAME:CET
DTSTART:20251026T010000
END:STANDARD
BEGIN:DAYLIGHT
TZOFFSETFROM:+0100
TZOFFSETTO:+0200
TZNAME:CEST
DTSTART:20260329T010000
END:DAYLIGHT
BEGIN:STANDARD
TZOFFSETFROM:+0200
TZOFFSETTO:+0100
TZNAME:CET
DTSTART:20261025T010000
END:STANDARD
BEGIN:DAYLIGHT
TZOFFSETFROM:+0100
TZOFFSETTO:+0200
TZNAME:CEST
DTSTART:20270328T010000
END:DAYLIGHT
BEGIN:STANDARD
TZOFFSETFROM:+0200
TZOFFSETTO:+0100
TZNAME:CET
DTSTART:20271031T010000
END:STANDARD
END:VTIMEZONE
BEGIN:VEVENT
DTSTART;TZID=Europe/Prague:20260421T190000
DTEND;TZID=Europe/Prague:20260421T220000
DTSTAMP:20260421T054155
CREATED:20251001T112629Z
LAST-MODIFIED:20260320T230019Z
UID:10006577-1776798000-1776808800@kpsmichov.cz
SUMMARY:Balfolková tancovačka
DESCRIPTION:Jednoduché a zábavné tance z celé Evropy\, kolové\, řetězové i párové. Nepotřebujete partnera\, speciální obutí ani předchozí taneční zkušenosti.  \nVíce informací na www.balfolk.cz \nVede: Martin Ozzy Chlebek \nDoporučené vstupné: 150 Kč \n  \nAktivita je finančně podpořena MČ Praha 5.
URL:https://kpsmichov.cz/program/balfolkova-tancovacka-2/2026-04-21/
LOCATION:Chrám\, Komunitní prostor Smíchov Na Doubkové 8\, Praha 5\, kraj hlavní město praha\, 150 00\, Česká republika
CATEGORIES:Taneční aktivity
ATTACH;FMTTYPE=image/png:https://kpsmichov.cz/wp-content/uploads/2024/03/balfolk-1.png
ORGANIZER;CN="Martin Ozzy Chlebek":MAILTO:balfolk@balfolk.cz
END:VEVENT
BEGIN:VEVENT
DTSTART;TZID=Europe/Prague:20260422T193000
DTEND;TZID=Europe/Prague:20260422T220000
DTSTAMP:20260421T054155
CREATED:20251001T112342Z
LAST-MODIFIED:20260320T225809Z
UID:10006557-1776886200-1776895200@kpsmichov.cz
SUMMARY:Tančírna forró CZ/ENG
DESCRIPTION:Brazilský tanec forró se zkušeným a hravým lektorem pro všechny\, kdo se chtějí hýbat – nezávisle na předchozí zkušenosti / s partnerem i bez / (16+) / CZ/ENG / vede Eder Cardoso Santana\n\nTermín forró označuje hudební žánr\, rytmus\, tanec a také samotnou událost\, na které se hraje a tančí hudba forró. Hudební styl forró je silně spojený s kulturou a každodenním životem severovýchodního regionu Brazílie.\n\nVstupné dobrovolné v podobě daru (0–250 Kč).\n\n\nkaždou středu 19:30–22:00 \n\n\notevřená tančírna s možným seznámením základního kroku pro nováčky \nAktivita je finančně podpořena MČ Praha 5.
URL:https://kpsmichov.cz/program/tancirna-forro-cz-eng/2026-04-22/
LOCATION:Chrám\, Komunitní prostor Smíchov Na Doubkové 8\, Praha 5\, kraj hlavní město praha\, 150 00\, Česká republika
CATEGORIES:Taneční aktivity
ATTACH;FMTTYPE=image/png:https://kpsmichov.cz/wp-content/uploads/2024/03/Navrhova-plocha-1.png
END:VEVENT
BEGIN:VEVENT
DTSTART;TZID=Europe/Prague:20260424T183000
DTEND;TZID=Europe/Prague:20260424T223000
DTSTAMP:20260421T054155
CREATED:20251028T201703Z
LAST-MODIFIED:20260320T190629Z
UID:10006605-1777055400-1777069800@kpsmichov.cz
SUMMARY:Swingová tančírna s kapelou
DESCRIPTION:Přijďte si užít večer plný rytmu\, tance a dobré nálady! Swing je živý tanec z 30. a 40. let 20. století\, který spojuje jazz\, pohyb a radost z hudby!\nVstupné: 100–200\,- Kč\nVíce informací: www.swingmove.cz \n. \nPřijďte si zatančit a užít si naplno páteční večer!
URL:https://kpsmichov.cz/program/swing-tancirna/2026-04-24/
LOCATION:Chrám\, Komunitní prostor Smíchov Na Doubkové 8\, Praha 5\, kraj hlavní město praha\, 150 00\, Česká republika
CATEGORIES:Taneční aktivity
ATTACH;FMTTYPE=image/jpeg:https://kpsmichov.cz/wp-content/uploads/2024/12/DSC_5653.jpg
END:VEVENT
BEGIN:VEVENT
DTSTART;TZID=Europe/Prague:20260426T174500
DTEND;TZID=Europe/Prague:20260426T210000
DTSTAMP:20260421T054155
CREATED:20251101T144538Z
LAST-MODIFIED:20260320T191944Z
UID:10006608-1777225500-1777237200@kpsmichov.cz
SUMMARY:Nedělní Jam Kontaktní Improvizace / Sunday CI Jam
DESCRIPTION:Milí přátelé a tanečníci\,\nzveme vás na JAM kontaktní improvizace každou druhou a poslední neděli v měsíci v Komunitním Prostoru Smíchov\, v čase 18:30-21:00.\nKontaktní improvizace (Contact Improvisation\, zkráceně CI)\nje pohybová improvizace praktikovaná v kontaktu s jedním nebo více lidmi\, která je založena na sdílení váhy a dalších principech. Je to vyvíjející se praxe\, kterou v roce 1972 inicioval americký choreograf Steve Paxton a následně rozvíjeli i další tanečníci. Existuje mnoho způsobů\, jak CI definovat. Zde najdete některé z nich:https://ciglobalcalendar.net/…/what-is-contact… \n.\nNaším přáním je na JAMech utvářet vzájemně vyživující prostor\, společně držené pole\, kde se můžeme otevřít inteligenci našich těl\, prozkoumávat a prožívat jejich kreativitu\, pohybové možnosti\, kvality a propojenost.\nKontaktní improvizaci vnímáme také jako praxi\, kde se pohyb rozvíjí z naslouchání tělu a spojení se s hlubším tělesným vnímáním. Kontakt s partnerem je pak pozvánkou k přenesení tohoto naslouchání do společně tvořeného pohybu\, kde zároveň zůstáváme autonomními bytostmi. Do každého JAMU budeme vstupovat společně\, vedeným pohybovým úvodem (lead-in).\nOd 28.9. jste před začátkem JAMU\, v čase 17:45-18:15\, vítání přijít na Pre-Jam LAB\, které jsou prostorem pro zkoušení a zkoumání čehokoliv spojeného s CI\, co vás zajímá. Můžete přinášet otázky a téma které vám na jamech vyvstali. Také se můžeme společně věnovat zkoumání základních principů CI. Pre-Jam LABy jsou otevřené všem\, zvláště je doporučujeme pokud s CI začínáte. První Lab se uskuteční 28.9.2025\n\nPRAKTICKÉ INFORMACE:\n Kdy: druhá a poslední neděle v měsíci (s výjimkou 14.9. a 11/2025)17:45 – 18:15 Pre-Jam LAB18:30 – 21:00 JAM Kde: Komunitní Prostor Smíchov\, Na Doubkové 8/2040\, Praha 5 Cena: 300 Kč (+Máme místo pro 1 dobrovolníka. Pište PM.)\n.\nWhatsApp Skupina pro JAMy: https://chat.whatsapp.com/HlJ7tpR6zmQ6o8O0sHX4Sr\n\nProstor bude otevřen minimálně 15 minut předem. Doporučujeme přijít dřív a naladit se. S sebou pohodlné oblečení ideálně s dlouhými rukávy. Tančíme bosky nebo v ponožkách.\nBudeme rády za šíření pozvánky mezi ty\, které by to mohlo zajímat.\nTěšíme se na setkání v tanci!Vaše otázky a návrhy jsou vítány.\n\nMaysara Volf\, Len Sabolčáková\, Lucie Klosová a Tereza Kodíčková\n\nENG \n\n\n\nDear friends and dancers\,\nbe invited to SUNDAY CI JAMs which are happening every second and every last Sunday of the month in Smíchov Community Space\, from 6:30 PM to 9:00 PM.\nContact Improvisation (CI)\nis a movement improvisation practiced in contact with one or more people\, based on weight sharing and other principles. It is an evolving movement practice initiated in 1972 by American choreographer Steve Paxton followed by other exploring dancers. There are many ways to define CI. Here you can find some:https://ciglobalcalendar.net/…/what-is-contact…\n.\nOur wish is to create a mutually nourishing space\, a jointly held field where we can open to the intelligence of our bodies\, explore and experience its creativity\, movement possibilities\, qualities and interconnectedness.\nWe see Contact Improvisation also as a practice where movement develops from listening to the body and from deeper bodily connection. Contact with a partner is then an invitation to transfer this listening into a jointly created movement\, while we remain autonomous beings at the same time. We will enter every Jam with lead-in.\nBefore JAMs\, from 5:45-6:15 PM\, you are welcome to join Pre-Jam LAB. This is a space for exploring anything related to CI that interests you. You can bring your questions and topics that arose e.g. during the jams. We can also explore the basic principles of CI together. Pre-Jam LABs are open to everyone\, and are recommend especially if you are new to CI. The first Lab will take place on 28.9.2025\n\nPRACTICAL INFORMATION:\n When: Every 2nd and every last Sunday of the month (14.9. and 11/25 is an exception)5:45 PM – 6:15 Pre-Jam LAB6:30 PM – 9:00 PM JAM Where: Community Space Smíchov\, Na Doubkové 8/2040\, Prague 5 Price: 300 CZK (+1 volunteer spot\, send PM)\n.\nWhatsApp group for JAMs: https://chat.whatsapp.com/HlJ7tpR6zmQ6o8O0sHX4Sr\n\nThe space will be open at least 15 minutes in advance. We recommend coming early to have a time to arrive and attune. Please\, bring comfortable clothing\, ideally with long sleeves. We dance barefoot or in socks.\nWe would be happy if you spread awareness of this idea among those who might be interested.\nWe are looking forward to meeting you at the dance!Questions and suggestions are welcome.\n\nMaysara Volf\, Len Sabolčáková\, Lucie Klosová a Tereza Kodíčková\n\n\nThe laboratory is supported by the German-Czech Future Foundation and Nir de Volff / TOTAL BRUTAL.
URL:https://kpsmichov.cz/program/sunday-ci-jam/2026-04-26/
LOCATION:Chrám\, Komunitní prostor Smíchov Na Doubkové 8\, Praha 5\, kraj hlavní město praha\, 150 00\, Česká republika
CATEGORIES:Taneční aktivity,Živé téma
ATTACH;FMTTYPE=image/jpeg:https://kpsmichov.cz/wp-content/uploads/2025/11/545814277_10162571921808525_7574984714424615500_n.jpg
END:VEVENT
BEGIN:VEVENT
DTSTART;TZID=Europe/Prague:20260428T190000
DTEND;TZID=Europe/Prague:20260428T220000
DTSTAMP:20260421T054155
CREATED:20251001T112629Z
LAST-MODIFIED:20260320T230019Z
UID:10006578-1777402800-1777413600@kpsmichov.cz
SUMMARY:Balfolková tancovačka
DESCRIPTION:Jednoduché a zábavné tance z celé Evropy\, kolové\, řetězové i párové. Nepotřebujete partnera\, speciální obutí ani předchozí taneční zkušenosti.  \nVíce informací na www.balfolk.cz \nVede: Martin Ozzy Chlebek \nDoporučené vstupné: 150 Kč \n  \nAktivita je finančně podpořena MČ Praha 5.
URL:https://kpsmichov.cz/program/balfolkova-tancovacka-2/2026-04-28/
LOCATION:Chrám\, Komunitní prostor Smíchov Na Doubkové 8\, Praha 5\, kraj hlavní město praha\, 150 00\, Česká republika
CATEGORIES:Taneční aktivity
ATTACH;FMTTYPE=image/png:https://kpsmichov.cz/wp-content/uploads/2024/03/balfolk-1.png
ORGANIZER;CN="Martin Ozzy Chlebek":MAILTO:balfolk@balfolk.cz
END:VEVENT
BEGIN:VEVENT
DTSTART;TZID=Europe/Prague:20260429T193000
DTEND;TZID=Europe/Prague:20260429T220000
DTSTAMP:20260421T054155
CREATED:20251001T112342Z
LAST-MODIFIED:20260320T225809Z
UID:10006558-1777491000-1777500000@kpsmichov.cz
SUMMARY:Tančírna forró CZ/ENG
DESCRIPTION:Brazilský tanec forró se zkušeným a hravým lektorem pro všechny\, kdo se chtějí hýbat – nezávisle na předchozí zkušenosti / s partnerem i bez / (16+) / CZ/ENG / vede Eder Cardoso Santana\n\nTermín forró označuje hudební žánr\, rytmus\, tanec a také samotnou událost\, na které se hraje a tančí hudba forró. Hudební styl forró je silně spojený s kulturou a každodenním životem severovýchodního regionu Brazílie.\n\nVstupné dobrovolné v podobě daru (0–250 Kč).\n\n\nkaždou středu 19:30–22:00 \n\n\notevřená tančírna s možným seznámením základního kroku pro nováčky \nAktivita je finančně podpořena MČ Praha 5.
URL:https://kpsmichov.cz/program/tancirna-forro-cz-eng/2026-04-29/
LOCATION:Chrám\, Komunitní prostor Smíchov Na Doubkové 8\, Praha 5\, kraj hlavní město praha\, 150 00\, Česká republika
CATEGORIES:Taneční aktivity
ATTACH;FMTTYPE=image/png:https://kpsmichov.cz/wp-content/uploads/2024/03/Navrhova-plocha-1.png
END:VEVENT
BEGIN:VEVENT
DTSTART;TZID=Europe/Prague:20260505T190000
DTEND;TZID=Europe/Prague:20260505T220000
DTSTAMP:20260421T054155
CREATED:20251001T112629Z
LAST-MODIFIED:20260320T230019Z
UID:10006579-1778007600-1778018400@kpsmichov.cz
SUMMARY:Balfolková tancovačka
DESCRIPTION:Jednoduché a zábavné tance z celé Evropy\, kolové\, řetězové i párové. Nepotřebujete partnera\, speciální obutí ani předchozí taneční zkušenosti.  \nVíce informací na www.balfolk.cz \nVede: Martin Ozzy Chlebek \nDoporučené vstupné: 150 Kč \n  \nAktivita je finančně podpořena MČ Praha 5.
URL:https://kpsmichov.cz/program/balfolkova-tancovacka-2/2026-05-05/
LOCATION:Chrám\, Komunitní prostor Smíchov Na Doubkové 8\, Praha 5\, kraj hlavní město praha\, 150 00\, Česká republika
CATEGORIES:Taneční aktivity
ATTACH;FMTTYPE=image/png:https://kpsmichov.cz/wp-content/uploads/2024/03/balfolk-1.png
ORGANIZER;CN="Martin Ozzy Chlebek":MAILTO:balfolk@balfolk.cz
END:VEVENT
BEGIN:VEVENT
DTSTART;TZID=Europe/Prague:20260506T193000
DTEND;TZID=Europe/Prague:20260506T220000
DTSTAMP:20260421T054155
CREATED:20251001T112342Z
LAST-MODIFIED:20260320T225809Z
UID:10006559-1778095800-1778104800@kpsmichov.cz
SUMMARY:Tančírna forró CZ/ENG
DESCRIPTION:Brazilský tanec forró se zkušeným a hravým lektorem pro všechny\, kdo se chtějí hýbat – nezávisle na předchozí zkušenosti / s partnerem i bez / (16+) / CZ/ENG / vede Eder Cardoso Santana\n\nTermín forró označuje hudební žánr\, rytmus\, tanec a také samotnou událost\, na které se hraje a tančí hudba forró. Hudební styl forró je silně spojený s kulturou a každodenním životem severovýchodního regionu Brazílie.\n\nVstupné dobrovolné v podobě daru (0–250 Kč).\n\n\nkaždou středu 19:30–22:00 \n\n\notevřená tančírna s možným seznámením základního kroku pro nováčky \nAktivita je finančně podpořena MČ Praha 5.
URL:https://kpsmichov.cz/program/tancirna-forro-cz-eng/2026-05-06/
LOCATION:Chrám\, Komunitní prostor Smíchov Na Doubkové 8\, Praha 5\, kraj hlavní město praha\, 150 00\, Česká republika
CATEGORIES:Taneční aktivity
ATTACH;FMTTYPE=image/png:https://kpsmichov.cz/wp-content/uploads/2024/03/Navrhova-plocha-1.png
END:VEVENT
BEGIN:VEVENT
DTSTART;TZID=Europe/Prague:20260512T190000
DTEND;TZID=Europe/Prague:20260512T220000
DTSTAMP:20260421T054155
CREATED:20251001T112629Z
LAST-MODIFIED:20260320T230019Z
UID:10006580-1778612400-1778623200@kpsmichov.cz
SUMMARY:Balfolková tancovačka
DESCRIPTION:Jednoduché a zábavné tance z celé Evropy\, kolové\, řetězové i párové. Nepotřebujete partnera\, speciální obutí ani předchozí taneční zkušenosti.  \nVíce informací na www.balfolk.cz \nVede: Martin Ozzy Chlebek \nDoporučené vstupné: 150 Kč \n  \nAktivita je finančně podpořena MČ Praha 5.
URL:https://kpsmichov.cz/program/balfolkova-tancovacka-2/2026-05-12/
LOCATION:Chrám\, Komunitní prostor Smíchov Na Doubkové 8\, Praha 5\, kraj hlavní město praha\, 150 00\, Česká republika
CATEGORIES:Taneční aktivity
ATTACH;FMTTYPE=image/png:https://kpsmichov.cz/wp-content/uploads/2024/03/balfolk-1.png
ORGANIZER;CN="Martin Ozzy Chlebek":MAILTO:balfolk@balfolk.cz
END:VEVENT
BEGIN:VEVENT
DTSTART;TZID=Europe/Prague:20260513T193000
DTEND;TZID=Europe/Prague:20260513T220000
DTSTAMP:20260421T054155
CREATED:20251001T112342Z
LAST-MODIFIED:20260320T225809Z
UID:10006560-1778700600-1778709600@kpsmichov.cz
SUMMARY:Tančírna forró CZ/ENG
DESCRIPTION:Brazilský tanec forró se zkušeným a hravým lektorem pro všechny\, kdo se chtějí hýbat – nezávisle na předchozí zkušenosti / s partnerem i bez / (16+) / CZ/ENG / vede Eder Cardoso Santana\n\nTermín forró označuje hudební žánr\, rytmus\, tanec a také samotnou událost\, na které se hraje a tančí hudba forró. Hudební styl forró je silně spojený s kulturou a každodenním životem severovýchodního regionu Brazílie.\n\nVstupné dobrovolné v podobě daru (0–250 Kč).\n\n\nkaždou středu 19:30–22:00 \n\n\notevřená tančírna s možným seznámením základního kroku pro nováčky \nAktivita je finančně podpořena MČ Praha 5.
URL:https://kpsmichov.cz/program/tancirna-forro-cz-eng/2026-05-13/
LOCATION:Chrám\, Komunitní prostor Smíchov Na Doubkové 8\, Praha 5\, kraj hlavní město praha\, 150 00\, Česká republika
CATEGORIES:Taneční aktivity
ATTACH;FMTTYPE=image/png:https://kpsmichov.cz/wp-content/uploads/2024/03/Navrhova-plocha-1.png
END:VEVENT
BEGIN:VEVENT
DTSTART;TZID=Europe/Prague:20260519T190000
DTEND;TZID=Europe/Prague:20260519T220000
DTSTAMP:20260421T054155
CREATED:20251001T112629Z
LAST-MODIFIED:20260320T230019Z
UID:10006581-1779217200-1779228000@kpsmichov.cz
SUMMARY:Balfolková tancovačka
DESCRIPTION:Jednoduché a zábavné tance z celé Evropy\, kolové\, řetězové i párové. Nepotřebujete partnera\, speciální obutí ani předchozí taneční zkušenosti.  \nVíce informací na www.balfolk.cz \nVede: Martin Ozzy Chlebek \nDoporučené vstupné: 150 Kč \n  \nAktivita je finančně podpořena MČ Praha 5.
URL:https://kpsmichov.cz/program/balfolkova-tancovacka-2/2026-05-19/
LOCATION:Chrám\, Komunitní prostor Smíchov Na Doubkové 8\, Praha 5\, kraj hlavní město praha\, 150 00\, Česká republika
CATEGORIES:Taneční aktivity
ATTACH;FMTTYPE=image/png:https://kpsmichov.cz/wp-content/uploads/2024/03/balfolk-1.png
ORGANIZER;CN="Martin Ozzy Chlebek":MAILTO:balfolk@balfolk.cz
END:VEVENT
BEGIN:VEVENT
DTSTART;TZID=Europe/Prague:20260520T193000
DTEND;TZID=Europe/Prague:20260520T220000
DTSTAMP:20260421T054155
CREATED:20251001T112342Z
LAST-MODIFIED:20260320T225809Z
UID:10006561-1779305400-1779314400@kpsmichov.cz
SUMMARY:Tančírna forró CZ/ENG
DESCRIPTION:Brazilský tanec forró se zkušeným a hravým lektorem pro všechny\, kdo se chtějí hýbat – nezávisle na předchozí zkušenosti / s partnerem i bez / (16+) / CZ/ENG / vede Eder Cardoso Santana\n\nTermín forró označuje hudební žánr\, rytmus\, tanec a také samotnou událost\, na které se hraje a tančí hudba forró. Hudební styl forró je silně spojený s kulturou a každodenním životem severovýchodního regionu Brazílie.\n\nVstupné dobrovolné v podobě daru (0–250 Kč).\n\n\nkaždou středu 19:30–22:00 \n\n\notevřená tančírna s možným seznámením základního kroku pro nováčky \nAktivita je finančně podpořena MČ Praha 5.
URL:https://kpsmichov.cz/program/tancirna-forro-cz-eng/2026-05-20/
LOCATION:Chrám\, Komunitní prostor Smíchov Na Doubkové 8\, Praha 5\, kraj hlavní město praha\, 150 00\, Česká republika
CATEGORIES:Taneční aktivity
ATTACH;FMTTYPE=image/png:https://kpsmichov.cz/wp-content/uploads/2024/03/Navrhova-plocha-1.png
END:VEVENT
BEGIN:VEVENT
DTSTART;TZID=Europe/Prague:20260526T190000
DTEND;TZID=Europe/Prague:20260526T220000
DTSTAMP:20260421T054155
CREATED:20251001T112629Z
LAST-MODIFIED:20260320T230019Z
UID:10006582-1779822000-1779832800@kpsmichov.cz
SUMMARY:Balfolková tancovačka
DESCRIPTION:Jednoduché a zábavné tance z celé Evropy\, kolové\, řetězové i párové. Nepotřebujete partnera\, speciální obutí ani předchozí taneční zkušenosti.  \nVíce informací na www.balfolk.cz \nVede: Martin Ozzy Chlebek \nDoporučené vstupné: 150 Kč \n  \nAktivita je finančně podpořena MČ Praha 5.
URL:https://kpsmichov.cz/program/balfolkova-tancovacka-2/2026-05-26/
LOCATION:Chrám\, Komunitní prostor Smíchov Na Doubkové 8\, Praha 5\, kraj hlavní město praha\, 150 00\, Česká republika
CATEGORIES:Taneční aktivity
ATTACH;FMTTYPE=image/png:https://kpsmichov.cz/wp-content/uploads/2024/03/balfolk-1.png
ORGANIZER;CN="Martin Ozzy Chlebek":MAILTO:balfolk@balfolk.cz
END:VEVENT
BEGIN:VEVENT
DTSTART;TZID=Europe/Prague:20260527T193000
DTEND;TZID=Europe/Prague:20260527T220000
DTSTAMP:20260421T054155
CREATED:20251001T112342Z
LAST-MODIFIED:20260320T225809Z
UID:10006562-1779910200-1779919200@kpsmichov.cz
SUMMARY:Tančírna forró CZ/ENG
DESCRIPTION:Brazilský tanec forró se zkušeným a hravým lektorem pro všechny\, kdo se chtějí hýbat – nezávisle na předchozí zkušenosti / s partnerem i bez / (16+) / CZ/ENG / vede Eder Cardoso Santana\n\nTermín forró označuje hudební žánr\, rytmus\, tanec a také samotnou událost\, na které se hraje a tančí hudba forró. Hudební styl forró je silně spojený s kulturou a každodenním životem severovýchodního regionu Brazílie.\n\nVstupné dobrovolné v podobě daru (0–250 Kč).\n\n\nkaždou středu 19:30–22:00 \n\n\notevřená tančírna s možným seznámením základního kroku pro nováčky \nAktivita je finančně podpořena MČ Praha 5.
URL:https://kpsmichov.cz/program/tancirna-forro-cz-eng/2026-05-27/
LOCATION:Chrám\, Komunitní prostor Smíchov Na Doubkové 8\, Praha 5\, kraj hlavní město praha\, 150 00\, Česká republika
CATEGORIES:Taneční aktivity
ATTACH;FMTTYPE=image/png:https://kpsmichov.cz/wp-content/uploads/2024/03/Navrhova-plocha-1.png
END:VEVENT
BEGIN:VEVENT
DTSTART;TZID=Europe/Prague:20260602T190000
DTEND;TZID=Europe/Prague:20260602T220000
DTSTAMP:20260421T054155
CREATED:20251001T112629Z
LAST-MODIFIED:20260320T230019Z
UID:10006583-1780426800-1780437600@kpsmichov.cz
SUMMARY:Balfolková tancovačka
DESCRIPTION:Jednoduché a zábavné tance z celé Evropy\, kolové\, řetězové i párové. Nepotřebujete partnera\, speciální obutí ani předchozí taneční zkušenosti.  \nVíce informací na www.balfolk.cz \nVede: Martin Ozzy Chlebek \nDoporučené vstupné: 150 Kč \n  \nAktivita je finančně podpořena MČ Praha 5.
URL:https://kpsmichov.cz/program/balfolkova-tancovacka-2/2026-06-02/
LOCATION:Chrám\, Komunitní prostor Smíchov Na Doubkové 8\, Praha 5\, kraj hlavní město praha\, 150 00\, Česká republika
CATEGORIES:Taneční aktivity
ATTACH;FMTTYPE=image/png:https://kpsmichov.cz/wp-content/uploads/2024/03/balfolk-1.png
ORGANIZER;CN="Martin Ozzy Chlebek":MAILTO:balfolk@balfolk.cz
END:VEVENT
BEGIN:VEVENT
DTSTART;TZID=Europe/Prague:20260603T193000
DTEND;TZID=Europe/Prague:20260603T220000
DTSTAMP:20260421T054155
CREATED:20251001T112342Z
LAST-MODIFIED:20260320T225809Z
UID:10006563-1780515000-1780524000@kpsmichov.cz
SUMMARY:Tančírna forró CZ/ENG
DESCRIPTION:Brazilský tanec forró se zkušeným a hravým lektorem pro všechny\, kdo se chtějí hýbat – nezávisle na předchozí zkušenosti / s partnerem i bez / (16+) / CZ/ENG / vede Eder Cardoso Santana\n\nTermín forró označuje hudební žánr\, rytmus\, tanec a také samotnou událost\, na které se hraje a tančí hudba forró. Hudební styl forró je silně spojený s kulturou a každodenním životem severovýchodního regionu Brazílie.\n\nVstupné dobrovolné v podobě daru (0–250 Kč).\n\n\nkaždou středu 19:30–22:00 \n\n\notevřená tančírna s možným seznámením základního kroku pro nováčky \nAktivita je finančně podpořena MČ Praha 5.
URL:https://kpsmichov.cz/program/tancirna-forro-cz-eng/2026-06-03/
LOCATION:Chrám\, Komunitní prostor Smíchov Na Doubkové 8\, Praha 5\, kraj hlavní město praha\, 150 00\, Česká republika
CATEGORIES:Taneční aktivity
ATTACH;FMTTYPE=image/png:https://kpsmichov.cz/wp-content/uploads/2024/03/Navrhova-plocha-1.png
END:VEVENT
BEGIN:VEVENT
DTSTART;TZID=Europe/Prague:20260609T190000
DTEND;TZID=Europe/Prague:20260609T220000
DTSTAMP:20260421T054155
CREATED:20251001T112629Z
LAST-MODIFIED:20260320T230019Z
UID:10006584-1781031600-1781042400@kpsmichov.cz
SUMMARY:Balfolková tancovačka
DESCRIPTION:Jednoduché a zábavné tance z celé Evropy\, kolové\, řetězové i párové. Nepotřebujete partnera\, speciální obutí ani předchozí taneční zkušenosti.  \nVíce informací na www.balfolk.cz \nVede: Martin Ozzy Chlebek \nDoporučené vstupné: 150 Kč \n  \nAktivita je finančně podpořena MČ Praha 5.
URL:https://kpsmichov.cz/program/balfolkova-tancovacka-2/2026-06-09/
LOCATION:Chrám\, Komunitní prostor Smíchov Na Doubkové 8\, Praha 5\, kraj hlavní město praha\, 150 00\, Česká republika
CATEGORIES:Taneční aktivity
ATTACH;FMTTYPE=image/png:https://kpsmichov.cz/wp-content/uploads/2024/03/balfolk-1.png
ORGANIZER;CN="Martin Ozzy Chlebek":MAILTO:balfolk@balfolk.cz
END:VEVENT
BEGIN:VEVENT
DTSTART;TZID=Europe/Prague:20260610T193000
DTEND;TZID=Europe/Prague:20260610T220000
DTSTAMP:20260421T054155
CREATED:20251001T112342Z
LAST-MODIFIED:20260320T225809Z
UID:10006564-1781119800-1781128800@kpsmichov.cz
SUMMARY:Tančírna forró CZ/ENG
DESCRIPTION:Brazilský tanec forró se zkušeným a hravým lektorem pro všechny\, kdo se chtějí hýbat – nezávisle na předchozí zkušenosti / s partnerem i bez / (16+) / CZ/ENG / vede Eder Cardoso Santana\n\nTermín forró označuje hudební žánr\, rytmus\, tanec a také samotnou událost\, na které se hraje a tančí hudba forró. Hudební styl forró je silně spojený s kulturou a každodenním životem severovýchodního regionu Brazílie.\n\nVstupné dobrovolné v podobě daru (0–250 Kč).\n\n\nkaždou středu 19:30–22:00 \n\n\notevřená tančírna s možným seznámením základního kroku pro nováčky \nAktivita je finančně podpořena MČ Praha 5.
URL:https://kpsmichov.cz/program/tancirna-forro-cz-eng/2026-06-10/
LOCATION:Chrám\, Komunitní prostor Smíchov Na Doubkové 8\, Praha 5\, kraj hlavní město praha\, 150 00\, Česká republika
CATEGORIES:Taneční aktivity
ATTACH;FMTTYPE=image/png:https://kpsmichov.cz/wp-content/uploads/2024/03/Navrhova-plocha-1.png
END:VEVENT
BEGIN:VEVENT
DTSTART;TZID=Europe/Prague:20260616T190000
DTEND;TZID=Europe/Prague:20260616T220000
DTSTAMP:20260421T054155
CREATED:20251001T112629Z
LAST-MODIFIED:20260320T230019Z
UID:10006585-1781636400-1781647200@kpsmichov.cz
SUMMARY:Balfolková tancovačka
DESCRIPTION:Jednoduché a zábavné tance z celé Evropy\, kolové\, řetězové i párové. Nepotřebujete partnera\, speciální obutí ani předchozí taneční zkušenosti.  \nVíce informací na www.balfolk.cz \nVede: Martin Ozzy Chlebek \nDoporučené vstupné: 150 Kč \n  \nAktivita je finančně podpořena MČ Praha 5.
URL:https://kpsmichov.cz/program/balfolkova-tancovacka-2/2026-06-16/
LOCATION:Chrám\, Komunitní prostor Smíchov Na Doubkové 8\, Praha 5\, kraj hlavní město praha\, 150 00\, Česká republika
CATEGORIES:Taneční aktivity
ATTACH;FMTTYPE=image/png:https://kpsmichov.cz/wp-content/uploads/2024/03/balfolk-1.png
ORGANIZER;CN="Martin Ozzy Chlebek":MAILTO:balfolk@balfolk.cz
END:VEVENT
BEGIN:VEVENT
DTSTART;TZID=Europe/Prague:20260617T193000
DTEND;TZID=Europe/Prague:20260617T220000
DTSTAMP:20260421T054155
CREATED:20251001T112342Z
LAST-MODIFIED:20260320T225809Z
UID:10006565-1781724600-1781733600@kpsmichov.cz
SUMMARY:Tančírna forró CZ/ENG
DESCRIPTION:Brazilský tanec forró se zkušeným a hravým lektorem pro všechny\, kdo se chtějí hýbat – nezávisle na předchozí zkušenosti / s partnerem i bez / (16+) / CZ/ENG / vede Eder Cardoso Santana\n\nTermín forró označuje hudební žánr\, rytmus\, tanec a také samotnou událost\, na které se hraje a tančí hudba forró. Hudební styl forró je silně spojený s kulturou a každodenním životem severovýchodního regionu Brazílie.\n\nVstupné dobrovolné v podobě daru (0–250 Kč).\n\n\nkaždou středu 19:30–22:00 \n\n\notevřená tančírna s možným seznámením základního kroku pro nováčky \nAktivita je finančně podpořena MČ Praha 5.
URL:https://kpsmichov.cz/program/tancirna-forro-cz-eng/2026-06-17/
LOCATION:Chrám\, Komunitní prostor Smíchov Na Doubkové 8\, Praha 5\, kraj hlavní město praha\, 150 00\, Česká republika
CATEGORIES:Taneční aktivity
ATTACH;FMTTYPE=image/png:https://kpsmichov.cz/wp-content/uploads/2024/03/Navrhova-plocha-1.png
END:VEVENT
BEGIN:VEVENT
DTSTART;TZID=Europe/Prague:20260623T190000
DTEND;TZID=Europe/Prague:20260623T220000
DTSTAMP:20260421T054155
CREATED:20251001T112629Z
LAST-MODIFIED:20260320T230019Z
UID:10006586-1782241200-1782252000@kpsmichov.cz
SUMMARY:Balfolková tancovačka
DESCRIPTION:Jednoduché a zábavné tance z celé Evropy\, kolové\, řetězové i párové. Nepotřebujete partnera\, speciální obutí ani předchozí taneční zkušenosti.  \nVíce informací na www.balfolk.cz \nVede: Martin Ozzy Chlebek \nDoporučené vstupné: 150 Kč \n  \nAktivita je finančně podpořena MČ Praha 5.
URL:https://kpsmichov.cz/program/balfolkova-tancovacka-2/2026-06-23/
LOCATION:Chrám\, Komunitní prostor Smíchov Na Doubkové 8\, Praha 5\, kraj hlavní město praha\, 150 00\, Česká republika
CATEGORIES:Taneční aktivity
ATTACH;FMTTYPE=image/png:https://kpsmichov.cz/wp-content/uploads/2024/03/balfolk-1.png
ORGANIZER;CN="Martin Ozzy Chlebek":MAILTO:balfolk@balfolk.cz
END:VEVENT
BEGIN:VEVENT
DTSTART;TZID=Europe/Prague:20260624T193000
DTEND;TZID=Europe/Prague:20260624T220000
DTSTAMP:20260421T054155
CREATED:20251001T112342Z
LAST-MODIFIED:20260320T225809Z
UID:10006566-1782329400-1782338400@kpsmichov.cz
SUMMARY:Tančírna forró CZ/ENG
DESCRIPTION:Brazilský tanec forró se zkušeným a hravým lektorem pro všechny\, kdo se chtějí hýbat – nezávisle na předchozí zkušenosti / s partnerem i bez / (16+) / CZ/ENG / vede Eder Cardoso Santana\n\nTermín forró označuje hudební žánr\, rytmus\, tanec a také samotnou událost\, na které se hraje a tančí hudba forró. Hudební styl forró je silně spojený s kulturou a každodenním životem severovýchodního regionu Brazílie.\n\nVstupné dobrovolné v podobě daru (0–250 Kč).\n\n\nkaždou středu 19:30–22:00 \n\n\notevřená tančírna s možným seznámením základního kroku pro nováčky \nAktivita je finančně podpořena MČ Praha 5.
URL:https://kpsmichov.cz/program/tancirna-forro-cz-eng/2026-06-24/
LOCATION:Chrám\, Komunitní prostor Smíchov Na Doubkové 8\, Praha 5\, kraj hlavní město praha\, 150 00\, Česká republika
CATEGORIES:Taneční aktivity
ATTACH;FMTTYPE=image/png:https://kpsmichov.cz/wp-content/uploads/2024/03/Navrhova-plocha-1.png
END:VEVENT
BEGIN:VEVENT
DTSTART;TZID=Europe/Prague:20260630T190000
DTEND;TZID=Europe/Prague:20260630T220000
DTSTAMP:20260421T054155
CREATED:20251001T112629Z
LAST-MODIFIED:20260320T230019Z
UID:10006587-1782846000-1782856800@kpsmichov.cz
SUMMARY:Balfolková tancovačka
DESCRIPTION:Jednoduché a zábavné tance z celé Evropy\, kolové\, řetězové i párové. Nepotřebujete partnera\, speciální obutí ani předchozí taneční zkušenosti.  \nVíce informací na www.balfolk.cz \nVede: Martin Ozzy Chlebek \nDoporučené vstupné: 150 Kč \n  \nAktivita je finančně podpořena MČ Praha 5.
URL:https://kpsmichov.cz/program/balfolkova-tancovacka-2/2026-06-30/
LOCATION:Chrám\, Komunitní prostor Smíchov Na Doubkové 8\, Praha 5\, kraj hlavní město praha\, 150 00\, Česká republika
CATEGORIES:Taneční aktivity
ATTACH;FMTTYPE=image/png:https://kpsmichov.cz/wp-content/uploads/2024/03/balfolk-1.png
ORGANIZER;CN="Martin Ozzy Chlebek":MAILTO:balfolk@balfolk.cz
END:VEVENT
END:VCALENDAR