BEGIN:VCALENDAR
VERSION:2.0
PRODID:-//Komunitní prostor Smíchov - ECPv6.15.20//NONSGML v1.0//EN
CALSCALE:GREGORIAN
METHOD:PUBLISH
X-WR-CALNAME:Komunitní prostor Smíchov
X-ORIGINAL-URL:https://kpsmichov.cz
X-WR-CALDESC:Akce na Komunitní prostor Smíchov
REFRESH-INTERVAL;VALUE=DURATION:PT1H
X-Robots-Tag:noindex
X-PUBLISHED-TTL:PT1H
BEGIN:VTIMEZONE
TZID:Europe/Prague
BEGIN:DAYLIGHT
TZOFFSETFROM:+0100
TZOFFSETTO:+0200
TZNAME:CEST
DTSTART:20220327T010000
END:DAYLIGHT
BEGIN:STANDARD
TZOFFSETFROM:+0200
TZOFFSETTO:+0100
TZNAME:CET
DTSTART:20221030T010000
END:STANDARD
BEGIN:DAYLIGHT
TZOFFSETFROM:+0100
TZOFFSETTO:+0200
TZNAME:CEST
DTSTART:20230326T010000
END:DAYLIGHT
BEGIN:STANDARD
TZOFFSETFROM:+0200
TZOFFSETTO:+0100
TZNAME:CET
DTSTART:20231029T010000
END:STANDARD
BEGIN:DAYLIGHT
TZOFFSETFROM:+0100
TZOFFSETTO:+0200
TZNAME:CEST
DTSTART:20240331T010000
END:DAYLIGHT
BEGIN:STANDARD
TZOFFSETFROM:+0200
TZOFFSETTO:+0100
TZNAME:CET
DTSTART:20241027T010000
END:STANDARD
END:VTIMEZONE
BEGIN:VEVENT
DTSTART;TZID=Europe/Prague:20231213T170000
DTEND;TZID=Europe/Prague:20231213T223000
DTSTAMP:20260421T085152
CREATED:20231202T144017Z
LAST-MODIFIED:20250712T144740Z
UID:5350-1702486800-1702506600@kpsmichov.cz
SUMMARY:Prosincová sousedská aneb ‚‚Klid‘‘
DESCRIPTION:prosincová POKLIDNÁ SOUSEDSKÁ\nUA version below\n\nLINEUP\n17:00\n– horký čaj a trdelník na ohni\n– výroba svíček & balicího papíru\n20:00\n– večerní meditace v chrámu\nkoncert ve tmě (zpěv H. Krejčová\, A. Ponzerová)\nambient “vleže” (DJ Ynaj.Space)\nbez registrace\, vstupné dobrovolné\nzváni jsou všichni\nENG\nCommunity Space Smíchov invites our neighbors around Santoška\n(and everybody else) for\nCALM neighbors event\nin December\n13.12.\n5pm-10pm\nCommunity Space Smíchov\, Na Doubkové 8\, Praha 5\n5pm\n– hot tea and trdelník around fire\n– creative workshop: candles and christmas paper\n8pm\n– evening meditation in our temple\nconcert in the dark (singer H.Krejčová\, A.Ponzerová)\nambient “lying down” (DJ Ynaj.Space)\nno registration\, free donation\neverybody is welcome\n\nUA\nГромадський простір Сміхова щиро запрошує сусідів на захід з околиць Сантошки (і\nвсіх охочих) на подію\nгрудень\nСПОКІЙНЕ СУСІДСТВО\n13.12. 2023\n17:00 – 22:00\nГромадський простір Сміхов ( Na Doubkové 8\, Praha 5)\n17:00\n– гарячий чай і тдельник на вогнищі\n– виготовлення свічок та обгорткового паперу\n20:00\n– вечірня медитація в храмі концерт у темряві (співають Х. Крейчова\, А. Понзерова)\nембієнт &quot;лежачи&quot; (DJ Ynaj.Space)\nбез реєстрації\, вхід добровільний\nзапрошені всі бажаючі\n.\n.\n.\nplakát k události: Heda Chaloupková\nsponzoři akce: Nadace Via\, městská část Praha 5\, Evropské strukturální a investiční fondy\, Hlavní město Praha
URL:https://kpsmichov.cz/program/prosincova-sousedska-aneb-klid/
LOCATION:Kavárna\, Komunitní prostor Smíchov Na Doubkové 8\, Praha 5\, kraj hlavní město praha\, 150 00\, Česká republika
CATEGORIES:Sousedská setkání
ATTACH;FMTTYPE=image/jpeg:https://kpsmichov.cz/wp-content/uploads/2023/12/sousedska-prosinec-loga-scaled.jpg
END:VEVENT
END:VCALENDAR