BEGIN:VCALENDAR
VERSION:2.0
PRODID:-//Komunitní prostor Smíchov - ECPv6.15.20//NONSGML v1.0//EN
CALSCALE:GREGORIAN
METHOD:PUBLISH
X-WR-CALNAME:Komunitní prostor Smíchov
X-ORIGINAL-URL:https://kpsmichov.cz
X-WR-CALDESC:Akce na Komunitní prostor Smíchov
REFRESH-INTERVAL;VALUE=DURATION:PT1H
X-Robots-Tag:noindex
X-PUBLISHED-TTL:PT1H
BEGIN:VTIMEZONE
TZID:Europe/Prague
BEGIN:DAYLIGHT
TZOFFSETFROM:+0100
TZOFFSETTO:+0200
TZNAME:CEST
DTSTART:20220327T010000
END:DAYLIGHT
BEGIN:STANDARD
TZOFFSETFROM:+0200
TZOFFSETTO:+0100
TZNAME:CET
DTSTART:20221030T010000
END:STANDARD
BEGIN:DAYLIGHT
TZOFFSETFROM:+0100
TZOFFSETTO:+0200
TZNAME:CEST
DTSTART:20230326T010000
END:DAYLIGHT
BEGIN:STANDARD
TZOFFSETFROM:+0200
TZOFFSETTO:+0100
TZNAME:CET
DTSTART:20231029T010000
END:STANDARD
BEGIN:DAYLIGHT
TZOFFSETFROM:+0100
TZOFFSETTO:+0200
TZNAME:CEST
DTSTART:20240331T010000
END:DAYLIGHT
BEGIN:STANDARD
TZOFFSETFROM:+0200
TZOFFSETTO:+0100
TZNAME:CET
DTSTART:20241027T010000
END:STANDARD
END:VTIMEZONE
BEGIN:VEVENT
DTSTART;TZID=Europe/Prague:20231024T170000
DTEND;TZID=Europe/Prague:20231024T210000
DTSTAMP:20260421T074428
CREATED:20231016T145207Z
LAST-MODIFIED:20250712T144829Z
UID:5170-1698166800-1698181200@kpsmichov.cz
SUMMARY:Podzim na faře aneb Far(m)ářská
DESCRIPTION:Co nás čeká?\n\nSklízení komunitní zahrady\nTěžká práce na našich půvabných terasách. Společně rozebereme truhlíky a připravíme terasu na zazimování.\n\nModerovaná diskuze s novým smíchovským farářem Jonatanem Hudcem\nNa Smíchově máme od září nového faráře (s celou farářskou rodinou). Na ulici ho jistě nepřehlédnete a je rozhodně doporučeno se s ním skámošit.\n\nOtevřený výtvarný atelier pro dospělé (17:15 – 20:00)\n\nV úterky od 18:00 budou u nás v atelieru probíhat výtvarné lekce pro dospělé. Přijďte nahlédnout a vyzkoušet\, jak výtvarná lekce s Jarmilou vypadá a rovnou si něco namalovat\, nakreslit\, či vyrýt a vytisknout linoryt. A následně se na lekce zapsat!\n\nOheň: Opečeme podzimní plodiny a snad i uvaříme v kotlíku polévku. Kdo chce něco speciálního na opékání\, nechť si to přinese.\n\nKotel polévky: Zeleninová polévku určitě bude\, jak je naším dobrým zvykem. Rozdáváme také suroviny na vaření pro potřebné.\n\nHudební jamm: Hudebním jammem nás obdaří hudebníci Kuba a Petr. Kdokoliv se může přidat. Přiberte nástroj!/\n\nA snad i večerní promítání: Farářův konec – Film Farářův konec si navrhl na promítání náš nový farář Jonatan.\n\nzváni jsou všichni!
URL:https://kpsmichov.cz/program/podzim-na-fare-aneb-farmarska/
CATEGORIES:Sousedská setkání
ATTACH;FMTTYPE=image/png:https://kpsmichov.cz/wp-content/uploads/2023/10/SousedskaI-rIiIjen.png
END:VEVENT
END:VCALENDAR