BEGIN:VCALENDAR
VERSION:2.0
PRODID:-//Komunitní prostor Smíchov - ECPv6.15.20//NONSGML v1.0//EN
CALSCALE:GREGORIAN
METHOD:PUBLISH
X-WR-CALNAME:Komunitní prostor Smíchov
X-ORIGINAL-URL:https://kpsmichov.cz
X-WR-CALDESC:Akce na Komunitní prostor Smíchov
REFRESH-INTERVAL;VALUE=DURATION:PT1H
X-Robots-Tag:noindex
X-PUBLISHED-TTL:PT1H
BEGIN:VTIMEZONE
TZID:Europe/Prague
BEGIN:DAYLIGHT
TZOFFSETFROM:+0100
TZOFFSETTO:+0200
TZNAME:CEST
DTSTART:20230326T010000
END:DAYLIGHT
BEGIN:STANDARD
TZOFFSETFROM:+0200
TZOFFSETTO:+0100
TZNAME:CET
DTSTART:20231029T010000
END:STANDARD
BEGIN:DAYLIGHT
TZOFFSETFROM:+0100
TZOFFSETTO:+0200
TZNAME:CEST
DTSTART:20240331T010000
END:DAYLIGHT
BEGIN:STANDARD
TZOFFSETFROM:+0200
TZOFFSETTO:+0100
TZNAME:CET
DTSTART:20241027T010000
END:STANDARD
BEGIN:DAYLIGHT
TZOFFSETFROM:+0100
TZOFFSETTO:+0200
TZNAME:CEST
DTSTART:20250330T010000
END:DAYLIGHT
BEGIN:STANDARD
TZOFFSETFROM:+0200
TZOFFSETTO:+0100
TZNAME:CET
DTSTART:20251026T010000
END:STANDARD
END:VTIMEZONE
BEGIN:VEVENT
DTSTART;TZID=Europe/Prague:20240625T170000
DTEND;TZID=Europe/Prague:20240625T230000
DTSTAMP:20260421T231444
CREATED:20240611T170025Z
LAST-MODIFIED:20250712T143904Z
UID:6738-1719334800-1719356400@kpsmichov.cz
SUMMARY:OHEŇ\, HUDBA\, ANIMÁKY
DESCRIPTION:je naše červnová sousedská ideálka !\n \n \nNež zmizíte z Prahy někam k vodě\, stavte se za náma.Není to fesťák na tři dny\, jen prostě navečer zajdete na pivo-limo se sousedy + k tomu bude:\n \n \nOHEŇ— za nás budou trdla na slano(kynuté těsto opékané na klacku/ slanina\, sýr)+ doneste VLASTNÍ suroviny na opékání\nVENKOVNÍ HRY— fotbálek\, dětský kout a tak\n16:30 \nVýtvarný WORKSHOP (5+)— který stojí za to!— vede ilustrátorka Anya Kovtun\n18:00 \nzahrají JAZZAPLES\n— pražská kapela se zálibou v jazzu\n19:00 \npromítneme ANIMATURY— animované mini filmy Jihlavské SUŠG+ snad aj ta diskuze s tvůrci\n20:30 \nSLAM POETRY— top slamerka Mirka Sablíková\n21:00 \nzahrají FUNGO MONTO— kapela\, kterou naše pódium už dobře zná!\n \nVSTUP DOBROVOLNÝZVÁNI VŠICHNIjo a další sousedská bude až v září\n 
URL:https://kpsmichov.cz/program/ohen-hudba-animaky/
CATEGORIES:Sousedská setkání
END:VEVENT
END:VCALENDAR