BEGIN:VCALENDAR
VERSION:2.0
PRODID:-//Komunitní prostor Smíchov - ECPv6.15.20//NONSGML v1.0//EN
CALSCALE:GREGORIAN
METHOD:PUBLISH
X-WR-CALNAME:Komunitní prostor Smíchov
X-ORIGINAL-URL:https://kpsmichov.cz
X-WR-CALDESC:Akce na Komunitní prostor Smíchov
REFRESH-INTERVAL;VALUE=DURATION:PT1H
X-Robots-Tag:noindex
X-PUBLISHED-TTL:PT1H
BEGIN:VTIMEZONE
TZID:Europe/Prague
BEGIN:DAYLIGHT
TZOFFSETFROM:+0100
TZOFFSETTO:+0200
TZNAME:CEST
DTSTART:20240331T010000
END:DAYLIGHT
BEGIN:STANDARD
TZOFFSETFROM:+0200
TZOFFSETTO:+0100
TZNAME:CET
DTSTART:20241027T010000
END:STANDARD
BEGIN:DAYLIGHT
TZOFFSETFROM:+0100
TZOFFSETTO:+0200
TZNAME:CEST
DTSTART:20250330T010000
END:DAYLIGHT
BEGIN:STANDARD
TZOFFSETFROM:+0200
TZOFFSETTO:+0100
TZNAME:CET
DTSTART:20251026T010000
END:STANDARD
BEGIN:DAYLIGHT
TZOFFSETFROM:+0100
TZOFFSETTO:+0200
TZNAME:CEST
DTSTART:20260329T010000
END:DAYLIGHT
BEGIN:STANDARD
TZOFFSETFROM:+0200
TZOFFSETTO:+0100
TZNAME:CET
DTSTART:20261025T010000
END:STANDARD
END:VTIMEZONE
BEGIN:VEVENT
DTSTART;TZID=Europe/Prague:20250621T193000
DTEND;TZID=Europe/Prague:20250621T210000
DTSTAMP:20260421T161236
CREATED:20250527T170341Z
LAST-MODIFIED:20250712T112942Z
UID:8471-1750534200-1750539600@kpsmichov.cz
SUMMARY:Koncert VOICES OF PRAGUE: Now That’s What I Call Music! 1920–2010
DESCRIPTION:Koncert sboru Voices of Prague: Now That’s What I Call Music! 1920–2010\nVoices of Prague není jenom pěvecký sbor\, je to mezinárodní komunita lidí\, složená z 20 různých národností\, které spojuje láska k hudbě a to\, že našli domov v srdci Prahy. Jejich tvorba překračuje hranice jazyků i kultur. Na tomto koncertě Voices of Prague představí svůj zbrusu nový repertoár\, který je plný ikonických filmových písní. Ale pozor\, nečekejte\, že uslyšíte tyto skladby tak\, jak jste je znali! Připravte se na dobrodružství světem filmové hudby\, které znáte\, ale přesto budou znít jako nikdy předtím.\n\nVstupné: 300 Kč dospělí\, zvýhodněné 200 Kč děti 3–10 let\n\nVíce o sboru: https://www.facebook.com/profile.php?id=100092565344032\n\n\n\n Concert by the international choir Voices of Prague\n.\nNow That’s What I Call Music! 1920–2010\n.\n Saturday\, June 21 at 7:30 PM Komunitní prostor Smíchov (Na Doubkové 2040/8)\, Prague 5 Suggested donation: 300 CZK (adults) / 200 CZK (children aged 3–10)\nCome join us for a feel-good evening full of music and joy!Let the Voices of Prague lift your spirits with iconic songs from every decade — from vintage swing to modern pop hits — all performed a cappella.\n Reservations via email:\nevents.voicesofprague@gmail.com\nPlease include in your reservation request:\nnumber + type of tickets: Full price (300 CZK) or Reduced (200 CZK)\nName for the reservation\n Tickets are to be paid (cash only)\, at the venue before the concert.\n\n\n Feel the joy\, sing along\, and let the music make you smile!
URL:https://kpsmichov.cz/program/koncert-voices-of-prague-2/
LOCATION:Chrám\, Komunitní prostor Smíchov Na Doubkové 8\, Praha 5\, kraj hlavní město praha\, 150 00\, Česká republika
CATEGORIES:Kultura v prostoru
ATTACH;FMTTYPE=image/jpeg:https://kpsmichov.cz/wp-content/uploads/2025/05/497893612_626810920414414_85862303508124167_n.jpg
END:VEVENT
END:VCALENDAR