BEGIN:VCALENDAR
VERSION:2.0
PRODID:-//Komunitní prostor Smíchov - ECPv6.15.20//NONSGML v1.0//EN
CALSCALE:GREGORIAN
METHOD:PUBLISH
X-WR-CALNAME:Komunitní prostor Smíchov
X-ORIGINAL-URL:https://kpsmichov.cz
X-WR-CALDESC:Akce na Komunitní prostor Smíchov
REFRESH-INTERVAL;VALUE=DURATION:PT1H
X-Robots-Tag:noindex
X-PUBLISHED-TTL:PT1H
BEGIN:VTIMEZONE
TZID:Europe/Prague
BEGIN:DAYLIGHT
TZOFFSETFROM:+0100
TZOFFSETTO:+0200
TZNAME:CEST
DTSTART:20240331T010000
END:DAYLIGHT
BEGIN:STANDARD
TZOFFSETFROM:+0200
TZOFFSETTO:+0100
TZNAME:CET
DTSTART:20241027T010000
END:STANDARD
BEGIN:DAYLIGHT
TZOFFSETFROM:+0100
TZOFFSETTO:+0200
TZNAME:CEST
DTSTART:20250330T010000
END:DAYLIGHT
BEGIN:STANDARD
TZOFFSETFROM:+0200
TZOFFSETTO:+0100
TZNAME:CET
DTSTART:20251026T010000
END:STANDARD
BEGIN:DAYLIGHT
TZOFFSETFROM:+0100
TZOFFSETTO:+0200
TZNAME:CEST
DTSTART:20260329T010000
END:DAYLIGHT
BEGIN:STANDARD
TZOFFSETFROM:+0200
TZOFFSETTO:+0100
TZNAME:CET
DTSTART:20261025T010000
END:STANDARD
END:VTIMEZONE
BEGIN:VEVENT
DTSTART;TZID=Europe/Prague:20251010T200000
DTEND;TZID=Europe/Prague:20251010T210000
DTSTAMP:20260421T055521
CREATED:20250919T180636Z
LAST-MODIFIED:20250919T180636Z
UID:8931-1760126400-1760130000@kpsmichov.cz
SUMMARY:KMENY – Jakub Rataj & Kateřina Stupecká
DESCRIPTION:Jakub Rataj & Kateřina Stupecká\nKMENY\nDosahování něčeho\, co nás převyšuje. Co visí\, daleko nad námi\, čeho se nemůžeme dotknout\, co nám\nnepřísluší. Cítíme to\, a proto jsme. Směřujeme. Pečujeme a jsme vděční. Víc nemusíme. \n200–300 Kč\nVSTUPENKY a více o umělcích: GoOut \nFB událost: https://fb.me/e/91bOiHK0M \n______________________________________ \nÓda na víru \nDívej se mi do očí\, tak poznáš\, kdo jsem.\nDotýkej se mě\, tak poznáš\, co cítím.\nMluv na mě\, tak poznáš\, co prožívám.\nBuď součástí mého prostoru.\nDoplňuj ho\, když se ztrácím\, drž mě\, když se propadám.\nJá ti dám svou lásku a soucit. Provedu tě svou zahradou. \nTaneční kantáta za živé – původní taneční představení\, které vzniká v hudebně-choreografické spolupráci.\nVýchozím impulsem pro tanec je žánr hudební kantáty propojující ódu\, árii\, lamentaci a chorál.\nChoreografie: Kateřina Stupecká\nPůvodní hudba: Jakub Rataj\nSpoluautor a interpret varhanní skladby: Vojtěch Frei\nKostýmy: Mariana Novotná\nSvětelný design: František Fabián\nIdea\, kurátor a produkce projektu: Honza Malík & PULSAR z. s.\nTvorba a tanec: Kateřina Bártů\, Nela Bednářová\, Rozálie Červová\, Viktorie Froňková\, Jan Dvořáček\, Ester\nKroutilová\, Karolína Kuklová\, Olívie Skaunicová\, Miroslava Sýkorová\, Ollie Zabystrzan \n  \nKoproducent: Komunitní prostor Smíchov\nZa podpory: Hl. m. Praha\, MK ČR\, ALT@ART z. ú.\, Atelier Antonie\, TE-MA Atelier\, Studio Dance Perfect\, Nová síť z. s.\, Balada SITE\nPoděkování: Jakub Šandera\, Tereza Krčálová\, Duncan Centre\, Terezie Dvořáková\, Antonie Svobodová\, Romana Maliti Štorková\, Šárka Zahálková\, Michal Nikodem\, rodina Stupeckých a rodina Vrbíkova\, Michaela Cajthamlová\, Jiří Jiráček\, Jakub Urban\, Vojtěch Brtnický \n\nZ tisku:\n„Z choreografického rukopisu Stupecké je zřetelný duch Duncanu\, prostupuje její choreografii\, ústřední ideu inscenace\, myšlenku přijetí či vydělení na základě upřímného poznání sebe sama: nikdo se pro ztvárnění ústřední postavy a jejího příběhu nehodí více než právě Ollie Zabystrzan. (…) V jeho uchvacujícím\, zlatě podbarveném sólu se opakují amplitudy\, na něž začínají příslušníci „kmene“ reagovat\, a především reagují na Zabystrzana: Nyní už jako diváci víme\, že jeho kostým záměrně odhaluje jizvy\, které ukazuje jako novodobý Kristus. (…) A takový je Zabystrzan\, jenž stojí jako ohnivý cherubín mezi „kmeny“\, a přináší zcela nové evangelium fluidní krásy.“ Tomáš Kubart\, 12. 11. 2024\, Operaplus.cz (článek Evangelium podle Agdistis. Kmeny Pulsaru)\nCelá recenze: https://operaplus.cz/evangelium-podle-agdistis-kmeny-pulsaru/ \n„…Evangelický kostel prozářila premiéra inscenace. Pulsar naservíroval performanci na zlatavém podnose s duchovním přesahem. Všechny složky od hudby až po kostýmy byly třpytivou ódou nejen na tanec\, ale i na umění a víru…“ Aneta Krejčík Plšková\, 18. 11. 2024\, Dancecontext.cz (článek Kmeny jsou blyštivou tečkou za platformou Pulsar)\nCelá recenze: https://www.tanecniaktuality.cz/recenze/kmeny-jsou-blystivou-teckou-za-platformou-pulsar-v-sakralnim-prostoru-a-s-duchovnim-presahem
URL:https://kpsmichov.cz/program/kmeny-jakub-rataj-katerina-stupecka/
LOCATION:Chrám\, Komunitní prostor Smíchov Na Doubkové 8\, Praha 5\, kraj hlavní město praha\, 150 00\, Česká republika
CATEGORIES:Kultura v prostoru
ATTACH;FMTTYPE=image/jpeg:https://kpsmichov.cz/wp-content/uploads/2025/09/547310232_1374118034720838_1601977168871385183_n.jpg
END:VEVENT
END:VCALENDAR