BEGIN:VCALENDAR
VERSION:2.0
PRODID:-//Komunitní prostor Smíchov - ECPv6.15.20//NONSGML v1.0//EN
CALSCALE:GREGORIAN
METHOD:PUBLISH
X-WR-CALNAME:Komunitní prostor Smíchov
X-ORIGINAL-URL:https://kpsmichov.cz
X-WR-CALDESC:Akce na Komunitní prostor Smíchov
REFRESH-INTERVAL;VALUE=DURATION:PT1H
X-Robots-Tag:noindex
X-PUBLISHED-TTL:PT1H
BEGIN:VTIMEZONE
TZID:Europe/Prague
BEGIN:DAYLIGHT
TZOFFSETFROM:+0100
TZOFFSETTO:+0200
TZNAME:CEST
DTSTART:20220327T010000
END:DAYLIGHT
BEGIN:STANDARD
TZOFFSETFROM:+0200
TZOFFSETTO:+0100
TZNAME:CET
DTSTART:20221030T010000
END:STANDARD
BEGIN:DAYLIGHT
TZOFFSETFROM:+0100
TZOFFSETTO:+0200
TZNAME:CEST
DTSTART:20230326T010000
END:DAYLIGHT
BEGIN:STANDARD
TZOFFSETFROM:+0200
TZOFFSETTO:+0100
TZNAME:CET
DTSTART:20231029T010000
END:STANDARD
BEGIN:DAYLIGHT
TZOFFSETFROM:+0100
TZOFFSETTO:+0200
TZNAME:CEST
DTSTART:20240331T010000
END:DAYLIGHT
BEGIN:STANDARD
TZOFFSETFROM:+0200
TZOFFSETTO:+0100
TZNAME:CET
DTSTART:20241027T010000
END:STANDARD
END:VTIMEZONE
BEGIN:VEVENT
DTSTART;TZID=Europe/Prague:20230923T180000
DTEND;TZID=Europe/Prague:20230923T233000
DTSTAMP:20260421T042732
CREATED:20230816T123127Z
LAST-MODIFIED:20240503T205423Z
UID:4761-1695492000-1695511800@kpsmichov.cz
SUMMARY:Jeden rok věčnosti
DESCRIPTION:🎉🍰 JEDEN ROK VĚČNOSTI 🎂🎈 \n  \n📅 Datum: 23. 9. 2023 \n⏰ Čas: 18:00 – 00:00 \n🏠 Místo: Kavárna na Věky (Na Doubkové 8) \n  \nVážení hosté a přátelé\, \nKavárna má přesně 1 rok! Přijďte s námi oslavit její narozeniny! \nCo na vás čeká? \n🎶 Koncerty: Během večera se můžete těsit na skvělou hudbu a koncerty. \n🍔🍹 Jídlo a Pití: Naše kavárna není jen o kávě\, ale také o výborném jídle a nápojích. \n#NarozeninyKavárny #JedenRokVěčnosti
URL:https://kpsmichov.cz/program/jeden-rok-vecnosti/
CATEGORIES:Sousedská setkání
ATTACH;FMTTYPE=image/png:https://kpsmichov.cz/wp-content/uploads/2023/08/kavarna.png
END:VEVENT
END:VCALENDAR