BEGIN:VCALENDAR
VERSION:2.0
PRODID:-//Komunitní prostor Smíchov - ECPv6.15.20//NONSGML v1.0//EN
CALSCALE:GREGORIAN
METHOD:PUBLISH
X-WR-CALNAME:Komunitní prostor Smíchov
X-ORIGINAL-URL:https://kpsmichov.cz
X-WR-CALDESC:Akce na Komunitní prostor Smíchov
REFRESH-INTERVAL;VALUE=DURATION:PT1H
X-Robots-Tag:noindex
X-PUBLISHED-TTL:PT1H
BEGIN:VTIMEZONE
TZID:Europe/Prague
BEGIN:DAYLIGHT
TZOFFSETFROM:+0100
TZOFFSETTO:+0200
TZNAME:CEST
DTSTART:20230326T010000
END:DAYLIGHT
BEGIN:STANDARD
TZOFFSETFROM:+0200
TZOFFSETTO:+0100
TZNAME:CET
DTSTART:20231029T010000
END:STANDARD
BEGIN:DAYLIGHT
TZOFFSETFROM:+0100
TZOFFSETTO:+0200
TZNAME:CEST
DTSTART:20240331T010000
END:DAYLIGHT
BEGIN:STANDARD
TZOFFSETFROM:+0200
TZOFFSETTO:+0100
TZNAME:CET
DTSTART:20241027T010000
END:STANDARD
BEGIN:DAYLIGHT
TZOFFSETFROM:+0100
TZOFFSETTO:+0200
TZNAME:CEST
DTSTART:20250330T010000
END:DAYLIGHT
BEGIN:STANDARD
TZOFFSETFROM:+0200
TZOFFSETTO:+0100
TZNAME:CET
DTSTART:20251026T010000
END:STANDARD
END:VTIMEZONE
BEGIN:VEVENT
DTSTART;TZID=Europe/Prague:20241114T180000
DTEND;TZID=Europe/Prague:20241114T210000
DTSTAMP:20260421T043607
CREATED:20241022T113422Z
LAST-MODIFIED:20250712T145600Z
UID:7539-1731607200-1731618000@kpsmichov.cz
SUMMARY:Cyklus koncertů 6na5: Trio d'Anches
DESCRIPTION:Srdečně zveme na třetí koncert druhého ročníku Šest na Pětce.\n18:00/ entrée s moderátorem Jiřím Slabihoudkem\n19:00/ koncert\n    .\n\nTrio d’Anches\, složený z vynikajících sólových a komorních hráčů:\nJan Souček je laureátem několika mezinárodních soutěží – Pražské jaro 2008 (3. cena) a Lodž 2005 (1. cena)\, semifinalista mezinárodní soutěže v Ženevě (2010) a japonské Kuruizawě (2006). V roce 2001 byl členem Gustav Mahler Jugendorchester. Od roku 2006 působí jako hobojista PKF — Prague Philharmonia a v současné době též v orchestru Státní opery.\nAnna Paulová získala 2. cenu a titul laureáta na Mezinárodní hudební soutěži Pražské jaro v květnu 2015\, kde získala ještě řadu zvláštních ocenění\, dále 1. cena a titul laureáta na Soutěži Nadace Bohuslava Martinů 2016\, kde získala také Cenu Nadace Život Umělce pro nejúspěšnějšího účastníka soutěže. Jako sólistka vystoupila s řadou domácích i zahraničních orchestrů. V letošním roce získala ocenění.\nOndřej Šindelář vystudoval Hochschule für Musik ve švýcarské Basileji ve třídě italského fagotisty Sergia Azzoliniho a později pokračoval ve studiích staré hudby a historických nástrojů na Schola Cantorum Basiliensis.\n    .\n\n\nProgram: \n\nBohuslav Martinů: Čtyři madrigaly\nKlement Slavický: Trio pro hoboj\, klarinet a fagot\nJiří Teml: Kolokvia – Pět krátkých skladeb pro hoboj\, klarinet a fagot\nErwin Schulhoff: Divertissement\n\n\n\n\n     . \nJiří Slabihoudek je hudební publicista a knihovník. Jako externí redaktor spolupracuje s Českým rozhlasem\, jeho texty se objevily v médiích a časopisech jako Aktuálně.cz\, Harmonie\, HIS Voice\, Hospodářské noviny\, kulturní čtrnáctideník A2 a dalších. Nejčastěji píše o soudobé vážné hudbě\, ale občas si dovolí nějakou tu výpravu do světa popkultury. \nPředprodej vstupenek na portálu GoOut\, základní vstupné 300 Kč\, zvýhodněné 180/100 Kč \nNa celý koncertní cyklus si lze pořídit abonmá\, které zahrnuje výhodnější cenu a garantované místo v chrámu na všech šesti koncertech a doprovodném programu. Cena abonmá na všechny koncerty: 1800 Kč /Studenti\, senioři\, ZTP a ZTP/P 1000 Kč / žáci a studenti hudebních škol 600 Kč. \nS velkou vděčností děkujeme všem partnerům a podporovatelům:\nMinisterstvo kultury ČR (Smetana 200\, Rok české hudby)\, Městská část Praha 5\, Ochranný svaz autorský\, Státní fond kultury a Českobratrské církvi evangelické
URL:https://kpsmichov.cz/program/cyklus-koncertu-sest-na-petce-trio-danches/
LOCATION:Chrám\, Komunitní prostor Smíchov Na Doubkové 8\, Praha 5\, kraj hlavní město praha\, 150 00\, Česká republika
CATEGORIES:Kultura v prostoru
ATTACH;FMTTYPE=image/png:https://kpsmichov.cz/wp-content/uploads/2024/10/6na5_plakat_14.11.Trio-dAnches.png
END:VEVENT
END:VCALENDAR