BEGIN:VCALENDAR
VERSION:2.0
PRODID:-//Komunitní prostor Smíchov - ECPv6.15.20//NONSGML v1.0//EN
CALSCALE:GREGORIAN
METHOD:PUBLISH
X-WR-CALNAME:Komunitní prostor Smíchov
X-ORIGINAL-URL:https://kpsmichov.cz
X-WR-CALDESC:Akce na Komunitní prostor Smíchov
REFRESH-INTERVAL;VALUE=DURATION:PT1H
X-Robots-Tag:noindex
X-PUBLISHED-TTL:PT1H
BEGIN:VTIMEZONE
TZID:Europe/Prague
BEGIN:DAYLIGHT
TZOFFSETFROM:+0100
TZOFFSETTO:+0200
TZNAME:CEST
DTSTART:20220327T010000
END:DAYLIGHT
BEGIN:STANDARD
TZOFFSETFROM:+0200
TZOFFSETTO:+0100
TZNAME:CET
DTSTART:20221030T010000
END:STANDARD
BEGIN:DAYLIGHT
TZOFFSETFROM:+0100
TZOFFSETTO:+0200
TZNAME:CEST
DTSTART:20230326T010000
END:DAYLIGHT
BEGIN:STANDARD
TZOFFSETFROM:+0200
TZOFFSETTO:+0100
TZNAME:CET
DTSTART:20231029T010000
END:STANDARD
BEGIN:DAYLIGHT
TZOFFSETFROM:+0100
TZOFFSETTO:+0200
TZNAME:CEST
DTSTART:20240331T010000
END:DAYLIGHT
BEGIN:STANDARD
TZOFFSETFROM:+0200
TZOFFSETTO:+0100
TZNAME:CET
DTSTART:20241027T010000
END:STANDARD
END:VTIMEZONE
BEGIN:VEVENT
DTSTART;TZID=Europe/Prague:20231009T180000
DTEND;TZID=Europe/Prague:20231009T210000
DTSTAMP:20260421T060845
CREATED:20230928T155555Z
LAST-MODIFIED:20250712T145445Z
UID:4984-1696874400-1696885200@kpsmichov.cz
SUMMARY:Cyklus koncertů Šest na pětce: Trigonum Musicum
DESCRIPTION:koncert klasické hudby / chrám / vstupenky na portálu GoOut \nDruhý z cyklu komorních koncertů “Šest na pětce” \nTrigonum Musicum: David Prosek\, Lydie Härtelová a Jan Keller \nSoubor Trigonum musicum má v repertoáru skladby od baroka až po současnou tvorbu\, hudbu tzv. „vážnou“\, ale také třeba ragtimy \nKoncerty jsou doplněny doprovodným programem: Kavárna loučení – čas na sdílení našich zkušeností s odchodem blízkých\, nutná registrace
URL:https://kpsmichov.cz/program/cyklus-koncertu-sest-na-petce-trigonum-musicum/
LOCATION:Chrám\, Komunitní prostor Smíchov Na Doubkové 8\, Praha 5\, kraj hlavní město praha\, 150 00\, Česká republika
CATEGORIES:Kultura v prostoru
ATTACH;FMTTYPE=image/jpeg:https://kpsmichov.cz/wp-content/uploads/2023/09/sIest-na-peItce-plakaIt-rIiIjen-scaled.jpg
END:VEVENT
END:VCALENDAR