BEGIN:VCALENDAR
VERSION:2.0
PRODID:-//Komunitní prostor Smíchov - ECPv6.15.20//NONSGML v1.0//EN
CALSCALE:GREGORIAN
METHOD:PUBLISH
X-WR-CALNAME:Komunitní prostor Smíchov
X-ORIGINAL-URL:https://kpsmichov.cz
X-WR-CALDESC:Akce na Komunitní prostor Smíchov
REFRESH-INTERVAL;VALUE=DURATION:PT1H
X-Robots-Tag:noindex
X-PUBLISHED-TTL:PT1H
BEGIN:VTIMEZONE
TZID:Europe/Prague
BEGIN:DAYLIGHT
TZOFFSETFROM:+0100
TZOFFSETTO:+0200
TZNAME:CEST
DTSTART:20240331T010000
END:DAYLIGHT
BEGIN:STANDARD
TZOFFSETFROM:+0200
TZOFFSETTO:+0100
TZNAME:CET
DTSTART:20241027T010000
END:STANDARD
BEGIN:DAYLIGHT
TZOFFSETFROM:+0100
TZOFFSETTO:+0200
TZNAME:CEST
DTSTART:20250330T010000
END:DAYLIGHT
BEGIN:STANDARD
TZOFFSETFROM:+0200
TZOFFSETTO:+0100
TZNAME:CET
DTSTART:20251026T010000
END:STANDARD
BEGIN:DAYLIGHT
TZOFFSETFROM:+0100
TZOFFSETTO:+0200
TZNAME:CEST
DTSTART:20260329T010000
END:DAYLIGHT
BEGIN:STANDARD
TZOFFSETFROM:+0200
TZOFFSETTO:+0100
TZNAME:CET
DTSTART:20261025T010000
END:STANDARD
END:VTIMEZONE
BEGIN:VEVENT
DTSTART;TZID=Europe/Prague:20251002T190000
DTEND;TZID=Europe/Prague:20251002T210000
DTSTAMP:20260421T043347
CREATED:20250919T171848Z
LAST-MODIFIED:20250919T212246Z
UID:8909-1759431600-1759438800@kpsmichov.cz
SUMMARY:Cyklus 6na5: Navždy tvůj Mozart
DESCRIPTION:Srdečně zveme na zahajovací koncert třetího ročníku Šest na pětce (6 koncertů klasické hudby na Praze 5). Tento hudebně-literární večer bude věnovaný osobnosti W. A. Mozarta. Jeho život\, hudbu a lásku s milovanou ženou dokresluje četba jeho dopisů v mluveném slově Lukáše Hurníka. Učinkují Bronislava Smržová Tomanová (soprán) a Ahmad Hedar  (klavír a zpěv).\nVstupenky v prodeji: https://goout.net/…/sest-na-petce-navzdy-tvuj…/szyxqvx/\nvstupné základní 400 Kč/ zvýhodněné 240/200 Kč \n\nNa celý koncertní cyklus si lze pořídit abonmá\, které zahrnuje výhodnější cenu a garantované místo v chrámu na všech šesti koncertech a doprovodném programu. Cena abonmá na všechny koncerty: 1800 Kč / studenti\, senioři\, ZTP a ZTP/P 1000 Kč / žáci a studenti hudebních škol 600 Kč.\n___________________________________________________________\nProgram:\n\nW. A. Mozart: Rondo D dur pro flétnu a klavír K. 184\nW. A. Mozart: Moteto Exsultate jubilate K. 165 (1. a 4. část)\n\nExsultate jubilate\nAlleluja\n\n\nW. A. Mozart: Et incarnatus est – z Velká mše c moll 427/417a\n\npřestávka \n\nW. A. Mozart: Klavírní sonáta C dur K.330 – 1. věta\nW. A. Mozart: Duet Zuzanky a Figara z opery Figarova svatba „Cinque\, dieci“\nW. A. Mozart: Árie Donny Anny z opery Don Giovanni – „Crudele! Ah no\, mio bene! Non mi dir bell’idol mio“\nW. A. Mozart: Duet Papageny a Papagena z opery Kouzelná flétna\nW. A. Mozart: Lacrimoso son io K. 555\n\n\nDěkujeme všem partnerům a podporovatelům.\nAkce se uskuteční za finanční podpory Městské části Praha 5\, Ochranného svazu autorského\, Státního fondu kultury a Českobratrské církve evangelické.
URL:https://kpsmichov.cz/program/cyklus-6na5-mozart/
LOCATION:Chrám\, Komunitní prostor Smíchov Na Doubkové 8\, Praha 5\, kraj hlavní město praha\, 150 00\, Česká republika
CATEGORIES:Kultura v prostoru
ATTACH;FMTTYPE=image/jpeg:https://kpsmichov.cz/wp-content/uploads/2025/09/503524901_517521878111702_1216477658072432102_n.jpg
END:VEVENT
END:VCALENDAR