BEGIN:VCALENDAR
VERSION:2.0
PRODID:-//Komunitní prostor Smíchov - ECPv6.15.20//NONSGML v1.0//EN
CALSCALE:GREGORIAN
METHOD:PUBLISH
X-WR-CALNAME:Komunitní prostor Smíchov
X-ORIGINAL-URL:https://kpsmichov.cz
X-WR-CALDESC:Akce na Komunitní prostor Smíchov
REFRESH-INTERVAL;VALUE=DURATION:PT1H
X-Robots-Tag:noindex
X-PUBLISHED-TTL:PT1H
BEGIN:VTIMEZONE
TZID:Europe/Prague
BEGIN:DAYLIGHT
TZOFFSETFROM:+0100
TZOFFSETTO:+0200
TZNAME:CEST
DTSTART:20240331T010000
END:DAYLIGHT
BEGIN:STANDARD
TZOFFSETFROM:+0200
TZOFFSETTO:+0100
TZNAME:CET
DTSTART:20241027T010000
END:STANDARD
BEGIN:DAYLIGHT
TZOFFSETFROM:+0100
TZOFFSETTO:+0200
TZNAME:CEST
DTSTART:20250330T010000
END:DAYLIGHT
BEGIN:STANDARD
TZOFFSETFROM:+0200
TZOFFSETTO:+0100
TZNAME:CET
DTSTART:20251026T010000
END:STANDARD
BEGIN:DAYLIGHT
TZOFFSETFROM:+0100
TZOFFSETTO:+0200
TZNAME:CEST
DTSTART:20260329T010000
END:DAYLIGHT
BEGIN:STANDARD
TZOFFSETFROM:+0200
TZOFFSETTO:+0100
TZNAME:CET
DTSTART:20261025T010000
END:STANDARD
END:VTIMEZONE
BEGIN:VEVENT
DTSTART;TZID=Europe/Prague:20251016T190000
DTEND;TZID=Europe/Prague:20251016T210000
DTSTAMP:20260421T043312
CREATED:20250919T173629Z
LAST-MODIFIED:20250919T211907Z
UID:8918-1760641200-1760648400@kpsmichov.cz
SUMMARY:Cyklus 6na5: Jiří Kabát & Daniel Jun
DESCRIPTION:Srdečně zveme na druhý koncert třetího ročníku Šest na pětce (6 koncertů klasické hudby na Praze 5). Učinkují Jiří Kabát (viola) a Daniel Jun (klavír).\nVstupenky v prodeji: https://goout.net/cs/sest-na-petce-jiri-kabat-and-daniel-jun/sziyqvx/\nvstupné základní 300 Kč/zvýhodněné 180/150 Kč \n\nNa celý koncertní cyklus si lze pořídit abonmá\, které zahrnuje výhodnější cenu a garantované místo v chrámu na všech šesti koncertech a doprovodném programu. Cena abonmá na všechny koncerty: 1800 Kč / studenti\, senioři\, ZTP a ZTP/P 1000 Kč / žáci a studenti hudebních škol 600 Kč.\n___________________________________________________________\nProgram:\n\nJ. S. Bach: Chaconne d moll\nL. Vierne: Dva kusy pro violu a klavír (I. Večer\, II. Legenda)\nE. Grieg: Svatební den v Troldhaugenu\nJ. Kabát: Meditace nad chorálem Salve Regina\npřestávka\nA. Dvořák: Sonatina op. 100 „Mým dětem“\nFritz Kreisler: Preludium a Allegro\n\n\nDěkujeme všem partnerům a podporovatelům.\nAkce se uskuteční za finanční podpory Městské části Praha 5\, Ochranného svazu autorského\, Státního fondu kultury a Českobratrské církve evangelické.\n___________________________________________________________\n\nJiří Kabát studoval Pražskou konzervatoř a Royal Conservatoire of Scotland. Jako sólista\, dirigent nebo aranžér a skladatel spolupracoval s většinou tuzemských orchestrů. Je držitelem cen z mezinárodních soutěží a získal i další ocenění a stipendia jako např. Classic Prague Award\, Governor’s Prize\, Tillett Trust Bursary a další. \nDaniel Jun studoval klavírní hru na Konzervatoři P. J. Vejvanovského v Kroměříži ve třídě MgA. Vandy Jandové v letech 2006–2012. V dubnu 2012 absolvoval konzervatoř klavírním koncertem č. 1 Es dur Ference Liszta za doprovodu Symfonického orchestru Konzervatoře P. J. Vejvanovského pod taktovkou MgA. Viktora Kozánka. V létě 2018 absolvoval HF JAMU v Brně završením magisterského dvojitého oboru Hra na klavír a klavírní pedagogika.
URL:https://kpsmichov.cz/program/cyklus-6na5-kabat-jun/
LOCATION:Chrám\, Komunitní prostor Smíchov Na Doubkové 8\, Praha 5\, kraj hlavní město praha\, 150 00\, Česká republika
CATEGORIES:Kultura v prostoru
ATTACH;FMTTYPE=image/jpeg:https://kpsmichov.cz/wp-content/uploads/2025/09/506055887_517598684770688_982994926801120424_n.jpg
END:VEVENT
END:VCALENDAR