BEGIN:VCALENDAR
VERSION:2.0
PRODID:-//Komunitní prostor Smíchov - ECPv6.15.20//NONSGML v1.0//EN
CALSCALE:GREGORIAN
METHOD:PUBLISH
X-ORIGINAL-URL:https://kpsmichov.cz
X-WR-CALDESC:Akce na Komunitní prostor Smíchov
REFRESH-INTERVAL;VALUE=DURATION:PT1H
X-Robots-Tag:noindex
X-PUBLISHED-TTL:PT1H
BEGIN:VTIMEZONE
TZID:Europe/Prague
BEGIN:DAYLIGHT
TZOFFSETFROM:+0100
TZOFFSETTO:+0200
TZNAME:CEST
DTSTART:20240331T010000
END:DAYLIGHT
BEGIN:STANDARD
TZOFFSETFROM:+0200
TZOFFSETTO:+0100
TZNAME:CET
DTSTART:20241027T010000
END:STANDARD
BEGIN:DAYLIGHT
TZOFFSETFROM:+0100
TZOFFSETTO:+0200
TZNAME:CEST
DTSTART:20250330T010000
END:DAYLIGHT
BEGIN:STANDARD
TZOFFSETFROM:+0200
TZOFFSETTO:+0100
TZNAME:CET
DTSTART:20251026T010000
END:STANDARD
BEGIN:DAYLIGHT
TZOFFSETFROM:+0100
TZOFFSETTO:+0200
TZNAME:CEST
DTSTART:20260329T010000
END:DAYLIGHT
BEGIN:STANDARD
TZOFFSETFROM:+0200
TZOFFSETTO:+0100
TZNAME:CET
DTSTART:20261025T010000
END:STANDARD
BEGIN:DAYLIGHT
TZOFFSETFROM:+0100
TZOFFSETTO:+0200
TZNAME:CEST
DTSTART:20270328T010000
END:DAYLIGHT
BEGIN:STANDARD
TZOFFSETFROM:+0200
TZOFFSETTO:+0100
TZNAME:CET
DTSTART:20271031T010000
END:STANDARD
END:VTIMEZONE
BEGIN:VEVENT
DTSTART;TZID=Europe/Prague:20260414T190000
DTEND;TZID=Europe/Prague:20260414T220000
DTSTAMP:20260421T150715
CREATED:20251001T112629Z
LAST-MODIFIED:20260320T230019Z
UID:10006576-1776193200-1776204000@kpsmichov.cz
SUMMARY:Balfolková tancovačka
DESCRIPTION:Jednoduché a zábavné tance z celé Evropy\, kolové\, řetězové i párové. Nepotřebujete partnera\, speciální obutí ani předchozí taneční zkušenosti.  \nVíce informací na www.balfolk.cz \nVede: Martin Ozzy Chlebek \nDoporučené vstupné: 150 Kč \n  \nAktivita je finančně podpořena MČ Praha 5.
URL:https://kpsmichov.cz/program/balfolkova-tancovacka-2/2026-04-14/
LOCATION:Chrám\, Komunitní prostor Smíchov Na Doubkové 8\, Praha 5\, kraj hlavní město praha\, 150 00\, Česká republika
CATEGORIES:Taneční aktivity
ATTACH;FMTTYPE=image/png:https://kpsmichov.cz/wp-content/uploads/2024/03/balfolk-1.png
ORGANIZER;CN="Martin Ozzy Chlebek":MAILTO:balfolk@balfolk.cz
END:VEVENT
BEGIN:VEVENT
DTSTART;TZID=Europe/Prague:20260407T190000
DTEND;TZID=Europe/Prague:20260407T220000
DTSTAMP:20260421T150715
CREATED:20251001T112629Z
LAST-MODIFIED:20260320T230019Z
UID:10006575-1775588400-1775599200@kpsmichov.cz
SUMMARY:Balfolková tancovačka
DESCRIPTION:Jednoduché a zábavné tance z celé Evropy\, kolové\, řetězové i párové. Nepotřebujete partnera\, speciální obutí ani předchozí taneční zkušenosti.  \nVíce informací na www.balfolk.cz \nVede: Martin Ozzy Chlebek \nDoporučené vstupné: 150 Kč \n  \nAktivita je finančně podpořena MČ Praha 5.
URL:https://kpsmichov.cz/program/balfolkova-tancovacka-2/2026-04-07/
LOCATION:Chrám\, Komunitní prostor Smíchov Na Doubkové 8\, Praha 5\, kraj hlavní město praha\, 150 00\, Česká republika
CATEGORIES:Taneční aktivity
ATTACH;FMTTYPE=image/png:https://kpsmichov.cz/wp-content/uploads/2024/03/balfolk-1.png
ORGANIZER;CN="Martin Ozzy Chlebek":MAILTO:balfolk@balfolk.cz
END:VEVENT
BEGIN:VEVENT
DTSTART;TZID=Europe/Prague:20260331T190000
DTEND;TZID=Europe/Prague:20260331T220000
DTSTAMP:20260421T150715
CREATED:20251001T112629Z
LAST-MODIFIED:20260320T230019Z
UID:10006530-1774983600-1774994400@kpsmichov.cz
SUMMARY:Balfolková tancovačka
DESCRIPTION:Jednoduché a zábavné tance z celé Evropy\, kolové\, řetězové i párové. Nepotřebujete partnera\, speciální obutí ani předchozí taneční zkušenosti.  \nVíce informací na www.balfolk.cz \nVede: Martin Ozzy Chlebek \nDoporučené vstupné: 150 Kč \n  \nAktivita je finančně podpořena MČ Praha 5.
URL:https://kpsmichov.cz/program/balfolkova-tancovacka-2/2026-03-31/
LOCATION:Chrám\, Komunitní prostor Smíchov Na Doubkové 8\, Praha 5\, kraj hlavní město praha\, 150 00\, Česká republika
CATEGORIES:Taneční aktivity
ATTACH;FMTTYPE=image/png:https://kpsmichov.cz/wp-content/uploads/2024/03/balfolk-1.png
ORGANIZER;CN="Martin Ozzy Chlebek":MAILTO:balfolk@balfolk.cz
END:VEVENT
BEGIN:VEVENT
DTSTART;TZID=Europe/Prague:20260324T190000
DTEND;TZID=Europe/Prague:20260324T220000
DTSTAMP:20260421T150715
CREATED:20251001T112629Z
LAST-MODIFIED:20260320T230019Z
UID:10006529-1774378800-1774389600@kpsmichov.cz
SUMMARY:Balfolková tancovačka
DESCRIPTION:Jednoduché a zábavné tance z celé Evropy\, kolové\, řetězové i párové. Nepotřebujete partnera\, speciální obutí ani předchozí taneční zkušenosti.  \nVíce informací na www.balfolk.cz \nVede: Martin Ozzy Chlebek \nDoporučené vstupné: 150 Kč \n  \nAktivita je finančně podpořena MČ Praha 5.
URL:https://kpsmichov.cz/program/balfolkova-tancovacka-2/2026-03-24/
LOCATION:Chrám\, Komunitní prostor Smíchov Na Doubkové 8\, Praha 5\, kraj hlavní město praha\, 150 00\, Česká republika
CATEGORIES:Taneční aktivity
ATTACH;FMTTYPE=image/png:https://kpsmichov.cz/wp-content/uploads/2024/03/balfolk-1.png
ORGANIZER;CN="Martin Ozzy Chlebek":MAILTO:balfolk@balfolk.cz
END:VEVENT
BEGIN:VEVENT
DTSTART;TZID=Europe/Prague:20260317T190000
DTEND;TZID=Europe/Prague:20260317T220000
DTSTAMP:20260421T150715
CREATED:20251001T112629Z
LAST-MODIFIED:20260320T230019Z
UID:10006528-1773774000-1773784800@kpsmichov.cz
SUMMARY:Balfolková tancovačka
DESCRIPTION:Jednoduché a zábavné tance z celé Evropy\, kolové\, řetězové i párové. Nepotřebujete partnera\, speciální obutí ani předchozí taneční zkušenosti.  \nVíce informací na www.balfolk.cz \nVede: Martin Ozzy Chlebek \nDoporučené vstupné: 150 Kč \n  \nAktivita je finančně podpořena MČ Praha 5.
URL:https://kpsmichov.cz/program/balfolkova-tancovacka-2/2026-03-17/
LOCATION:Chrám\, Komunitní prostor Smíchov Na Doubkové 8\, Praha 5\, kraj hlavní město praha\, 150 00\, Česká republika
CATEGORIES:Taneční aktivity
ATTACH;FMTTYPE=image/png:https://kpsmichov.cz/wp-content/uploads/2024/03/balfolk-1.png
ORGANIZER;CN="Martin Ozzy Chlebek":MAILTO:balfolk@balfolk.cz
END:VEVENT
BEGIN:VEVENT
DTSTART;TZID=Europe/Prague:20260310T190000
DTEND;TZID=Europe/Prague:20260310T220000
DTSTAMP:20260421T150715
CREATED:20251001T112629Z
LAST-MODIFIED:20260320T230019Z
UID:10006527-1773169200-1773180000@kpsmichov.cz
SUMMARY:Balfolková tancovačka
DESCRIPTION:Jednoduché a zábavné tance z celé Evropy\, kolové\, řetězové i párové. Nepotřebujete partnera\, speciální obutí ani předchozí taneční zkušenosti.  \nVíce informací na www.balfolk.cz \nVede: Martin Ozzy Chlebek \nDoporučené vstupné: 150 Kč \n  \nAktivita je finančně podpořena MČ Praha 5.
URL:https://kpsmichov.cz/program/balfolkova-tancovacka-2/2026-03-10/
LOCATION:Chrám\, Komunitní prostor Smíchov Na Doubkové 8\, Praha 5\, kraj hlavní město praha\, 150 00\, Česká republika
CATEGORIES:Taneční aktivity
ATTACH;FMTTYPE=image/png:https://kpsmichov.cz/wp-content/uploads/2024/03/balfolk-1.png
ORGANIZER;CN="Martin Ozzy Chlebek":MAILTO:balfolk@balfolk.cz
END:VEVENT
BEGIN:VEVENT
DTSTART;TZID=Europe/Prague:20260303T190000
DTEND;TZID=Europe/Prague:20260303T220000
DTSTAMP:20260421T150715
CREATED:20251001T112629Z
LAST-MODIFIED:20260320T230019Z
UID:10006526-1772564400-1772575200@kpsmichov.cz
SUMMARY:Balfolková tancovačka
DESCRIPTION:Jednoduché a zábavné tance z celé Evropy\, kolové\, řetězové i párové. Nepotřebujete partnera\, speciální obutí ani předchozí taneční zkušenosti.  \nVíce informací na www.balfolk.cz \nVede: Martin Ozzy Chlebek \nDoporučené vstupné: 150 Kč \n  \nAktivita je finančně podpořena MČ Praha 5.
URL:https://kpsmichov.cz/program/balfolkova-tancovacka-2/2026-03-03/
LOCATION:Chrám\, Komunitní prostor Smíchov Na Doubkové 8\, Praha 5\, kraj hlavní město praha\, 150 00\, Česká republika
CATEGORIES:Taneční aktivity
ATTACH;FMTTYPE=image/png:https://kpsmichov.cz/wp-content/uploads/2024/03/balfolk-1.png
ORGANIZER;CN="Martin Ozzy Chlebek":MAILTO:balfolk@balfolk.cz
END:VEVENT
BEGIN:VEVENT
DTSTART;TZID=Europe/Prague:20260224T190000
DTEND;TZID=Europe/Prague:20260224T220000
DTSTAMP:20260421T150715
CREATED:20251001T112629Z
LAST-MODIFIED:20260320T230019Z
UID:10006487-1771959600-1771970400@kpsmichov.cz
SUMMARY:Balfolková tancovačka
DESCRIPTION:Jednoduché a zábavné tance z celé Evropy\, kolové\, řetězové i párové. Nepotřebujete partnera\, speciální obutí ani předchozí taneční zkušenosti.  \nVíce informací na www.balfolk.cz \nVede: Martin Ozzy Chlebek \nDoporučené vstupné: 150 Kč \n  \nAktivita je finančně podpořena MČ Praha 5.
URL:https://kpsmichov.cz/program/balfolkova-tancovacka-2/2026-02-24/
LOCATION:Chrám\, Komunitní prostor Smíchov Na Doubkové 8\, Praha 5\, kraj hlavní město praha\, 150 00\, Česká republika
CATEGORIES:Taneční aktivity
ATTACH;FMTTYPE=image/png:https://kpsmichov.cz/wp-content/uploads/2024/03/balfolk-1.png
ORGANIZER;CN="Martin Ozzy Chlebek":MAILTO:balfolk@balfolk.cz
END:VEVENT
BEGIN:VEVENT
DTSTART;TZID=Europe/Prague:20260217T190000
DTEND;TZID=Europe/Prague:20260217T220000
DTSTAMP:20260421T150715
CREATED:20251001T112629Z
LAST-MODIFIED:20260320T230019Z
UID:10006486-1771354800-1771365600@kpsmichov.cz
SUMMARY:Balfolková tancovačka
DESCRIPTION:Jednoduché a zábavné tance z celé Evropy\, kolové\, řetězové i párové. Nepotřebujete partnera\, speciální obutí ani předchozí taneční zkušenosti.  \nVíce informací na www.balfolk.cz \nVede: Martin Ozzy Chlebek \nDoporučené vstupné: 150 Kč \n  \nAktivita je finančně podpořena MČ Praha 5.
URL:https://kpsmichov.cz/program/balfolkova-tancovacka-2/2026-02-17/
LOCATION:Chrám\, Komunitní prostor Smíchov Na Doubkové 8\, Praha 5\, kraj hlavní město praha\, 150 00\, Česká republika
CATEGORIES:Taneční aktivity
ATTACH;FMTTYPE=image/png:https://kpsmichov.cz/wp-content/uploads/2024/03/balfolk-1.png
ORGANIZER;CN="Martin Ozzy Chlebek":MAILTO:balfolk@balfolk.cz
END:VEVENT
BEGIN:VEVENT
DTSTART;TZID=Europe/Prague:20260210T190000
DTEND;TZID=Europe/Prague:20260210T220000
DTSTAMP:20260421T150715
CREATED:20251001T112629Z
LAST-MODIFIED:20260320T230019Z
UID:10006485-1770750000-1770760800@kpsmichov.cz
SUMMARY:Balfolková tancovačka
DESCRIPTION:Jednoduché a zábavné tance z celé Evropy\, kolové\, řetězové i párové. Nepotřebujete partnera\, speciální obutí ani předchozí taneční zkušenosti.  \nVíce informací na www.balfolk.cz \nVede: Martin Ozzy Chlebek \nDoporučené vstupné: 150 Kč \n  \nAktivita je finančně podpořena MČ Praha 5.
URL:https://kpsmichov.cz/program/balfolkova-tancovacka-2/2026-02-10/
LOCATION:Chrám\, Komunitní prostor Smíchov Na Doubkové 8\, Praha 5\, kraj hlavní město praha\, 150 00\, Česká republika
CATEGORIES:Taneční aktivity
ATTACH;FMTTYPE=image/png:https://kpsmichov.cz/wp-content/uploads/2024/03/balfolk-1.png
ORGANIZER;CN="Martin Ozzy Chlebek":MAILTO:balfolk@balfolk.cz
END:VEVENT
BEGIN:VEVENT
DTSTART;TZID=Europe/Prague:20260203T190000
DTEND;TZID=Europe/Prague:20260203T220000
DTSTAMP:20260421T150715
CREATED:20251001T112629Z
LAST-MODIFIED:20260320T230019Z
UID:10006484-1770145200-1770156000@kpsmichov.cz
SUMMARY:Balfolková tancovačka
DESCRIPTION:Jednoduché a zábavné tance z celé Evropy\, kolové\, řetězové i párové. Nepotřebujete partnera\, speciální obutí ani předchozí taneční zkušenosti.  \nVíce informací na www.balfolk.cz \nVede: Martin Ozzy Chlebek \nDoporučené vstupné: 150 Kč \n  \nAktivita je finančně podpořena MČ Praha 5.
URL:https://kpsmichov.cz/program/balfolkova-tancovacka-2/2026-02-03/
LOCATION:Chrám\, Komunitní prostor Smíchov Na Doubkové 8\, Praha 5\, kraj hlavní město praha\, 150 00\, Česká republika
CATEGORIES:Taneční aktivity
ATTACH;FMTTYPE=image/png:https://kpsmichov.cz/wp-content/uploads/2024/03/balfolk-1.png
ORGANIZER;CN="Martin Ozzy Chlebek":MAILTO:balfolk@balfolk.cz
END:VEVENT
BEGIN:VEVENT
DTSTART;TZID=Europe/Prague:20260127T190000
DTEND;TZID=Europe/Prague:20260127T220000
DTSTAMP:20260421T150715
CREATED:20251001T112629Z
LAST-MODIFIED:20260320T230019Z
UID:10006464-1769540400-1769551200@kpsmichov.cz
SUMMARY:Balfolková tancovačka
DESCRIPTION:Jednoduché a zábavné tance z celé Evropy\, kolové\, řetězové i párové. Nepotřebujete partnera\, speciální obutí ani předchozí taneční zkušenosti.  \nVíce informací na www.balfolk.cz \nVede: Martin Ozzy Chlebek \nDoporučené vstupné: 150 Kč \n  \nAktivita je finančně podpořena MČ Praha 5.
URL:https://kpsmichov.cz/program/balfolkova-tancovacka-2/2026-01-27/
LOCATION:Chrám\, Komunitní prostor Smíchov Na Doubkové 8\, Praha 5\, kraj hlavní město praha\, 150 00\, Česká republika
CATEGORIES:Taneční aktivity
ATTACH;FMTTYPE=image/png:https://kpsmichov.cz/wp-content/uploads/2024/03/balfolk-1.png
ORGANIZER;CN="Martin Ozzy Chlebek":MAILTO:balfolk@balfolk.cz
END:VEVENT
BEGIN:VEVENT
DTSTART;TZID=Europe/Prague:20260120T190000
DTEND;TZID=Europe/Prague:20260120T220000
DTSTAMP:20260421T150716
CREATED:20251001T112629Z
LAST-MODIFIED:20260320T230019Z
UID:10006463-1768935600-1768946400@kpsmichov.cz
SUMMARY:Balfolková tancovačka
DESCRIPTION:Jednoduché a zábavné tance z celé Evropy\, kolové\, řetězové i párové. Nepotřebujete partnera\, speciální obutí ani předchozí taneční zkušenosti.  \nVíce informací na www.balfolk.cz \nVede: Martin Ozzy Chlebek \nDoporučené vstupné: 150 Kč \n  \nAktivita je finančně podpořena MČ Praha 5.
URL:https://kpsmichov.cz/program/balfolkova-tancovacka-2/2026-01-20/
LOCATION:Chrám\, Komunitní prostor Smíchov Na Doubkové 8\, Praha 5\, kraj hlavní město praha\, 150 00\, Česká republika
CATEGORIES:Taneční aktivity
ATTACH;FMTTYPE=image/png:https://kpsmichov.cz/wp-content/uploads/2024/03/balfolk-1.png
ORGANIZER;CN="Martin Ozzy Chlebek":MAILTO:balfolk@balfolk.cz
END:VEVENT
BEGIN:VEVENT
DTSTART;TZID=Europe/Prague:20260113T190000
DTEND;TZID=Europe/Prague:20260113T220000
DTSTAMP:20260421T150716
CREATED:20251001T112629Z
LAST-MODIFIED:20260320T230019Z
UID:10006462-1768330800-1768341600@kpsmichov.cz
SUMMARY:Balfolková tancovačka
DESCRIPTION:Jednoduché a zábavné tance z celé Evropy\, kolové\, řetězové i párové. Nepotřebujete partnera\, speciální obutí ani předchozí taneční zkušenosti.  \nVíce informací na www.balfolk.cz \nVede: Martin Ozzy Chlebek \nDoporučené vstupné: 150 Kč \n  \nAktivita je finančně podpořena MČ Praha 5.
URL:https://kpsmichov.cz/program/balfolkova-tancovacka-2/2026-01-13/
LOCATION:Chrám\, Komunitní prostor Smíchov Na Doubkové 8\, Praha 5\, kraj hlavní město praha\, 150 00\, Česká republika
CATEGORIES:Taneční aktivity
ATTACH;FMTTYPE=image/png:https://kpsmichov.cz/wp-content/uploads/2024/03/balfolk-1.png
ORGANIZER;CN="Martin Ozzy Chlebek":MAILTO:balfolk@balfolk.cz
END:VEVENT
BEGIN:VEVENT
DTSTART;TZID=Europe/Prague:20260106T190000
DTEND;TZID=Europe/Prague:20260106T220000
DTSTAMP:20260421T150716
CREATED:20251001T112629Z
LAST-MODIFIED:20260320T230019Z
UID:10006461-1767726000-1767736800@kpsmichov.cz
SUMMARY:Balfolková tancovačka
DESCRIPTION:Jednoduché a zábavné tance z celé Evropy\, kolové\, řetězové i párové. Nepotřebujete partnera\, speciální obutí ani předchozí taneční zkušenosti.  \nVíce informací na www.balfolk.cz \nVede: Martin Ozzy Chlebek \nDoporučené vstupné: 150 Kč \n  \nAktivita je finančně podpořena MČ Praha 5.
URL:https://kpsmichov.cz/program/balfolkova-tancovacka-2/2026-01-06/
LOCATION:Chrám\, Komunitní prostor Smíchov Na Doubkové 8\, Praha 5\, kraj hlavní město praha\, 150 00\, Česká republika
CATEGORIES:Taneční aktivity
ATTACH;FMTTYPE=image/png:https://kpsmichov.cz/wp-content/uploads/2024/03/balfolk-1.png
ORGANIZER;CN="Martin Ozzy Chlebek":MAILTO:balfolk@balfolk.cz
END:VEVENT
BEGIN:VEVENT
DTSTART;TZID=Europe/Prague:20251216T190000
DTEND;TZID=Europe/Prague:20251216T220000
DTSTAMP:20260421T150716
CREATED:20251001T112629Z
LAST-MODIFIED:20260320T230019Z
UID:10006421-1765911600-1765922400@kpsmichov.cz
SUMMARY:Balfolková tancovačka
DESCRIPTION:Jednoduché a zábavné tance z celé Evropy\, kolové\, řetězové i párové. Nepotřebujete partnera\, speciální obutí ani předchozí taneční zkušenosti.  \nVíce informací na www.balfolk.cz \nVede: Martin Ozzy Chlebek \nDoporučené vstupné: 150 Kč \n  \nAktivita je finančně podpořena MČ Praha 5.
URL:https://kpsmichov.cz/program/balfolkova-tancovacka-2/2025-12-16/
LOCATION:Chrám\, Komunitní prostor Smíchov Na Doubkové 8\, Praha 5\, kraj hlavní město praha\, 150 00\, Česká republika
CATEGORIES:Taneční aktivity
ATTACH;FMTTYPE=image/png:https://kpsmichov.cz/wp-content/uploads/2024/03/balfolk-1.png
ORGANIZER;CN="Martin Ozzy Chlebek":MAILTO:balfolk@balfolk.cz
END:VEVENT
BEGIN:VEVENT
DTSTART;TZID=Europe/Prague:20251209T190000
DTEND;TZID=Europe/Prague:20251209T220000
DTSTAMP:20260421T150716
CREATED:20251001T112629Z
LAST-MODIFIED:20260320T230019Z
UID:10006420-1765306800-1765317600@kpsmichov.cz
SUMMARY:Balfolková tancovačka
DESCRIPTION:Jednoduché a zábavné tance z celé Evropy\, kolové\, řetězové i párové. Nepotřebujete partnera\, speciální obutí ani předchozí taneční zkušenosti.  \nVíce informací na www.balfolk.cz \nVede: Martin Ozzy Chlebek \nDoporučené vstupné: 150 Kč \n  \nAktivita je finančně podpořena MČ Praha 5.
URL:https://kpsmichov.cz/program/balfolkova-tancovacka-2/2025-12-09/
LOCATION:Chrám\, Komunitní prostor Smíchov Na Doubkové 8\, Praha 5\, kraj hlavní město praha\, 150 00\, Česká republika
CATEGORIES:Taneční aktivity
ATTACH;FMTTYPE=image/png:https://kpsmichov.cz/wp-content/uploads/2024/03/balfolk-1.png
ORGANIZER;CN="Martin Ozzy Chlebek":MAILTO:balfolk@balfolk.cz
END:VEVENT
BEGIN:VEVENT
DTSTART;TZID=Europe/Prague:20251202T190000
DTEND;TZID=Europe/Prague:20251202T220000
DTSTAMP:20260421T150716
CREATED:20251001T112629Z
LAST-MODIFIED:20260320T230019Z
UID:10006419-1764702000-1764712800@kpsmichov.cz
SUMMARY:Balfolková tancovačka
DESCRIPTION:Jednoduché a zábavné tance z celé Evropy\, kolové\, řetězové i párové. Nepotřebujete partnera\, speciální obutí ani předchozí taneční zkušenosti.  \nVíce informací na www.balfolk.cz \nVede: Martin Ozzy Chlebek \nDoporučené vstupné: 150 Kč \n  \nAktivita je finančně podpořena MČ Praha 5.
URL:https://kpsmichov.cz/program/balfolkova-tancovacka-2/2025-12-02/
LOCATION:Chrám\, Komunitní prostor Smíchov Na Doubkové 8\, Praha 5\, kraj hlavní město praha\, 150 00\, Česká republika
CATEGORIES:Taneční aktivity
ATTACH;FMTTYPE=image/png:https://kpsmichov.cz/wp-content/uploads/2024/03/balfolk-1.png
ORGANIZER;CN="Martin Ozzy Chlebek":MAILTO:balfolk@balfolk.cz
END:VEVENT
BEGIN:VEVENT
DTSTART;TZID=Europe/Prague:20251125T190000
DTEND;TZID=Europe/Prague:20251125T220000
DTSTAMP:20260421T150716
CREATED:20251001T112629Z
LAST-MODIFIED:20260320T230019Z
UID:10006376-1764097200-1764108000@kpsmichov.cz
SUMMARY:Balfolková tancovačka
DESCRIPTION:Jednoduché a zábavné tance z celé Evropy\, kolové\, řetězové i párové. Nepotřebujete partnera\, speciální obutí ani předchozí taneční zkušenosti.  \nVíce informací na www.balfolk.cz \nVede: Martin Ozzy Chlebek \nDoporučené vstupné: 150 Kč \n  \nAktivita je finančně podpořena MČ Praha 5.
URL:https://kpsmichov.cz/program/balfolkova-tancovacka-2/2025-11-25/
LOCATION:Chrám\, Komunitní prostor Smíchov Na Doubkové 8\, Praha 5\, kraj hlavní město praha\, 150 00\, Česká republika
CATEGORIES:Taneční aktivity
ATTACH;FMTTYPE=image/png:https://kpsmichov.cz/wp-content/uploads/2024/03/balfolk-1.png
ORGANIZER;CN="Martin Ozzy Chlebek":MAILTO:balfolk@balfolk.cz
END:VEVENT
BEGIN:VEVENT
DTSTART;TZID=Europe/Prague:20251118T190000
DTEND;TZID=Europe/Prague:20251118T220000
DTSTAMP:20260421T150716
CREATED:20251001T112629Z
LAST-MODIFIED:20260320T230019Z
UID:10006375-1763492400-1763503200@kpsmichov.cz
SUMMARY:Balfolková tancovačka
DESCRIPTION:Jednoduché a zábavné tance z celé Evropy\, kolové\, řetězové i párové. Nepotřebujete partnera\, speciální obutí ani předchozí taneční zkušenosti.  \nVíce informací na www.balfolk.cz \nVede: Martin Ozzy Chlebek \nDoporučené vstupné: 150 Kč \n  \nAktivita je finančně podpořena MČ Praha 5.
URL:https://kpsmichov.cz/program/balfolkova-tancovacka-2/2025-11-18/
LOCATION:Chrám\, Komunitní prostor Smíchov Na Doubkové 8\, Praha 5\, kraj hlavní město praha\, 150 00\, Česká republika
CATEGORIES:Taneční aktivity
ATTACH;FMTTYPE=image/png:https://kpsmichov.cz/wp-content/uploads/2024/03/balfolk-1.png
ORGANIZER;CN="Martin Ozzy Chlebek":MAILTO:balfolk@balfolk.cz
END:VEVENT
BEGIN:VEVENT
DTSTART;TZID=Europe/Prague:20251111T190000
DTEND;TZID=Europe/Prague:20251111T220000
DTSTAMP:20260421T150716
CREATED:20251001T112629Z
LAST-MODIFIED:20260320T230019Z
UID:10006374-1762887600-1762898400@kpsmichov.cz
SUMMARY:Balfolková tancovačka
DESCRIPTION:Jednoduché a zábavné tance z celé Evropy\, kolové\, řetězové i párové. Nepotřebujete partnera\, speciální obutí ani předchozí taneční zkušenosti.  \nVíce informací na www.balfolk.cz \nVede: Martin Ozzy Chlebek \nDoporučené vstupné: 150 Kč \n  \nAktivita je finančně podpořena MČ Praha 5.
URL:https://kpsmichov.cz/program/balfolkova-tancovacka-2/2025-11-11/
LOCATION:Chrám\, Komunitní prostor Smíchov Na Doubkové 8\, Praha 5\, kraj hlavní město praha\, 150 00\, Česká republika
CATEGORIES:Taneční aktivity
ATTACH;FMTTYPE=image/png:https://kpsmichov.cz/wp-content/uploads/2024/03/balfolk-1.png
ORGANIZER;CN="Martin Ozzy Chlebek":MAILTO:balfolk@balfolk.cz
END:VEVENT
BEGIN:VEVENT
DTSTART;TZID=Europe/Prague:20251104T190000
DTEND;TZID=Europe/Prague:20251104T220000
DTSTAMP:20260421T150716
CREATED:20251001T112629Z
LAST-MODIFIED:20260320T230019Z
UID:10006373-1762282800-1762293600@kpsmichov.cz
SUMMARY:Balfolková tancovačka
DESCRIPTION:Jednoduché a zábavné tance z celé Evropy\, kolové\, řetězové i párové. Nepotřebujete partnera\, speciální obutí ani předchozí taneční zkušenosti.  \nVíce informací na www.balfolk.cz \nVede: Martin Ozzy Chlebek \nDoporučené vstupné: 150 Kč \n  \nAktivita je finančně podpořena MČ Praha 5.
URL:https://kpsmichov.cz/program/balfolkova-tancovacka-2/2025-11-04/
LOCATION:Chrám\, Komunitní prostor Smíchov Na Doubkové 8\, Praha 5\, kraj hlavní město praha\, 150 00\, Česká republika
CATEGORIES:Taneční aktivity
ATTACH;FMTTYPE=image/png:https://kpsmichov.cz/wp-content/uploads/2024/03/balfolk-1.png
ORGANIZER;CN="Martin Ozzy Chlebek":MAILTO:balfolk@balfolk.cz
END:VEVENT
BEGIN:VEVENT
DTSTART;TZID=Europe/Prague:20251021T190000
DTEND;TZID=Europe/Prague:20251021T220000
DTSTAMP:20260421T150716
CREATED:20251001T112629Z
LAST-MODIFIED:20260320T230019Z
UID:10005978-1761073200-1761084000@kpsmichov.cz
SUMMARY:Balfolková tancovačka
DESCRIPTION:Jednoduché a zábavné tance z celé Evropy\, kolové\, řetězové i párové. Nepotřebujete partnera\, speciální obutí ani předchozí taneční zkušenosti.  \nVíce informací na www.balfolk.cz \nVede: Martin Ozzy Chlebek \nDoporučené vstupné: 150 Kč \n  \nAktivita je finančně podpořena MČ Praha 5.
URL:https://kpsmichov.cz/program/balfolkova-tancovacka-2/2025-10-21/
LOCATION:Chrám\, Komunitní prostor Smíchov Na Doubkové 8\, Praha 5\, kraj hlavní město praha\, 150 00\, Česká republika
CATEGORIES:Taneční aktivity
ATTACH;FMTTYPE=image/png:https://kpsmichov.cz/wp-content/uploads/2024/03/balfolk-1.png
ORGANIZER;CN="Martin Ozzy Chlebek":MAILTO:balfolk@balfolk.cz
END:VEVENT
BEGIN:VEVENT
DTSTART;TZID=Europe/Prague:20251014T190000
DTEND;TZID=Europe/Prague:20251014T220000
DTSTAMP:20260421T150716
CREATED:20251001T112629Z
LAST-MODIFIED:20260320T230019Z
UID:10005977-1760468400-1760479200@kpsmichov.cz
SUMMARY:Balfolková tancovačka
DESCRIPTION:Jednoduché a zábavné tance z celé Evropy\, kolové\, řetězové i párové. Nepotřebujete partnera\, speciální obutí ani předchozí taneční zkušenosti.  \nVíce informací na www.balfolk.cz \nVede: Martin Ozzy Chlebek \nDoporučené vstupné: 150 Kč \n  \nAktivita je finančně podpořena MČ Praha 5.
URL:https://kpsmichov.cz/program/balfolkova-tancovacka-2/2025-10-14/
LOCATION:Chrám\, Komunitní prostor Smíchov Na Doubkové 8\, Praha 5\, kraj hlavní město praha\, 150 00\, Česká republika
CATEGORIES:Taneční aktivity
ATTACH;FMTTYPE=image/png:https://kpsmichov.cz/wp-content/uploads/2024/03/balfolk-1.png
ORGANIZER;CN="Martin Ozzy Chlebek":MAILTO:balfolk@balfolk.cz
END:VEVENT
BEGIN:VEVENT
DTSTART;TZID=Europe/Prague:20251007T190000
DTEND;TZID=Europe/Prague:20251007T220000
DTSTAMP:20260421T150716
CREATED:20251001T112629Z
LAST-MODIFIED:20260320T230019Z
UID:10005976-1759863600-1759874400@kpsmichov.cz
SUMMARY:Balfolková tancovačka
DESCRIPTION:Jednoduché a zábavné tance z celé Evropy\, kolové\, řetězové i párové. Nepotřebujete partnera\, speciální obutí ani předchozí taneční zkušenosti.  \nVíce informací na www.balfolk.cz \nVede: Martin Ozzy Chlebek \nDoporučené vstupné: 150 Kč \n  \nAktivita je finančně podpořena MČ Praha 5.
URL:https://kpsmichov.cz/program/balfolkova-tancovacka-2/2025-10-07/
LOCATION:Chrám\, Komunitní prostor Smíchov Na Doubkové 8\, Praha 5\, kraj hlavní město praha\, 150 00\, Česká republika
CATEGORIES:Taneční aktivity
ATTACH;FMTTYPE=image/png:https://kpsmichov.cz/wp-content/uploads/2024/03/balfolk-1.png
ORGANIZER;CN="Martin Ozzy Chlebek":MAILTO:balfolk@balfolk.cz
END:VEVENT
BEGIN:VEVENT
DTSTART;TZID=Europe/Prague:20250527T190000
DTEND;TZID=Europe/Prague:20250527T220000
DTSTAMP:20260421T150716
CREATED:20250324T204138Z
LAST-MODIFIED:20250919T181104Z
UID:10005742-1748372400-1748383200@kpsmichov.cz
SUMMARY:Balfolková tancovačka
DESCRIPTION:19:00-22:00 / chrám / Martin Ozzy Chlebek /  \njednoduché a zábavné tance z celé Evropy\, kolové\, řetězové i párové. Nepotřebujete partnera\, speciální obutí ani předchozí taneční zkušenosti \nvíce informací na www.balfolk.cz \ndoporučené vstupné: 150 Kč
URL:https://kpsmichov.cz/program/balfolkova-tancovacka/2025-05-27/
LOCATION:Chrám\, Komunitní prostor Smíchov Na Doubkové 8\, Praha 5\, kraj hlavní město praha\, 150 00\, Česká republika
CATEGORIES:Taneční aktivity
ATTACH;FMTTYPE=image/png:https://kpsmichov.cz/wp-content/uploads/2024/03/balfolk-1.png
ORGANIZER;CN="Martin Ozzy Chlebek":MAILTO:balfolk@balfolk.cz
END:VEVENT
BEGIN:VEVENT
DTSTART;TZID=Europe/Prague:20250520T190000
DTEND;TZID=Europe/Prague:20250520T220000
DTSTAMP:20260421T150716
CREATED:20250324T204138Z
LAST-MODIFIED:20250919T181104Z
UID:10005741-1747767600-1747778400@kpsmichov.cz
SUMMARY:Balfolková tancovačka
DESCRIPTION:19:00-22:00 / chrám / Martin Ozzy Chlebek /  \njednoduché a zábavné tance z celé Evropy\, kolové\, řetězové i párové. Nepotřebujete partnera\, speciální obutí ani předchozí taneční zkušenosti \nvíce informací na www.balfolk.cz \ndoporučené vstupné: 150 Kč
URL:https://kpsmichov.cz/program/balfolkova-tancovacka/2025-05-20/
LOCATION:Chrám\, Komunitní prostor Smíchov Na Doubkové 8\, Praha 5\, kraj hlavní město praha\, 150 00\, Česká republika
CATEGORIES:Taneční aktivity
ATTACH;FMTTYPE=image/png:https://kpsmichov.cz/wp-content/uploads/2024/03/balfolk-1.png
ORGANIZER;CN="Martin Ozzy Chlebek":MAILTO:balfolk@balfolk.cz
END:VEVENT
BEGIN:VEVENT
DTSTART;TZID=Europe/Prague:20250513T190000
DTEND;TZID=Europe/Prague:20250513T220000
DTSTAMP:20260421T150716
CREATED:20250324T204138Z
LAST-MODIFIED:20250919T181104Z
UID:10005740-1747162800-1747173600@kpsmichov.cz
SUMMARY:Balfolková tancovačka
DESCRIPTION:19:00-22:00 / chrám / Martin Ozzy Chlebek /  \njednoduché a zábavné tance z celé Evropy\, kolové\, řetězové i párové. Nepotřebujete partnera\, speciální obutí ani předchozí taneční zkušenosti \nvíce informací na www.balfolk.cz \ndoporučené vstupné: 150 Kč
URL:https://kpsmichov.cz/program/balfolkova-tancovacka/2025-05-13/
LOCATION:Chrám\, Komunitní prostor Smíchov Na Doubkové 8\, Praha 5\, kraj hlavní město praha\, 150 00\, Česká republika
CATEGORIES:Taneční aktivity
ATTACH;FMTTYPE=image/png:https://kpsmichov.cz/wp-content/uploads/2024/03/balfolk-1.png
ORGANIZER;CN="Martin Ozzy Chlebek":MAILTO:balfolk@balfolk.cz
END:VEVENT
BEGIN:VEVENT
DTSTART;TZID=Europe/Prague:20250506T190000
DTEND;TZID=Europe/Prague:20250506T220000
DTSTAMP:20260421T150716
CREATED:20250324T204138Z
LAST-MODIFIED:20250919T181104Z
UID:10005739-1746558000-1746568800@kpsmichov.cz
SUMMARY:Balfolková tancovačka
DESCRIPTION:19:00-22:00 / chrám / Martin Ozzy Chlebek /  \njednoduché a zábavné tance z celé Evropy\, kolové\, řetězové i párové. Nepotřebujete partnera\, speciální obutí ani předchozí taneční zkušenosti \nvíce informací na www.balfolk.cz \ndoporučené vstupné: 150 Kč
URL:https://kpsmichov.cz/program/balfolkova-tancovacka/2025-05-06/
LOCATION:Chrám\, Komunitní prostor Smíchov Na Doubkové 8\, Praha 5\, kraj hlavní město praha\, 150 00\, Česká republika
CATEGORIES:Taneční aktivity
ATTACH;FMTTYPE=image/png:https://kpsmichov.cz/wp-content/uploads/2024/03/balfolk-1.png
ORGANIZER;CN="Martin Ozzy Chlebek":MAILTO:balfolk@balfolk.cz
END:VEVENT
BEGIN:VEVENT
DTSTART;TZID=Europe/Prague:20250429T190000
DTEND;TZID=Europe/Prague:20250429T220000
DTSTAMP:20260421T150716
CREATED:20250324T204138Z
LAST-MODIFIED:20250919T181104Z
UID:10005733-1745953200-1745964000@kpsmichov.cz
SUMMARY:Balfolková tancovačka
DESCRIPTION:19:00-22:00 / chrám / Martin Ozzy Chlebek /  \njednoduché a zábavné tance z celé Evropy\, kolové\, řetězové i párové. Nepotřebujete partnera\, speciální obutí ani předchozí taneční zkušenosti \nvíce informací na www.balfolk.cz \ndoporučené vstupné: 150 Kč
URL:https://kpsmichov.cz/program/balfolkova-tancovacka/2025-04-29/
LOCATION:Chrám\, Komunitní prostor Smíchov Na Doubkové 8\, Praha 5\, kraj hlavní město praha\, 150 00\, Česká republika
CATEGORIES:Taneční aktivity
ATTACH;FMTTYPE=image/png:https://kpsmichov.cz/wp-content/uploads/2024/03/balfolk-1.png
ORGANIZER;CN="Martin Ozzy Chlebek":MAILTO:balfolk@balfolk.cz
END:VEVENT
END:VCALENDAR