BEGIN:VCALENDAR
VERSION:2.0
PRODID:-//Komunitní prostor Smíchov - ECPv6.15.20//NONSGML v1.0//EN
CALSCALE:GREGORIAN
METHOD:PUBLISH
X-WR-CALNAME:Komunitní prostor Smíchov
X-ORIGINAL-URL:https://kpsmichov.cz
X-WR-CALDESC:Akce na Komunitní prostor Smíchov
REFRESH-INTERVAL;VALUE=DURATION:PT1H
X-Robots-Tag:noindex
X-PUBLISHED-TTL:PT1H
BEGIN:VTIMEZONE
TZID:Europe/Prague
BEGIN:DAYLIGHT
TZOFFSETFROM:+0100
TZOFFSETTO:+0200
TZNAME:CEST
DTSTART:20220327T010000
END:DAYLIGHT
BEGIN:STANDARD
TZOFFSETFROM:+0200
TZOFFSETTO:+0100
TZNAME:CET
DTSTART:20221030T010000
END:STANDARD
BEGIN:DAYLIGHT
TZOFFSETFROM:+0100
TZOFFSETTO:+0200
TZNAME:CEST
DTSTART:20230326T010000
END:DAYLIGHT
BEGIN:STANDARD
TZOFFSETFROM:+0200
TZOFFSETTO:+0100
TZNAME:CET
DTSTART:20231029T010000
END:STANDARD
BEGIN:DAYLIGHT
TZOFFSETFROM:+0100
TZOFFSETTO:+0200
TZNAME:CEST
DTSTART:20240331T010000
END:DAYLIGHT
BEGIN:STANDARD
TZOFFSETFROM:+0200
TZOFFSETTO:+0100
TZNAME:CET
DTSTART:20241027T010000
END:STANDARD
BEGIN:DAYLIGHT
TZOFFSETFROM:+0100
TZOFFSETTO:+0200
TZNAME:CEST
DTSTART:20250330T010000
END:DAYLIGHT
BEGIN:STANDARD
TZOFFSETFROM:+0200
TZOFFSETTO:+0100
TZNAME:CET
DTSTART:20251026T010000
END:STANDARD
BEGIN:DAYLIGHT
TZOFFSETFROM:+0100
TZOFFSETTO:+0200
TZNAME:CEST
DTSTART:20260329T010000
END:DAYLIGHT
BEGIN:STANDARD
TZOFFSETFROM:+0200
TZOFFSETTO:+0100
TZNAME:CET
DTSTART:20261025T010000
END:STANDARD
BEGIN:DAYLIGHT
TZOFFSETFROM:+0100
TZOFFSETTO:+0200
TZNAME:CEST
DTSTART:20270328T010000
END:DAYLIGHT
BEGIN:STANDARD
TZOFFSETFROM:+0200
TZOFFSETTO:+0100
TZNAME:CET
DTSTART:20271031T010000
END:STANDARD
END:VTIMEZONE
BEGIN:VEVENT
DTSTART;TZID=Europe/Prague:20260410T180000
DTEND;TZID=Europe/Prague:20260410T203000
DTSTAMP:20260420T223721
CREATED:20260323T123945Z
LAST-MODIFIED:20260323T124146Z
UID:10006612-1775844000-1775853000@kpsmichov.cz
SUMMARY:Vernisáž výstavy Jiřiny Adamcové – LUNETY
DESCRIPTION:Akademická malířka Jiřina Adamcová (1927–2019) patří k osobnostem českého poválečného umění. Narodila se v Rudlicích u Znojma\, vyrůstala v evangelickém prostředí a v letech 1946–1950 studovala na Akademii výtvarných umění v Praze v ateliéru grafiky u Vladimíra Pukla. Zpočátku se prosadila především jako grafička a ilustrátorka\, později realizovala řadu monumentálních děl v architektuře – např. mozaiku Jan Želivský a jeho doba v pražském metru na stanici Želivského. Od konce 80. let se její tvorba soustředila téměř výhradně na křesťanské motivy\, které zpracovávala osobitou kombinovanou technikou spojující malbu\, kresbu\, koláž i rukopisné texty. Vystavovala nejen v Česku\, ale také na Slovensku\, v Polsku\, Švýcarsku\, Německu a ve Spojených státech. Její díla jsou zastoupena např. ve sbírkách Národní galerie v Praze\, Galerie hlavního města Prahy\, v Památníku Terezín\, v Showspace Gallery ve Philadelphii\, či v australském kostele v Glenbrooku. \n  \nAdamcová chápala výtvarné umění jako prostor svědectví – jako místo\, kde se osobní zkušenost\, víra a dějiny protínají v obraze. Typická je pro ni práce s kontrastem světla a tmy\, s dynamickou linií i s výraznou\, často symbolicky zatíženou barevností. Do obrazové plochy vstupuje slovo – biblický verš\, úryvek modlitby\, osobní poznámka – které není ilustrací\, ale rovnocennou součástí kompozice. Její díla otevírají téma času\, utrpení a naděje. Na místo popisnosti volí metaforu a vrstvení významů. \n  \nCyklus Lunety představuje paralelní vrchol této pozdní fáze. Autorka zde volně pracuje s principem lunety – nikoli jako doslovným architektonickým prvkem ve tvaru půlkruhu\, ale jako symbolickým polem\, které v křesťanské tradici nese rozmanité výjevy. Formáty mají atypický\, dynamicky tvarovaný obrys\, kompozice napínají obrazovou plochu směrem vzhůru a otevírají ji prostoru naděje. Soubor Malé lunety toto téma rozvíjí v intimnějším měřítku a přímo využívá půlkruhový formát jako meditativní obrazový rámec. Celý vystavený soubor tak představuje pozdní a koncentrované svědectví autorčiny víry\, v němž se osobní zkušenost proměňuje v obraz naděje.\n\n\nKurátorky: trio Artikulum\n_________________________________________ \nVýstava se uskuteční za finanční podpory MČ Praha 5 v rámci projektu Sousluktury 2026.
URL:https://kpsmichov.cz/program/vernisaz-lunety/
LOCATION:Galerie Na Věky\, Na Doubkové 8\, Praha\, 150 00\, Česká republika
CATEGORIES:Kultura v prostoru
ATTACH;FMTTYPE=image/jpeg:https://kpsmichov.cz/wp-content/uploads/2026/03/A3_200g_jirinka-plakat-v3_ZNACKY-scaled.jpg
END:VEVENT
BEGIN:VEVENT
DTSTART;TZID=Europe/Prague:20260213T180000
DTEND;TZID=Europe/Prague:20260213T203000
DTSTAMP:20260420T223721
CREATED:20260130T113649Z
LAST-MODIFIED:20260130T113649Z
UID:10006517-1771005600-1771014600@kpsmichov.cz
SUMMARY:Vernisáž výstavy Václava Valdy
DESCRIPTION:Václav Valda\nstuduje v ateliéru Grafika 2 na pražské AVU. Kromě vynalezení a rozvíjení tisku voskovou hranou\nplynule přechází mezi tradičními grafickými technikami jako sítotisk\, linoryt\, lept či akvatinta\, které\npřirozeně kombinuje i v rámci jednoho díla. K zachycování okolního světa mu slouží mistrná kresba a\ncharakteristická barevná paleta. \nJedním z velkých témat je pro Václava Valdu Podskalí\, odkud pochází a kde také tvoří. Oblast pod\nVyšehradem\, kterou železniční most spojuje s Vltavu\, v grafikách vystupuje jako dějiště působivých\nsituačních scenérií každodenního života. \nV reakci na současné světové dění vytváří zcela svébytná výtvarná díla – modlitby za nevinné oběti\nozbrojených konfliktů\, konkrétně aktuálního izraelsko-palestinského konfliktu.\nValdův soustavný zájem o různé způsoby pozorování a následného zobrazování světa kolem se\nprojevuje i v jeho tvorbě nenápadných\, harmonických aktů – promyšlených studií lidského těla. \n  \nTisk voskovou hranou \nVěděli jste\, že existuje grafická technika\, kde hlavní roli hraje včelí vosk? Tuto novou\ntechniku vyvinul Václav Valda – výtvarník a včelař v jedné osobě. \n\n1. Výroba tiskové matrice začíná přímo u včel\, od kterých umělec nejprve získá vosk a\nmá tudíž stoprocentní jistotu\, že se jedná o pravý včelí vosk a nikoli parafín. Včelí\nplástve včely časem přirozeně znečistí. Umělec je ze včelstva vyjme a roztaví je\nv hrnci s vodou.\n2. Ze vzniklé hnědé hmoty (směsi špíny a vosku) vylisuje vosk. Ten ztuhne v kbelíku\, na\njehož dně se usadí drobné nečistoty\, které se pak z vosku odkrojí. Umělec následně\nrozehřívá vosk v mikrovlnné troubě a barví jej olejovou barvou\, která se s voskem\ndokonale propojí.\n3. Po obarvení se vosk znovu zahřeje a rozválí se pomocí tiskařského stroje. Takto\nvzniklé placky si autor nařeže na jednotlivé proužky o šířce 15 mm. Lepí je na sklo\npomocí ředidla a pro ještě lepší upevnění je zakapává voskem.\n4. Tyto proužky na jedné matrici jsou schopny vytisknout až padesát tisků. Voskovému\nproužku jakožto hlavnímu hrdinovi výstavy proto náleží čestné místo na plakátu. \n  \nZdroj obrázku: https://www.instagram.com/vaclavvalda/?hl=cs
URL:https://kpsmichov.cz/program/vernisaz-vystavy-vaclava-valdy/
LOCATION:Galerie Na Věky\, Na Doubkové 8\, Praha\, 150 00\, Česká republika
CATEGORIES:Kultura v prostoru
ATTACH;FMTTYPE=image/jpeg:https://kpsmichov.cz/wp-content/uploads/2026/01/valda.jpeg
END:VEVENT
BEGIN:VEVENT
DTSTART;TZID=Europe/Prague:20251009T180000
DTEND;TZID=Europe/Prague:20251009T220000
DTSTAMP:20260420T223721
CREATED:20251001T115620Z
LAST-MODIFIED:20251205T014620Z
UID:10005992-1760032800-1760047200@kpsmichov.cz
SUMMARY:Vernisáž výstavy AŽ NAKONEC A PAK DOPRAVA
DESCRIPTION:Přijďte se podívat na vernisáž výstavy AŽ NAKONEC A PAK DOPRAVA v prvním patře nad kavárnou kostela. Těšit se můžete na setkání s kurátorem a umělci\, občerstvení i doprovodný program. Poprvé se spolkem Artikulum\, který se nám nově stará o provoz galerie. \nTermín výstavy: 9. 10. – 30. 11. 2025 \n\n\nOd začátku října zaplní prostory galerie obrazy herečky\, výtvarnice a tatérky Jany Sovákové (*29. října 1976).Její tvorba je autentická\, nevypočítaná a plná vizuální energie – odráží bohémský život\, hluboké vize i zkušenosti na hranici duchovního a fyzického prožitku. Expresivní malby\, inspirované explozionalismem Vladimíra Boudníka\, vás vtáhnou do světa\, kde barvy útočí jako dávka adrenalinu a každý detail může být začátkem vlastního příběhu.
URL:https://kpsmichov.cz/program/vernisaz-az-nakonec/
LOCATION:Galerie Na Věky\, Na Doubkové 8\, Praha\, 150 00\, Česká republika
CATEGORIES:Kultura v prostoru,Živé téma
ATTACH;FMTTYPE=image/jpeg:https://kpsmichov.cz/wp-content/uploads/2025/10/553593531_122153217554754545_5587334666652520994_n.jpg
END:VEVENT
BEGIN:VEVENT
DTSTART;TZID=Europe/Prague:20250307T190000
DTEND;TZID=Europe/Prague:20250307T220000
DTSTAMP:20260420T223721
CREATED:20250304T151645Z
LAST-MODIFIED:20251205T015128Z
UID:10005692-1741374000-1741384800@kpsmichov.cz
SUMMARY:Vernisáž výstavy MODRÁ HODINA
DESCRIPTION:Přijďte se podívat na vernisáž výstavy MODRÁ HODINA v prvním patře nad kavárnou kostela. Těšit se můžete na setkání s kurátorem a umělci\, občerstvení i doprovodný program. \nTermín výstavy: 8. – 31. 3. 2025\n\nVýstava tří autorů\, kteří se prostřednictvím kresby\, objektu a malby různými způsoby vyrovnávají s vlastním i kolektivně sdíleným prostorem – od introspekce přes lyrickou interpretaci skutečnosti až po citlivost vůči společenským a environmentálním otázkám. Halucinatorní noční scény naplněné symboly se zde setkávají s obrazy éterických figur i všedních gest a s rituály\, které rehabilitují naše propojení s přírodou.\nVystavující umělci: David Pinkava\, Vladimíra Večeřová\, Jana VojnárováKurátor: Martin Herold
URL:https://kpsmichov.cz/program/vernisaz-vystavy-modra-hodina/
LOCATION:Galerie Na Věky\, Na Doubkové 8\, Praha\, 150 00\, Česká republika
CATEGORIES:Kultura v prostoru,Živé téma
ATTACH;FMTTYPE=image/png:https://kpsmichov.cz/wp-content/uploads/2025/03/Blue-Hour-poster.png
END:VEVENT
BEGIN:VEVENT
DTSTART;TZID=Europe/Prague:20240904T180000
DTEND;TZID=Europe/Prague:20240904T220000
DTSTAMP:20260420T223721
CREATED:20240903T181925Z
LAST-MODIFIED:20250712T142740Z
UID:10005273-1725472800-1725487200@kpsmichov.cz
SUMMARY:Vernisáž výstavy A přece se točí?
DESCRIPTION:Galerie Na Věky zve na vernisáž výstavy výstavy A přece se točí?\, která se uskuteční ve středu 4. září v 18 hodin v Komunitním prostoru Smíchov. Výstavu připravujeme ve spolupráci s festivalem Take Care. \nVýstava s názvem A přece se točí? v Galerii Na Věky představí tvorbu mladých současných umělců\, zaměřených na environmentální témata a udržitelnost. Své práce zde vystaví autorky Lamija Čehajić (AVU)\, Vojta Dubcová (AVU)\, Anna Holínská (VŠUP) a autor Jakub Hons (AVU). Prostřednictvím jejich uměleckého vyjádření se návštěvníci budou moci seznámit s aktuálními problémy klimatické krize\, měnícími se aspekty udržitelnosti a ekologie\, a s možnými řešeními\, která mohou přispět k pozitivní změně. Výstava bude k vidění jak v galerii\, tak i ve veřejném prostoru. \nFB událost / IG \nS případnými dotazy se na nás neváhejte obrátit na e-mail: galerie@kpsmichov.cz.\n\nTěšíme se na vás!\nKurátoři Jan Kieweg a Karolína Lapešová
URL:https://kpsmichov.cz/program/vernisaz-vystavy-a-prece-se-toci/
LOCATION:Galerie Na Věky\, Na Doubkové 8\, Praha\, 150 00\, Česká republika
CATEGORIES:Kultura v prostoru
ATTACH;FMTTYPE=image/jpeg:https://kpsmichov.cz/wp-content/uploads/2024/09/a_prece_se-_toci-1-scaled.jpg
END:VEVENT
BEGIN:VEVENT
DTSTART;TZID=Europe/Prague:20240531T140000
DTEND;TZID=Europe/Prague:20240726T210000
DTSTAMP:20260420T223721
CREATED:20240527T213318Z
LAST-MODIFIED:20240529T224455Z
UID:10005009-1717164000-1722027600@kpsmichov.cz
SUMMARY:Výstava: Bližní
DESCRIPTION:Výstava navazující na slavnostní vernisáž z cyklu Neviditelná ruka péče s názvem Bližní \nKurátoři: Jan Kieweg\, Karolína Lapešová \nVystavující: Barbara Kalypso Ristić\, Tereza Frindová\, Angelika Králová \nPéče je obecně brána jako praktika\, kterou můžeme vykonávat vůči sobě nebo vůči jiným\nexistencím\, aniž by to bylo na první pohled zřetelné. Čtvrtá výstava Bližní z cyklu (Ne)viditelná\nruka péče představí tvorbu současných mladých autorek\, které reagují na téma mezilidských\nvztahů a pečování o ně. \nNaše rodina\, kamarádi a osoby nám blízké tvoří neodlučitelnou součást\nnašeho života. Věnujeme však dostatek pozornosti a péče těmto osobám\, které nám jsou na\nblízku\, nejen když je potřebujeme? Výstava poukáže na formativní aspekt rodiny a co si pod\ntímto termínem představit. Rodina\, jakou ji známe prochází v několika posledních letech\nproměnami. Ne vždy se musí jednat o heteronormativní svazek muže a ženy\, ale i komunitu či\nskupinu lidí\, se kterými se cítíme dobře\, jsme vyslyšeni a společně sdílíme podobné\nnemateriální cíle a potřeby. \nZároveň je nutné i upozornit na momenty\, kdy tato „rodinná pohoda“\nnefunguje a jsme nuceni hledat pocit sounáležitosti jinde. Téma rodiny a mezilidských vztahů\nblíže představí vybrané autorky z vysokých uměleckých škol. Tereza Frindová\, zástupkyně\nnejmladší ženské malby orientované na figuru a figuraci\, aktuálně diplomantka pražské\nAkademie výtvarných umění ateliéru Kresba pod vedením Alice Nikitinové\, představí\nrozpracovanou diplomovou práci\, která se věnuje vývoji člověka a sebevzdělávání – aspektům\,\nkteré pozitivně či negativně ovlivňují rozvoj jedince ve společnosti. Angelika Králová je\nstudentkou v ateliéru Objekt–Prostor–Akce na Fakultě umění a designu UJEP pod vedením\nJiřího Kovandy. Autorka představí instalaci\, jež poukazuje na křehkost a zranitelnost vztahů\nutvářejících domov. Poslední autorkou je Barbara Kalypso Ristić\, studentka pražské AVU.\nTextilní instalace s názvem Rodinné konstelace odkazuje ke kořenům\, které v životě máme\, ať\nuž v podobě rodiny\, či jiného zázemí\, na které se vždy můžeme spolehnout. \n.               
URL:https://kpsmichov.cz/program/vystava-blizni/
LOCATION:Galerie Na Věky\, Na Doubkové 8\, Praha\, 150 00\, Česká republika
CATEGORIES:Kultura v prostoru
ATTACH;FMTTYPE=image/jpeg:https://kpsmichov.cz/wp-content/uploads/2024/05/IMG_2487-e1717022654346.jpg
END:VEVENT
BEGIN:VEVENT
DTSTART;TZID=Europe/Prague:20240530T180000
DTEND;TZID=Europe/Prague:20240530T210000
DTSTAMP:20260420T223721
CREATED:20240513T182228Z
LAST-MODIFIED:20250712T144307Z
UID:10004834-1717092000-1717102800@kpsmichov.cz
SUMMARY:Vernisáž výstavy Péče o bližní
DESCRIPTION:(Ne)viditelná ruka péče: Péče o blížní \nVernisáž: 30. května 2024 od 18 hodin \nVýstava: 31. 5. – 26. 7. 2024 \nKurátoři: Jan Kieweg\, Karolína Lapešová \nVystavující: Barbara Kalypso Ristić\, Tereza Frindová\, Angelika Králová \n  \nPéče je obecně brána jako praktika\, kterou můžeme vykonávat vůči sobě nebo vůči jiným\nexistencím\, aniž by to bylo na první pohled zřetelné. Čtvrtá výstava Bližní z cyklu (Ne)viditelná\nruka péče představí tvorbu současných mladých autorek\, které reagují na téma mezilidských\nvztahů a pečování o ně. \nNaše rodina\, kamarádi a osoby nám blízké tvoří neodlučitelnou součást\nnašeho života. Věnujeme však dostatek pozornosti a péče těmto osobám\, které nám jsou na\nblízku\, nejen když je potřebujeme? Výstava poukáže na formativní aspekt rodiny a co si pod\ntímto termínem představit. Rodina\, jakou ji známe prochází v několika posledních letech\nproměnami. Ne vždy se musí jednat o heteronormativní svazek muže a ženy\, ale i komunitu či\nskupinu lidí\, se kterými se cítíme dobře\, jsme vyslyšeni a společně sdílíme podobné\nnemateriální cíle a potřeby. \nZároveň je nutné i upozornit na momenty\, kdy tato „rodinná pohoda“\nnefunguje a jsme nuceni hledat pocit sounáležitosti jinde. Téma rodiny a mezilidských vztahů\nblíže představí vybrané autorky z vysokých uměleckých škol. Tereza Frindová\, zástupkyně\nnejmladší ženské malby orientované na figuru a figuraci\, aktuálně diplomantka pražské\nAkademie výtvarných umění ateliéru Kresba pod vedením Alice Nikitinové\, představí\nrozpracovanou diplomovou práci\, která se věnuje vývoji člověka a sebevzdělávání – aspektům\,\nkteré pozitivně či negativně ovlivňují rozvoj jedince ve společnosti. Angelika Králová je\nstudentkou v ateliéru Objekt–Prostor–Akce na Fakultě umění a designu UJEP pod vedením\nJiřího Kovandy. Autorka představí instalaci\, jež poukazuje na křehkost a zranitelnost vztahů\nutvářejících domov. Poslední autorkou je Barbara Kalypso Ristić\, studentka pražské AVU.\nTextilní instalace s názvem Rodinné konstelace odkazuje ke kořenům\, které v životě máme\, ať\nuž v podobě rodiny\, či jiného zázemí\, na které se vždy můžeme spolehnout.
URL:https://kpsmichov.cz/program/vernisaz-vystavy-pece-o-blizni/
LOCATION:Galerie Na Věky\, Na Doubkové 8\, Praha\, 150 00\, Česká republika
CATEGORIES:Kultura v prostoru
ATTACH;FMTTYPE=image/jpeg:https://kpsmichov.cz/wp-content/uploads/2024/05/IMG_3319-e1715631308548.jpg
END:VEVENT
BEGIN:VEVENT
DTSTART;TZID=Europe/Prague:20240308T180000
DTEND;TZID=Europe/Prague:20240308T210000
DTSTAMP:20260420T223721
CREATED:20240305T161248Z
LAST-MODIFIED:20240502T202304Z
UID:10004727-1709920800-1709931600@kpsmichov.cz
SUMMARY:Vernisáž výstavy Prociť komunity
DESCRIPTION:(Ne)viditelná ruka péče: Prociť komunity \nVernisáž: 8. března 2024 od 18 hodin \nVýstava: 11. 3. – 26. 4. 2024 \nKurátoři: Jan Kieweg\, Karolína Lapešová \nFB událost \nNová výstava s názvem Prociť komunity v Galerii Na Věky představí tvorbu mladých autorek\, autorů a kolektivů\, jejichž činnost upozorňuje na dění v daných komunitách\, a to včetně problémů\, se kterými se potýkají. Péče o tyto komunity\, stejně jako její absence\, nastoluje otázku k zamyšlení\, co pro tyto komunity můžeme jako společnost udělat. Výstava prezentuje vybrané komunity (ukrajinskou\, queer\, etnickou\, studentskou i uměleckou)\, které vyžadují naši pozornost. \nUmělkyně Darja Lukjanenko na výstavě zastupuje ukrajinskou komunitu svým dílem – záznamem performance\, které vzniklo v chrámu kostela. Na queer komunitu se zaměří dílo (závěsná tapiserie) Adriána Krišky\, v němž autor rozvíjí osobitou mytologii v kombinaci s queer tématy. Mapování romské komunity se věnuje autorka Anna Veronika Křížová\, která je na výstavě zastoupena instalací fotografií romské komunity na Slovensku. Tématu romské i sociální komunitě se věnuje kolektiv Prádelna\, který galerii zapůjčil video a výstavu doplní o doprovodný program v podobě projekce snímku Jak vyjádřit touhu nemožného (2022) prezentovaného na festivalu Marienbad v loňském roce. Problematice umělecké práce a praxi na vysokých uměleckých školách se věnuje umělkyně Karolína Schön z AVU v rámci instalace upozorňující na status umělce a kolektiv Neklikej a spi z FA ČVUT\, který poukazuje na péči o studenty a studentky architektury. \nTřetí výstavu slavnostně zahájíme 8/3/2024 od 18 hodin v Galerii Na Věky v Komunitním prostoru Smíchov za účasti umělců a umělkyň\, zástupců a zástupkyň komunit a kolektivů: Adrian Kriška\, Anna Veronika Křížová\, Darja Lukjanenko\, kolektiv Neklikej a spi\, kolektiv Prádelna a Karolína Schön. \n  \nOtevírací doba \npondělí–pátek: 14–19 \nVstupné dobrovolné \n  \nPořádá: Galerie Na Věky\, Evangelická církev Českobratrská\, Komunitní prostor Smíchov\, Kavárna Na Věky \nProjekt podporují: Státní fond kultury ČR\, hlavní město Praha \nMediální partner: Fakulta umění a designu UJEP\, ArtMap\, Kulturní magazín UNI
URL:https://kpsmichov.cz/program/procit-komunity-vernisaz-vystavy/
LOCATION:Galerie Na Věky\, Na Doubkové 8\, Praha\, 150 00\, Česká republika
CATEGORIES:Kultura v prostoru
ATTACH;FMTTYPE=image/jpeg:https://kpsmichov.cz/wp-content/uploads/2024/02/komunita_udalost-scaled.jpg
END:VEVENT
BEGIN:VEVENT
DTSTART;TZID=Europe/Prague:20231208T180000
DTEND;TZID=Europe/Prague:20231208T200000
DTSTAMP:20260420T223721
CREATED:20231202T132910Z
LAST-MODIFIED:20240502T195037Z
UID:10004671-1702058400-1702065600@kpsmichov.cz
SUMMARY:Vernisáž výstavy: Péče o místo
DESCRIPTION:I když vím\, že hořím\, něco mě zebe\n\nVýstava: 9. 12. 2023 – 26. 1. 2024\nVernisáž 8. 12. 2023 v 18 hodin\nVystavující: David Čumalo\nKurátoři: Jan Kieweg\, Karolína Lapešová\n\nZveme na vernisáž výstavy Davida Čumala I když vím\, že hořím\, něco mě zebe. Zahájení proběhne 8. 12. 2023 v 18 hodin v Galerii Na Věky (Na Doubkové 2040/8\, Praha 5).\n\nPéče je obecně brána jako praktika\, kterou můžeme vykonávat vůči sobě nebo vůči jiným existencím\, aniž by to bylo na první pohled zřetelné. Druhá výstava z cyklu (Ne)viditelná ruka péče s názvem I když vím\, že hořím\, něco mě zebe navazuje na téma péče se zaměřením na historii daného místa\, a to s volným rozvinutím ke konkrétní oblasti\, budově a příběhům\, se kterými je provázané. Zásadní je význam genia loci a pojednání o vztahu místa a energii\, která vyzařuje z konkrétní oblasti. Historie a duch místa\, který na nás dýchá z každého zákoutí evangelického kostela\, se spojují s osobní mytologií umělce Davida Čumala. Předmětem péče se stává kostel samotný.\n\nKoncepce výstavy je inspirována archivem kostela Českobratrské církve evangelické na Smíchově\, kronikami\, fotografiemi a zápisy odkrývacími historickou významnost místa. Název výstavy vychází z textu písně skupiny Psí vojáci a evokuje v autorovi nostalgické vzpomínky\, které se prolínají expozicí. Myšlenkové návraty do minulosti\, stýskání po uplynulých časech a melancholie vyvstávající na povrch s přicházející zimou.\n\nDavid Čumalo (*1992) je současným vizuálním umělcem a absolventem Akademie výtvarných umění v ateliéru Malba 1. Během studia absolvoval stáž v ateliéru Grafika 2 na AVU a zahraniční stáž na Královské akademii výtvarných umění v Antverpách. Davidova tvorba nejčastěji vzniká díky pobytu v nezvyklém prostoru\, ze kterého čerpá inspiraci\, a místo\, které obývá se tak stává i součástí finálního díla. Pro výstavu v Galerii Na Věky se autorovi staly příbytkem kůr a sborový dům evangelického kostela\, kde většina děl výstavy vznikla. David v kostele strávil značný čas\, načerpal energii místa a skrze práci s archivem nalezl téma\, které ho s prostorem spojuje. Autor technikou kvaše na starých kostelních prknech\, které objevil\, omyl a vdechl jim “nový život”\, kombinuje motivy vycházející z historie smíchovského evangelického kostela\, z náboženské ikonografie i z vlastní minulosti a mytologie. Veškeré elementy se spojují za účelem vyjádření nostalgie\, absence tušeného i momentu osvobození.\n\nGrafický design: Jakub Veselý\n\nProjekt je podpořen Fakultou umění a designu Univerzity Jana Evangelisty Purkyně v Ústí nad Labem. Projekt se uskutečňuje za podpory Komunitního prostoru Smíchov a Kavárny Na Věky.\n\nPartneři: Komunitní prostor Smíchov\, Kavárna Na Věky\, Fakulta umění a designu Univerzity Jana Evangelisty Purkyně v Ústí nad Labem\n\nSponzoři: Fakulta umění a designu Univerzity Jana Evangelisty Purkyně v Ústí nad Labem
URL:https://kpsmichov.cz/program/vernisaz-vystavy-pece-o-misto/
LOCATION:Galerie Na Věky\, Na Doubkové 8\, Praha\, 150 00\, Česká republika
CATEGORIES:Kultura v prostoru
ATTACH;FMTTYPE=image/jpeg:https://kpsmichov.cz/wp-content/uploads/2023/12/406545165_193319383834977_2699872167242959934_n-1.jpg
END:VEVENT
BEGIN:VEVENT
DTSTART;TZID=Europe/Prague:20230826T140000
DTEND;TZID=Europe/Prague:20231027T190000
DTSTAMP:20260420T223721
CREATED:20231230T093420Z
LAST-MODIFIED:20240503T055018Z
UID:10004677-1693058400-1698433200@kpsmichov.cz
SUMMARY:Výstava: DUŠE MÍNÍ ČLOVĚK ČINÍ
DESCRIPTION:Duše míní člověk činí \n26. 8. – 27. 10. 2023\nVystavující: Ágnes Čechová\, Michaela Jamborová\, Karolína Kopřivová\nKurátoři: Jan Kieweg\, Karolína Lapešová \n\n\nPéče je obecně brána jako praktika\, kterou můžeme vykonávat vůči sobě nebo vůči jiným\, aniž by to bylo na první pohled zřetelné. Sama duše je předmětem zájmu již mnohá staletí a v mnohých oblastech\, nejvýrazněji se však projevila ve filozofii\, kde se duše stala předmětem rozličných polemik. Zájem o duši sledujeme již od starověkého Řecka u prvních velkých filozofů Platóna a Sokrata. Péčí o duši se na našem území zabýval například Jan Patočka (Epimeleia peri tés psychés) a od konce minulého století se těší velkému zájmu v širší společnosti. Psychiatrie nám pomáhá léčit choroby\, psychologie osvětluje neduhy a přivádí nás na správnou a osobitou cestu životem\, který je však plný úskalí. Pečování o duši jakožto fenomén se v posledních dekádách transformoval například do osobních rituálů a “trendů” self-care\, ve kterých věnujeme čas sami sobě. Péče o sebe sama je do jisté míry jakýmsi obranným reflexem a často i nutnou odpovědí na každodenní stresové situace i na přehršel informací a návodů\, jak žít lepší život\, které se na nás valí ze všech stran. Umělkyně\, které byly pro výstavu vybrány\, k tématu přistupují každá svým osobitým způsobem. Autorky Ágnes Čechová\, Michaela Jamborová a Karolína Kopřivová skrze různorodá média (fotografie\, video\, textil) ukazují možnosti péče o sebe a o své mentální zdraví. Návštěvník*ice tak může poznat\, co všechno může spadat pod péči o duši\, a zamyslet se nad tím\, jak on*a sám*sama tuto péči provozuje. \n\nGrafický design: Jakub Veselý \n  \nProjekt se uskutečňuje za podpory Komunitního prostoru Smíchov a Kavárny Na Věky. \nPartneři: Komunitní prostor Smíchov\, Kavárna Na Věky\, Festival Take Care \nSponzoři: Evropská Unie\, Hlavní město Praha \n\nFoto / Rebeka Pojarová
URL:https://kpsmichov.cz/program/duse-mini-clovek-cini/
LOCATION:Galerie Na Věky\, Na Doubkové 8\, Praha\, 150 00\, Česká republika
CATEGORIES:Kultura v prostoru
END:VEVENT
BEGIN:VEVENT
DTSTART;TZID=Europe/Prague:20230825T180000
DTEND;TZID=Europe/Prague:20230825T220000
DTSTAMP:20260420T223721
CREATED:20230816T123733Z
LAST-MODIFIED:20240502T202028Z
UID:10004634-1692986400-1693000800@kpsmichov.cz
SUMMARY:Opening Galerie Na Věky a vernisáž výstavy DUŠE MÍNÍ ČLOVĚK ČINÍ
DESCRIPTION:Srdečně zveme na opening Galerie Na Věky\, kterou zahájí výstava DUŠE MÍNÍ ČLOVĚK ČINÍ 26. 8. – 27. 10. 2023Vernisáž: 25. 8. 2023 v 18 hodinVystavující: Ágnes Čechová\, Michaela Jamborová\, Karolína KopřivováKurátoři: Jan Kieweg\, Karolína Lapešová DUŠE MÍNÍ ČLOVĚK ČINÍPéče je obecně brána jako praktika\, kterou můžeme vykonávat vůči sobě nebo vůči jiným\, aniž by to bylo na první pohled zřetelné. Sama duše je předmětem zájmu již mnohá staletí a v mnohých oblastech\, nejvýrazněji se však projevila ve filozofii\, kde se duše stala předmětem rozličných polemik. Zájem o duši sledujeme již od starověkého Řecka u prvních velkých filozofů Platóna a Sokrata. Péčí o duši se na našem území zabýval například Jan Patočka (Epimeleia peri tés psychés) a od konce minulého století se těší velkému zájmu v širší společnosti. Psychiatrie nám pomáhá léčit choroby\, psychologie osvětluje neduhy a přivádí nás na správnou a osobitou cestu životem\, který je však plný úskalí. Pečování o duši jakožto fenomén se v posledních dekádách transformoval například do osobních rituálů a “trendů” self-care\, ve kterých věnujeme čas sami sobě. Péče o sebe sama je do jisté míry jakýmsi obranným reflexem a často i nutnou odpovědí na každodenní stresové situace i na přehršel informací a návodů\, jak žít lepší život\, které se na nás valí ze všech stran. Umělkyně\, které byly pro výstavu vybrány\, k tématu přistupují každá svým osobitým způsobem. Autorky Ágnes Čechová\, Michaela Jamborová a Karolína Kopřivová skrze různorodá média (fotografie\, video\, textil) ukazují možnosti péče o sebe a o své mentální zdraví. Návštěvník*ice tak může poznat\, co všechno může spadat pod péči o duši\, a zamyslet se nad tím\, jak on*a sám*sama tuto péči provozuje.Součástí vernisáže bude performance Solidarita v trauma autorů a autorek: Kristina Hlavinková\, Jana Chmelařová\, Michaela Jamborová\, Kristina Kouklová\, Lukáš Smatana a Ian Young. \nVíce informací o Galerii Na Věky \n\n\nFacebook
URL:https://kpsmichov.cz/program/opening-galerie-na-veky-a-vernisaz-vystavy-duse-mini-clovek-cini/
LOCATION:Galerie Na Věky\, Na Doubkové 8\, Praha\, 150 00\, Česká republika
CATEGORIES:Kultura v prostoru
ATTACH;FMTTYPE=image/jpeg:https://kpsmichov.cz/wp-content/uploads/2023/08/tiskoviny.jpg
END:VEVENT
END:VCALENDAR