BEGIN:VCALENDAR
VERSION:2.0
PRODID:-//Komunitní prostor Smíchov - ECPv6.15.20//NONSGML v1.0//EN
CALSCALE:GREGORIAN
METHOD:PUBLISH
X-WR-CALNAME:Komunitní prostor Smíchov
X-ORIGINAL-URL:https://kpsmichov.cz/en
X-WR-CALDESC:Events for Komunitní prostor Smíchov
REFRESH-INTERVAL;VALUE=DURATION:PT1H
X-Robots-Tag:noindex
X-PUBLISHED-TTL:PT1H
BEGIN:VTIMEZONE
TZID:Europe/Prague
BEGIN:DAYLIGHT
TZOFFSETFROM:+0100
TZOFFSETTO:+0200
TZNAME:CEST
DTSTART:20230326T010000
END:DAYLIGHT
BEGIN:STANDARD
TZOFFSETFROM:+0200
TZOFFSETTO:+0100
TZNAME:CET
DTSTART:20231029T010000
END:STANDARD
BEGIN:DAYLIGHT
TZOFFSETFROM:+0100
TZOFFSETTO:+0200
TZNAME:CEST
DTSTART:20240331T010000
END:DAYLIGHT
BEGIN:STANDARD
TZOFFSETFROM:+0200
TZOFFSETTO:+0100
TZNAME:CET
DTSTART:20241027T010000
END:STANDARD
BEGIN:DAYLIGHT
TZOFFSETFROM:+0100
TZOFFSETTO:+0200
TZNAME:CEST
DTSTART:20250330T010000
END:DAYLIGHT
BEGIN:STANDARD
TZOFFSETFROM:+0200
TZOFFSETTO:+0100
TZNAME:CET
DTSTART:20251026T010000
END:STANDARD
END:VTIMEZONE
BEGIN:VEVENT
DTSTART;TZID=Europe/Prague:20241024T163000
DTEND;TZID=Europe/Prague:20241024T230000
DTSTAMP:20260421T085250
CREATED:20241022T110433Z
LAST-MODIFIED:20250712T144224Z
UID:7502-1729787400-1729810800@kpsmichov.cz
SUMMARY:VÍTR\, DRACI\, OHÝNKY aneb ŘÍJNOVÁ SOUSEDSKÁ
DESCRIPTION:Vítr\, draci\, ohníky… Venku fouká a my svoláváme ryze podzimní sousedskou.\n\n\n– na vyrábění můžete dorazit OD 16:30h– dojděte kdykoliv\, končíme DO 23h \n\n\nV chrámu a před kostelem. Zváni jsou všichni 🍁 \n_______________________________________ \n\n\nVYROB SI SÁM:\n16:30-18:30 / VŠE\, CO VE VĚTRU VLAJE– Velkolepé vyrábění větrníků\, draků\, padáčků a všeho\,co může vlát.– K dispozici budou materiály (igelity\, sáčky\, papíry\, fáborky\, kelímky\, petky a tak)\, ze kterých můžete vytvářet věci\, co se dají vystavit do větru. Tedy nejen draky\, ale cokoliv… Nabízíme materiál\, prostor a příležitost k vašemu vlastnímu tvoření. \n  \n\n\nOHEŇ\, JÍDLO\n– Vaříme dýňovou polévku– K dispozici budou špekáčky\, pečivo \n  \n\n\nHUDBA\nVečerní koncert v chrámu: \n19:00 / KVIETAH20:30 / CERMAQUE\n  \n\n\nPOTRAVINOVKA\n– Potravinová pomoc pro potřebné.– Víte\, komu by se hodila? Pozvěte je!
URL:https://kpsmichov.cz/en/program/vitr-draci-ohynky-sousedska/
LOCATION:Zahrada\, Na Doubkové 8\, Praha 5\, Praha\, 150 00\, Česká republika
CATEGORIES:Sousedská setkání
ATTACH;FMTTYPE=image/jpeg:https://kpsmichov.cz/wp-content/uploads/2024/10/462232512_1013124887521142_5751071655720082835_n-e1729595718930.jpg
END:VEVENT
END:VCALENDAR