BEGIN:VCALENDAR
VERSION:2.0
PRODID:-//Komunitní prostor Smíchov - ECPv6.15.20//NONSGML v1.0//EN
CALSCALE:GREGORIAN
METHOD:PUBLISH
X-WR-CALNAME:Komunitní prostor Smíchov
X-ORIGINAL-URL:https://kpsmichov.cz/en
X-WR-CALDESC:Events for Komunitní prostor Smíchov
REFRESH-INTERVAL;VALUE=DURATION:PT1H
X-Robots-Tag:noindex
X-PUBLISHED-TTL:PT1H
BEGIN:VTIMEZONE
TZID:Europe/Prague
BEGIN:DAYLIGHT
TZOFFSETFROM:+0100
TZOFFSETTO:+0200
TZNAME:CEST
DTSTART:20230326T010000
END:DAYLIGHT
BEGIN:STANDARD
TZOFFSETFROM:+0200
TZOFFSETTO:+0100
TZNAME:CET
DTSTART:20231029T010000
END:STANDARD
BEGIN:DAYLIGHT
TZOFFSETFROM:+0100
TZOFFSETTO:+0200
TZNAME:CEST
DTSTART:20240331T010000
END:DAYLIGHT
BEGIN:STANDARD
TZOFFSETFROM:+0200
TZOFFSETTO:+0100
TZNAME:CET
DTSTART:20241027T010000
END:STANDARD
BEGIN:DAYLIGHT
TZOFFSETFROM:+0100
TZOFFSETTO:+0200
TZNAME:CEST
DTSTART:20250330T010000
END:DAYLIGHT
BEGIN:STANDARD
TZOFFSETFROM:+0200
TZOFFSETTO:+0100
TZNAME:CET
DTSTART:20251026T010000
END:STANDARD
END:VTIMEZONE
BEGIN:VEVENT
DTSTART;TZID=Europe/Prague:20240530T180000
DTEND;TZID=Europe/Prague:20240530T210000
DTSTAMP:20260420T195506
CREATED:20240513T182228Z
LAST-MODIFIED:20250712T144307Z
UID:6145-1717092000-1717102800@kpsmichov.cz
SUMMARY:Vernisáž výstavy Péče o bližní
DESCRIPTION:(Ne)viditelná ruka péče: Péče o blížní \nVernisáž: 30. května 2024 od 18 hodin \nVýstava: 31. 5. – 26. 7. 2024 \nKurátoři: Jan Kieweg\, Karolína Lapešová \nVystavující: Barbara Kalypso Ristić\, Tereza Frindová\, Angelika Králová \n  \nPéče je obecně brána jako praktika\, kterou můžeme vykonávat vůči sobě nebo vůči jiným\nexistencím\, aniž by to bylo na první pohled zřetelné. Čtvrtá výstava Bližní z cyklu (Ne)viditelná\nruka péče představí tvorbu současných mladých autorek\, které reagují na téma mezilidských\nvztahů a pečování o ně. \nNaše rodina\, kamarádi a osoby nám blízké tvoří neodlučitelnou součást\nnašeho života. Věnujeme však dostatek pozornosti a péče těmto osobám\, které nám jsou na\nblízku\, nejen když je potřebujeme? Výstava poukáže na formativní aspekt rodiny a co si pod\ntímto termínem představit. Rodina\, jakou ji známe prochází v několika posledních letech\nproměnami. Ne vždy se musí jednat o heteronormativní svazek muže a ženy\, ale i komunitu či\nskupinu lidí\, se kterými se cítíme dobře\, jsme vyslyšeni a společně sdílíme podobné\nnemateriální cíle a potřeby. \nZároveň je nutné i upozornit na momenty\, kdy tato „rodinná pohoda“\nnefunguje a jsme nuceni hledat pocit sounáležitosti jinde. Téma rodiny a mezilidských vztahů\nblíže představí vybrané autorky z vysokých uměleckých škol. Tereza Frindová\, zástupkyně\nnejmladší ženské malby orientované na figuru a figuraci\, aktuálně diplomantka pražské\nAkademie výtvarných umění ateliéru Kresba pod vedením Alice Nikitinové\, představí\nrozpracovanou diplomovou práci\, která se věnuje vývoji člověka a sebevzdělávání – aspektům\,\nkteré pozitivně či negativně ovlivňují rozvoj jedince ve společnosti. Angelika Králová je\nstudentkou v ateliéru Objekt–Prostor–Akce na Fakultě umění a designu UJEP pod vedením\nJiřího Kovandy. Autorka představí instalaci\, jež poukazuje na křehkost a zranitelnost vztahů\nutvářejících domov. Poslední autorkou je Barbara Kalypso Ristić\, studentka pražské AVU.\nTextilní instalace s názvem Rodinné konstelace odkazuje ke kořenům\, které v životě máme\, ať\nuž v podobě rodiny\, či jiného zázemí\, na které se vždy můžeme spolehnout.
URL:https://kpsmichov.cz/en/program/vernisaz-vystavy-pece-o-blizni/
LOCATION:Galerie Na Věky\, Na Doubkové 8\, Praha\, 150 00\, Česká republika
CATEGORIES:Kultura v prostoru
ATTACH;FMTTYPE=image/jpeg:https://kpsmichov.cz/wp-content/uploads/2024/05/IMG_3319-e1715631308548.jpg
END:VEVENT
END:VCALENDAR