BEGIN:VCALENDAR
VERSION:2.0
PRODID:-//Komunitní prostor Smíchov - ECPv6.15.20//NONSGML v1.0//EN
CALSCALE:GREGORIAN
METHOD:PUBLISH
X-WR-CALNAME:Komunitní prostor Smíchov
X-ORIGINAL-URL:https://kpsmichov.cz/en
X-WR-CALDESC:Events for Komunitní prostor Smíchov
REFRESH-INTERVAL;VALUE=DURATION:PT1H
X-Robots-Tag:noindex
X-PUBLISHED-TTL:PT1H
BEGIN:VTIMEZONE
TZID:Europe/Prague
BEGIN:DAYLIGHT
TZOFFSETFROM:+0100
TZOFFSETTO:+0200
TZNAME:CEST
DTSTART:20230326T010000
END:DAYLIGHT
BEGIN:STANDARD
TZOFFSETFROM:+0200
TZOFFSETTO:+0100
TZNAME:CET
DTSTART:20231029T010000
END:STANDARD
BEGIN:DAYLIGHT
TZOFFSETFROM:+0100
TZOFFSETTO:+0200
TZNAME:CEST
DTSTART:20240331T010000
END:DAYLIGHT
BEGIN:STANDARD
TZOFFSETFROM:+0200
TZOFFSETTO:+0100
TZNAME:CET
DTSTART:20241027T010000
END:STANDARD
BEGIN:DAYLIGHT
TZOFFSETFROM:+0100
TZOFFSETTO:+0200
TZNAME:CEST
DTSTART:20250330T010000
END:DAYLIGHT
BEGIN:STANDARD
TZOFFSETFROM:+0200
TZOFFSETTO:+0100
TZNAME:CET
DTSTART:20251026T010000
END:STANDARD
END:VTIMEZONE
BEGIN:VEVENT
DTSTART;TZID=Europe/Prague:20240904T180000
DTEND;TZID=Europe/Prague:20240904T220000
DTSTAMP:20260421T030018
CREATED:20240903T181925Z
LAST-MODIFIED:20250712T142740Z
UID:7232-1725472800-1725487200@kpsmichov.cz
SUMMARY:Vernisáž výstavy A přece se točí?
DESCRIPTION:Galerie Na Věky zve na vernisáž výstavy výstavy A přece se točí?\, která se uskuteční ve středu 4. září v 18 hodin v Komunitním prostoru Smíchov. Výstavu připravujeme ve spolupráci s festivalem Take Care. \nVýstava s názvem A přece se točí? v Galerii Na Věky představí tvorbu mladých současných umělců\, zaměřených na environmentální témata a udržitelnost. Své práce zde vystaví autorky Lamija Čehajić (AVU)\, Vojta Dubcová (AVU)\, Anna Holínská (VŠUP) a autor Jakub Hons (AVU). Prostřednictvím jejich uměleckého vyjádření se návštěvníci budou moci seznámit s aktuálními problémy klimatické krize\, měnícími se aspekty udržitelnosti a ekologie\, a s možnými řešeními\, která mohou přispět k pozitivní změně. Výstava bude k vidění jak v galerii\, tak i ve veřejném prostoru. \nFB událost / IG \nS případnými dotazy se na nás neváhejte obrátit na e-mail: galerie@kpsmichov.cz.\n\nTěšíme se na vás!\nKurátoři Jan Kieweg a Karolína Lapešová
URL:https://kpsmichov.cz/en/program/vernisaz-vystavy-a-prece-se-toci/
LOCATION:Galerie Na Věky\, Na Doubkové 8\, Praha\, 150 00\, Česká republika
CATEGORIES:Kultura v prostoru
ATTACH;FMTTYPE=image/jpeg:https://kpsmichov.cz/wp-content/uploads/2024/09/a_prece_se-_toci-1-scaled.jpg
END:VEVENT
END:VCALENDAR