BEGIN:VCALENDAR
VERSION:2.0
PRODID:-//Komunitní prostor Smíchov - ECPv6.15.20//NONSGML v1.0//EN
CALSCALE:GREGORIAN
METHOD:PUBLISH
X-WR-CALNAME:Komunitní prostor Smíchov
X-ORIGINAL-URL:https://kpsmichov.cz/en
X-WR-CALDESC:Events for Komunitní prostor Smíchov
REFRESH-INTERVAL;VALUE=DURATION:PT1H
X-Robots-Tag:noindex
X-PUBLISHED-TTL:PT1H
BEGIN:VTIMEZONE
TZID:Europe/Prague
BEGIN:DAYLIGHT
TZOFFSETFROM:+0100
TZOFFSETTO:+0200
TZNAME:CEST
DTSTART:20230326T010000
END:DAYLIGHT
BEGIN:STANDARD
TZOFFSETFROM:+0200
TZOFFSETTO:+0100
TZNAME:CET
DTSTART:20231029T010000
END:STANDARD
BEGIN:DAYLIGHT
TZOFFSETFROM:+0100
TZOFFSETTO:+0200
TZNAME:CEST
DTSTART:20240331T010000
END:DAYLIGHT
BEGIN:STANDARD
TZOFFSETFROM:+0200
TZOFFSETTO:+0100
TZNAME:CET
DTSTART:20241027T010000
END:STANDARD
BEGIN:DAYLIGHT
TZOFFSETFROM:+0100
TZOFFSETTO:+0200
TZNAME:CEST
DTSTART:20250330T010000
END:DAYLIGHT
BEGIN:STANDARD
TZOFFSETFROM:+0200
TZOFFSETTO:+0100
TZNAME:CET
DTSTART:20251026T010000
END:STANDARD
END:VTIMEZONE
BEGIN:VEVENT
DTSTART;TZID=Europe/Prague:20240222T170000
DTEND;TZID=Europe/Prague:20240222T230000
DTSTAMP:20260421T043508
CREATED:20240125T120730Z
LAST-MODIFIED:20250712T144655Z
UID:5515-1708621200-1708642800@kpsmichov.cz
SUMMARY:Únorová sousedská
DESCRIPTION:Komunitní prostor Smíchov i Active Citizens Gymnázium na Zatlance srdečně zvou na akci\nDva roky odvahyaneb únorová sousedská\n22.2.od 17:00Na Doubkové 8\n~~ únorovou sousedskou věnujeme připomínce ruské invaze na Ukrajinu ~ 24.2.2022 ~ největšího evropského vojenského útoku od druhé světové války ~~\n\n17:00\n~~ výroba svíček a motanek na Ukrajinuv režii Active Citizens Zatlanka\n~~ oheň\, odvážné TVAROHOVÉ KOBLIHY a horká polévkaletos nemáme masopustní veselí\, ale koblihy budou!\n~~ výstava v galerii\n\n19:00~~ divadelní představení NORMÁLNÍ ŽIVOTKapitolina Kolobova\, David Zelinka / Teď nádech a leť\n*dokumentární inscenace ukrajinských studentek herectví o tom\, co je pro ně od 24.2.2022 normální život. „…nejsou jenom problémy…“\n*po představení zveme diváky k diskuzi s tvůrci\n\n~~ a večer hudba a sousedské poposedávání jako vždy…\n\nAkce je určená pro všechny.\n~ ~ ~ Máte chuť se zapojit do příprav či průběhu akce a s něčím pomoct? Bude nadšení. Napište na sousedska@kpsmichov.com\n 
URL:https://kpsmichov.cz/en/program/unorova-sousedska/
CATEGORIES:Sousedská setkání
ATTACH;FMTTYPE=image/jpeg:https://kpsmichov.cz/wp-content/uploads/2024/01/422048479_829943305839302_2385245916583647429_n.jpg
END:VEVENT
END:VCALENDAR