BEGIN:VCALENDAR
VERSION:2.0
PRODID:-//Komunitní prostor Smíchov - ECPv6.15.20//NONSGML v1.0//EN
CALSCALE:GREGORIAN
METHOD:PUBLISH
X-WR-CALNAME:Komunitní prostor Smíchov
X-ORIGINAL-URL:https://kpsmichov.cz/en
X-WR-CALDESC:Events for Komunitní prostor Smíchov
REFRESH-INTERVAL;VALUE=DURATION:PT1H
X-Robots-Tag:noindex
X-PUBLISHED-TTL:PT1H
BEGIN:VTIMEZONE
TZID:Europe/Prague
BEGIN:DAYLIGHT
TZOFFSETFROM:+0100
TZOFFSETTO:+0200
TZNAME:CEST
DTSTART:20240331T010000
END:DAYLIGHT
BEGIN:STANDARD
TZOFFSETFROM:+0200
TZOFFSETTO:+0100
TZNAME:CET
DTSTART:20241027T010000
END:STANDARD
BEGIN:DAYLIGHT
TZOFFSETFROM:+0100
TZOFFSETTO:+0200
TZNAME:CEST
DTSTART:20250330T010000
END:DAYLIGHT
BEGIN:STANDARD
TZOFFSETFROM:+0200
TZOFFSETTO:+0100
TZNAME:CET
DTSTART:20251026T010000
END:STANDARD
BEGIN:DAYLIGHT
TZOFFSETFROM:+0100
TZOFFSETTO:+0200
TZNAME:CEST
DTSTART:20260329T010000
END:DAYLIGHT
BEGIN:STANDARD
TZOFFSETFROM:+0200
TZOFFSETTO:+0100
TZNAME:CET
DTSTART:20261025T010000
END:STANDARD
END:VTIMEZONE
BEGIN:VEVENT
DTSTART;TZID=Europe/Prague:20251017T183000
DTEND;TZID=Europe/Prague:20251017T220000
DTSTAMP:20260421T041614
CREATED:20251017T005029Z
LAST-MODIFIED:20251017T005050Z
UID:9019-1760725800-1760738400@kpsmichov.cz
SUMMARY:Swingová tančírna s kapelou a otevřená taneční lekce
DESCRIPTION:Přijďte si užít večer plný rytmu\, tance a dobré nálady! Swing je živý tanec z 30. a 40. let 20. století\, který spojuje jazz\, pohyb a radost z hudby!\n\nOd 18:30 proběhne lekce pro úplné začátečníky\, takže se nemusíte bát přijít poprvé.\nPoté se rozjede tančírna s živou hudbou kapely All Stars. \nPřijďte si zatančit a užít si páteční večer! \n\n 
URL:https://kpsmichov.cz/en/program/swing-move-2/
LOCATION:Chrám\, Komunitní prostor Smíchov Na Doubkové 8\, Praha 5\, kraj hlavní město praha\, 150 00\, Česká republika
CATEGORIES:Taneční aktivity
ATTACH;FMTTYPE=image/jpeg:https://kpsmichov.cz/wp-content/uploads/2024/12/DSC_5653.jpg
END:VEVENT
END:VCALENDAR