BEGIN:VCALENDAR
VERSION:2.0
PRODID:-//Komunitní prostor Smíchov - ECPv6.15.20//NONSGML v1.0//EN
CALSCALE:GREGORIAN
METHOD:PUBLISH
X-WR-CALNAME:Komunitní prostor Smíchov
X-ORIGINAL-URL:https://kpsmichov.cz/en
X-WR-CALDESC:Events for Komunitní prostor Smíchov
REFRESH-INTERVAL;VALUE=DURATION:PT1H
X-Robots-Tag:noindex
X-PUBLISHED-TTL:PT1H
BEGIN:VTIMEZONE
TZID:Europe/Prague
BEGIN:DAYLIGHT
TZOFFSETFROM:+0100
TZOFFSETTO:+0200
TZNAME:CEST
DTSTART:20230326T010000
END:DAYLIGHT
BEGIN:STANDARD
TZOFFSETFROM:+0200
TZOFFSETTO:+0100
TZNAME:CET
DTSTART:20231029T010000
END:STANDARD
BEGIN:DAYLIGHT
TZOFFSETFROM:+0100
TZOFFSETTO:+0200
TZNAME:CEST
DTSTART:20240331T010000
END:DAYLIGHT
BEGIN:STANDARD
TZOFFSETFROM:+0200
TZOFFSETTO:+0100
TZNAME:CET
DTSTART:20241027T010000
END:STANDARD
BEGIN:DAYLIGHT
TZOFFSETFROM:+0100
TZOFFSETTO:+0200
TZNAME:CEST
DTSTART:20250330T010000
END:DAYLIGHT
BEGIN:STANDARD
TZOFFSETFROM:+0200
TZOFFSETTO:+0100
TZNAME:CET
DTSTART:20251026T010000
END:STANDARD
END:VTIMEZONE
BEGIN:VEVENT
DTSTART;TZID=Europe/Prague:20240423T170000
DTEND;TZID=Europe/Prague:20240423T220000
DTSTAMP:20260421T024403
CREATED:20240418T115359Z
LAST-MODIFIED:20250712T144621Z
UID:5983-1713891600-1713909600@kpsmichov.cz
SUMMARY:Sousedská vaječina
DESCRIPTION:Sousedská vaječinaaneb Sharing is caring\nVařit\, jíst\, povídat si\, pracovat\, poslouchat hudbu\, vyprat své špinavé prádlo\, koukat na filmy a mít radost.\nSkvělé na tom\, že každému z nás v životě něco přebývá a něco chybí\, je\, že můžem sdílet. Tomu odkazujeme program dubnové Sousedské vaječiny s podtitulem Sharing is caring.\nNa sousedské akce zvem srdečně kohokoliv\, kdo chce dorazit.\n\nco bude\n17:00– příprava vaječiny (aka. míchaná vajíčka) na ohni– zahradní práce (natírání\, sázení bylinek a jarní úklid)– potravinová banka– praní prádla pro potřebné – Kolektiv Prádelna\n19:00– kapela Muzikanti bez domova\n20:30– promítání filmu Lidi (Kateř Tureček) + diskuze s Kateř\n\n\nvstupnésyrová vajíčka a další (ne)vaječné potraviny na společný stůl\n\n\n————————–ENGCommunity space Smíchov invites you all forNeighbours „scrambled eggy“ eventaka. Sharing is caring\nCooking\, eating\, working\, listening to music\, washing our dirty clothes\, watching movies\, discussing and just being happy.\nEach of us has too much of something and too little of something else. The great fact is\, that we can share. The program of our april’s neigbours event is dedicated to this topic – Sharing is caring\, baby.\nOur neighbours events are open to anyone\, who is interested to join us.\nPlease\, BRING eggs or something else to share with others!\nProgram5pm– preparing scrambled eggs (on fire)– working together outside (gardening\, painting\, cleaning)– food bank– an open spot to wash dirty clothes for those\, who are in need / from Kolektiv Prádelna\n7pm– concert Muzikanti bez domova\n8:30pm– the movie „People“ (Kateř Tureček) and the discussion with Kateř\nWe are looking forward to see you.
URL:https://kpsmichov.cz/en/program/sousedska-vajecina/
CATEGORIES:Sousedská setkání
ATTACH;FMTTYPE=image/png:https://kpsmichov.cz/wp-content/uploads/2024/04/IMG_7605.png
END:VEVENT
END:VCALENDAR