BEGIN:VCALENDAR
VERSION:2.0
PRODID:-//Komunitní prostor Smíchov - ECPv6.15.20//NONSGML v1.0//EN
CALSCALE:GREGORIAN
METHOD:PUBLISH
X-WR-CALNAME:Komunitní prostor Smíchov
X-ORIGINAL-URL:https://kpsmichov.cz/en
X-WR-CALDESC:Events for Komunitní prostor Smíchov
REFRESH-INTERVAL;VALUE=DURATION:PT1H
X-Robots-Tag:noindex
X-PUBLISHED-TTL:PT1H
BEGIN:VTIMEZONE
TZID:Europe/Prague
BEGIN:DAYLIGHT
TZOFFSETFROM:+0100
TZOFFSETTO:+0200
TZNAME:CEST
DTSTART:20210328T010000
END:DAYLIGHT
BEGIN:STANDARD
TZOFFSETFROM:+0200
TZOFFSETTO:+0100
TZNAME:CET
DTSTART:20211031T010000
END:STANDARD
BEGIN:DAYLIGHT
TZOFFSETFROM:+0100
TZOFFSETTO:+0200
TZNAME:CEST
DTSTART:20220327T010000
END:DAYLIGHT
BEGIN:STANDARD
TZOFFSETFROM:+0200
TZOFFSETTO:+0100
TZNAME:CET
DTSTART:20221030T010000
END:STANDARD
BEGIN:DAYLIGHT
TZOFFSETFROM:+0100
TZOFFSETTO:+0200
TZNAME:CEST
DTSTART:20230326T010000
END:DAYLIGHT
BEGIN:STANDARD
TZOFFSETFROM:+0200
TZOFFSETTO:+0100
TZNAME:CET
DTSTART:20231029T010000
END:STANDARD
END:VTIMEZONE
BEGIN:VEVENT
DTSTART;TZID=Europe/Prague:20221102T170000
DTEND;TZID=Europe/Prague:20221102T210000
DTSTAMP:20260421T150003
CREATED:20221027T143902Z
LAST-MODIFIED:20250712T145140Z
UID:1916-1667408400-1667422800@kpsmichov.cz
SUMMARY:Sousedská akce: Zelí\, aneb zásoby na zimu
DESCRIPTION:zahrada z ulice Na Doubkové \nkrouhání zelí\, jezení zelňačky\, zeláky\, hudba\, oheň a sousedé \nakce se koná pod záštitou platformy Sousedění \nvstupné: hlávka zelí a vlastní nádoba na kvašení
URL:https://kpsmichov.cz/en/program/sousedska-akce-zeli-aneb-zasoby-na-zimu/
LOCATION:Zahrada\, Na Doubkové 8\, Praha 5\, Praha\, 150 00\, Česká republika
CATEGORIES:Sousedská setkání
ATTACH;FMTTYPE=image/jpeg:https://kpsmichov.cz/wp-content/uploads/2022/10/Zeli-scaled.jpg
END:VEVENT
END:VCALENDAR