BEGIN:VCALENDAR
VERSION:2.0
PRODID:-//Komunitní prostor Smíchov - ECPv6.15.20//NONSGML v1.0//EN
CALSCALE:GREGORIAN
METHOD:PUBLISH
X-WR-CALNAME:Komunitní prostor Smíchov
X-ORIGINAL-URL:https://kpsmichov.cz/en
X-WR-CALDESC:Events for Komunitní prostor Smíchov
REFRESH-INTERVAL;VALUE=DURATION:PT1H
X-Robots-Tag:noindex
X-PUBLISHED-TTL:PT1H
BEGIN:VTIMEZONE
TZID:Europe/Prague
BEGIN:DAYLIGHT
TZOFFSETFROM:+0100
TZOFFSETTO:+0200
TZNAME:CEST
DTSTART:20220327T010000
END:DAYLIGHT
BEGIN:STANDARD
TZOFFSETFROM:+0200
TZOFFSETTO:+0100
TZNAME:CET
DTSTART:20221030T010000
END:STANDARD
BEGIN:DAYLIGHT
TZOFFSETFROM:+0100
TZOFFSETTO:+0200
TZNAME:CEST
DTSTART:20230326T010000
END:DAYLIGHT
BEGIN:STANDARD
TZOFFSETFROM:+0200
TZOFFSETTO:+0100
TZNAME:CET
DTSTART:20231029T010000
END:STANDARD
BEGIN:DAYLIGHT
TZOFFSETFROM:+0100
TZOFFSETTO:+0200
TZNAME:CEST
DTSTART:20240331T010000
END:DAYLIGHT
BEGIN:STANDARD
TZOFFSETFROM:+0200
TZOFFSETTO:+0100
TZNAME:CET
DTSTART:20241027T010000
END:STANDARD
END:VTIMEZONE
BEGIN:VEVENT
DTSTART;TZID=Europe/Prague:20230124T170000
DTEND;TZID=Europe/Prague:20230124T200000
DTSTAMP:20260421T072339
CREATED:20221228T225528Z
LAST-MODIFIED:20250712T145316Z
UID:2234-1674579600-1674590400@kpsmichov.cz
SUMMARY:Sousedská akce: Lednový klid
DESCRIPTION:srdečně zveme na sousedské lednové vyklidnění / přijďte sami nebo s někým klidně nicnedělat / chill-out zóna\, klidová a relaxační hudba\, klidné povídání ad. / klidně zůstaňte taky doma a přidejte se k nám na dálku / \nklidu zdar
URL:https://kpsmichov.cz/en/program/sousedska-akce-lednovy-klid/
CATEGORIES:Sousedská setkání
ATTACH;FMTTYPE=image/jpeg:https://kpsmichov.cz/wp-content/uploads/2022/12/IMG-7291-scaled.jpg
END:VEVENT
END:VCALENDAR