BEGIN:VCALENDAR
VERSION:2.0
PRODID:-//Komunitní prostor Smíchov - ECPv6.15.20//NONSGML v1.0//EN
CALSCALE:GREGORIAN
METHOD:PUBLISH
X-WR-CALNAME:Komunitní prostor Smíchov
X-ORIGINAL-URL:https://kpsmichov.cz/en
X-WR-CALDESC:Events for Komunitní prostor Smíchov
REFRESH-INTERVAL;VALUE=DURATION:PT1H
X-Robots-Tag:noindex
X-PUBLISHED-TTL:PT1H
BEGIN:VTIMEZONE
TZID:Europe/Prague
BEGIN:DAYLIGHT
TZOFFSETFROM:+0100
TZOFFSETTO:+0200
TZNAME:CEST
DTSTART:20240331T010000
END:DAYLIGHT
BEGIN:STANDARD
TZOFFSETFROM:+0200
TZOFFSETTO:+0100
TZNAME:CET
DTSTART:20241027T010000
END:STANDARD
BEGIN:DAYLIGHT
TZOFFSETFROM:+0100
TZOFFSETTO:+0200
TZNAME:CEST
DTSTART:20250330T010000
END:DAYLIGHT
BEGIN:STANDARD
TZOFFSETFROM:+0200
TZOFFSETTO:+0100
TZNAME:CET
DTSTART:20251026T010000
END:STANDARD
BEGIN:DAYLIGHT
TZOFFSETFROM:+0100
TZOFFSETTO:+0200
TZNAME:CEST
DTSTART:20260329T010000
END:DAYLIGHT
BEGIN:STANDARD
TZOFFSETFROM:+0200
TZOFFSETTO:+0100
TZNAME:CET
DTSTART:20261025T010000
END:STANDARD
END:VTIMEZONE
BEGIN:VEVENT
DTSTART;TZID=Europe/Prague:20251122T193000
DTEND;TZID=Europe/Prague:20251122T210000
DTSTAMP:20260421T095748
CREATED:20251101T150809Z
LAST-MODIFIED:20251101T150809Z
UID:9091-1763839800-1763845200@kpsmichov.cz
SUMMARY:Slavnost světla – tradiční ekumenická modlitba se zpěvy Taizé
DESCRIPTION:Srdečně zveme na tradiční slavnost světla.\n\nKdy? 22. listopadu 2025 v 19:30\nKde? ČCE Smíchov\, Na Doubkové 2040/8\, Praha 5\n\nV případě\, že byste chtěli pomoct s přípravou\, nám prosím napište na e-mail: taize.praha@gmail.com. \nPřed samotnou modlitbou je možnost zapojit se mezi 17.30-19:00 do sdílení v malé hagioterapeutické skupince. Registrace na malou skupinku: https://forms.gle/MeS6ovC6CLRV1Rfk9\n.\nVíce o Taizé naleznete na stránce www.taize.fr/cs_rubrique325.htmlTěšíme se na vás\n\nENG\nWe warmly invite you to the traditional festival of light. \n\nWhen? 22 November 2025 at 19:30\nWhere: ČCE Smíchov\, Na Doubkové 2040/8\, Prague 5\n\nIf you would like to help with the preparations\, please contact us by email: taize.praha@gmail.com. \nBefore the prayer itself\, there is an opportunity to join a small hagiotherapy group between 5:30 p.m. and 7:00 p.m. Registration for the small group: https://forms.gle/MeS6ovC6CLRV1Rfk9\n.\nYou can find more about Taizé here www.taize.fr/en_rubrique8.html\nWe are looking forward to see you
URL:https://kpsmichov.cz/en/program/slavnost-svetla-tradicni-ekumenicka-modlitba-se-zpevy-taize/
CATEGORIES:Duchovní záležitosti
ATTACH;FMTTYPE=image/jpeg:https://kpsmichov.cz/wp-content/uploads/2025/11/573570415_1145672874373333_8989579921038265263_n.jpg
END:VEVENT
END:VCALENDAR