BEGIN:VCALENDAR
VERSION:2.0
PRODID:-//Komunitní prostor Smíchov - ECPv6.15.20//NONSGML v1.0//EN
CALSCALE:GREGORIAN
METHOD:PUBLISH
X-WR-CALNAME:Komunitní prostor Smíchov
X-ORIGINAL-URL:https://kpsmichov.cz/en
X-WR-CALDESC:Events for Komunitní prostor Smíchov
REFRESH-INTERVAL;VALUE=DURATION:PT1H
X-Robots-Tag:noindex
X-PUBLISHED-TTL:PT1H
BEGIN:VTIMEZONE
TZID:Europe/Prague
BEGIN:DAYLIGHT
TZOFFSETFROM:+0100
TZOFFSETTO:+0200
TZNAME:CEST
DTSTART:20230326T010000
END:DAYLIGHT
BEGIN:STANDARD
TZOFFSETFROM:+0200
TZOFFSETTO:+0100
TZNAME:CET
DTSTART:20231029T010000
END:STANDARD
BEGIN:DAYLIGHT
TZOFFSETFROM:+0100
TZOFFSETTO:+0200
TZNAME:CEST
DTSTART:20240331T010000
END:DAYLIGHT
BEGIN:STANDARD
TZOFFSETFROM:+0200
TZOFFSETTO:+0100
TZNAME:CET
DTSTART:20241027T010000
END:STANDARD
BEGIN:DAYLIGHT
TZOFFSETFROM:+0100
TZOFFSETTO:+0200
TZNAME:CEST
DTSTART:20250330T010000
END:DAYLIGHT
BEGIN:STANDARD
TZOFFSETFROM:+0200
TZOFFSETTO:+0100
TZNAME:CET
DTSTART:20251026T010000
END:STANDARD
END:VTIMEZONE
BEGIN:VEVENT
DTSTART;TZID=Europe/Prague:20241223T170000
DTEND;TZID=Europe/Prague:20241223T230000
DTSTAMP:20260421T103237
CREATED:20241217T140906Z
LAST-MODIFIED:20250712T135921Z
UID:7892-1734973200-1734994800@kpsmichov.cz
SUMMARY:Prosincová předvánoční sousedská
DESCRIPTION:Srdečně vás zveme na prosincovou předvánoční.Malá klidná předvánoční oslava. Pro všechny.Osamělé i obklopené. Radostné i posmutnělé.\n__________________________________________\n\nPřijďte– na dobrou večeři – muziku – lití voskových svíček s „pastor’s family“ a další malé radosti. \n\n\nDorazíte? Dejte prosím v události na FB „zúčastním se“\, nebo nám zkuste napsat na sousedska@kpsmichov.cz…ať můžeme zhruba odhadnout kolik jídla. \n\nS sebouMůžete přibrat hudební nástroj\, cukroví nebo cokoliv\, co vás napadne.\nPozvěte k nám všechny\, kdo budou o Vánocích sami.
URL:https://kpsmichov.cz/en/program/prosincova-sousedska/
LOCATION:Kavárna\, Komunitní prostor Smíchov Na Doubkové 8\, Praha 5\, kraj hlavní město praha\, 150 00\, Česká republika
CATEGORIES:Sousedská setkání
ATTACH;FMTTYPE=image/jpeg:https://kpsmichov.cz/wp-content/uploads/2024/12/470222607_1066562662177364_2674877772575632307_n.jpg
END:VEVENT
END:VCALENDAR