BEGIN:VCALENDAR
VERSION:2.0
PRODID:-//Komunitní prostor Smíchov - ECPv6.15.20//NONSGML v1.0//EN
CALSCALE:GREGORIAN
METHOD:PUBLISH
X-WR-CALNAME:Komunitní prostor Smíchov
X-ORIGINAL-URL:https://kpsmichov.cz/en
X-WR-CALDESC:Events for Komunitní prostor Smíchov
REFRESH-INTERVAL;VALUE=DURATION:PT1H
X-Robots-Tag:noindex
X-PUBLISHED-TTL:PT1H
BEGIN:VTIMEZONE
TZID:Europe/Prague
BEGIN:DAYLIGHT
TZOFFSETFROM:+0100
TZOFFSETTO:+0200
TZNAME:CEST
DTSTART:20230326T010000
END:DAYLIGHT
BEGIN:STANDARD
TZOFFSETFROM:+0200
TZOFFSETTO:+0100
TZNAME:CET
DTSTART:20231029T010000
END:STANDARD
BEGIN:DAYLIGHT
TZOFFSETFROM:+0100
TZOFFSETTO:+0200
TZNAME:CEST
DTSTART:20240331T010000
END:DAYLIGHT
BEGIN:STANDARD
TZOFFSETFROM:+0200
TZOFFSETTO:+0100
TZNAME:CET
DTSTART:20241027T010000
END:STANDARD
BEGIN:DAYLIGHT
TZOFFSETFROM:+0100
TZOFFSETTO:+0200
TZNAME:CEST
DTSTART:20250330T010000
END:DAYLIGHT
BEGIN:STANDARD
TZOFFSETFROM:+0200
TZOFFSETTO:+0100
TZNAME:CET
DTSTART:20251026T010000
END:STANDARD
END:VTIMEZONE
BEGIN:VEVENT
DTSTART;TZID=Europe/Prague:20240308T180000
DTEND;TZID=Europe/Prague:20240308T210000
DTSTAMP:20260421T012629
CREATED:20240305T161248Z
LAST-MODIFIED:20240502T202304Z
UID:5834-1709920800-1709931600@kpsmichov.cz
SUMMARY:Vernisáž výstavy Prociť komunity
DESCRIPTION:(Ne)viditelná ruka péče: Prociť komunity \nVernisáž: 8. března 2024 od 18 hodin \nVýstava: 11. 3. – 26. 4. 2024 \nKurátoři: Jan Kieweg\, Karolína Lapešová \nFB událost \nNová výstava s názvem Prociť komunity v Galerii Na Věky představí tvorbu mladých autorek\, autorů a kolektivů\, jejichž činnost upozorňuje na dění v daných komunitách\, a to včetně problémů\, se kterými se potýkají. Péče o tyto komunity\, stejně jako její absence\, nastoluje otázku k zamyšlení\, co pro tyto komunity můžeme jako společnost udělat. Výstava prezentuje vybrané komunity (ukrajinskou\, queer\, etnickou\, studentskou i uměleckou)\, které vyžadují naši pozornost. \nUmělkyně Darja Lukjanenko na výstavě zastupuje ukrajinskou komunitu svým dílem – záznamem performance\, které vzniklo v chrámu kostela. Na queer komunitu se zaměří dílo (závěsná tapiserie) Adriána Krišky\, v němž autor rozvíjí osobitou mytologii v kombinaci s queer tématy. Mapování romské komunity se věnuje autorka Anna Veronika Křížová\, která je na výstavě zastoupena instalací fotografií romské komunity na Slovensku. Tématu romské i sociální komunitě se věnuje kolektiv Prádelna\, který galerii zapůjčil video a výstavu doplní o doprovodný program v podobě projekce snímku Jak vyjádřit touhu nemožného (2022) prezentovaného na festivalu Marienbad v loňském roce. Problematice umělecké práce a praxi na vysokých uměleckých školách se věnuje umělkyně Karolína Schön z AVU v rámci instalace upozorňující na status umělce a kolektiv Neklikej a spi z FA ČVUT\, který poukazuje na péči o studenty a studentky architektury. \nTřetí výstavu slavnostně zahájíme 8/3/2024 od 18 hodin v Galerii Na Věky v Komunitním prostoru Smíchov za účasti umělců a umělkyň\, zástupců a zástupkyň komunit a kolektivů: Adrian Kriška\, Anna Veronika Křížová\, Darja Lukjanenko\, kolektiv Neklikej a spi\, kolektiv Prádelna a Karolína Schön. \n  \nOtevírací doba \npondělí–pátek: 14–19 \nVstupné dobrovolné \n  \nPořádá: Galerie Na Věky\, Evangelická církev Českobratrská\, Komunitní prostor Smíchov\, Kavárna Na Věky \nProjekt podporují: Státní fond kultury ČR\, hlavní město Praha \nMediální partner: Fakulta umění a designu UJEP\, ArtMap\, Kulturní magazín UNI
URL:https://kpsmichov.cz/en/program/procit-komunity-vernisaz-vystavy/
LOCATION:Galerie Na Věky\, Na Doubkové 8\, Praha\, 150 00\, Česká republika
CATEGORIES:Kultura v prostoru
ATTACH;FMTTYPE=image/jpeg:https://kpsmichov.cz/wp-content/uploads/2024/02/komunita_udalost-scaled.jpg
END:VEVENT
END:VCALENDAR