BEGIN:VCALENDAR
VERSION:2.0
PRODID:-//Komunitní prostor Smíchov - ECPv6.15.20//NONSGML v1.0//EN
CALSCALE:GREGORIAN
METHOD:PUBLISH
X-WR-CALNAME:Komunitní prostor Smíchov
X-ORIGINAL-URL:https://kpsmichov.cz/en
X-WR-CALDESC:Events for Komunitní prostor Smíchov
REFRESH-INTERVAL;VALUE=DURATION:PT1H
X-Robots-Tag:noindex
X-PUBLISHED-TTL:PT1H
BEGIN:VTIMEZONE
TZID:Europe/Prague
BEGIN:DAYLIGHT
TZOFFSETFROM:+0100
TZOFFSETTO:+0200
TZNAME:CEST
DTSTART:20240331T010000
END:DAYLIGHT
BEGIN:STANDARD
TZOFFSETFROM:+0200
TZOFFSETTO:+0100
TZNAME:CET
DTSTART:20241027T010000
END:STANDARD
BEGIN:DAYLIGHT
TZOFFSETFROM:+0100
TZOFFSETTO:+0200
TZNAME:CEST
DTSTART:20250330T010000
END:DAYLIGHT
BEGIN:STANDARD
TZOFFSETFROM:+0200
TZOFFSETTO:+0100
TZNAME:CET
DTSTART:20251026T010000
END:STANDARD
BEGIN:DAYLIGHT
TZOFFSETFROM:+0100
TZOFFSETTO:+0200
TZNAME:CEST
DTSTART:20260329T010000
END:DAYLIGHT
BEGIN:STANDARD
TZOFFSETFROM:+0200
TZOFFSETTO:+0100
TZNAME:CET
DTSTART:20261025T010000
END:STANDARD
END:VTIMEZONE
BEGIN:VEVENT
DTSTART;TZID=Europe/Prague:20250515T193000
DTEND;TZID=Europe/Prague:20250515T210000
DTSTAMP:20260422T043139
CREATED:20250429T112443Z
LAST-MODIFIED:20250712T122636Z
UID:8397-1747337400-1747342800@kpsmichov.cz
SUMMARY:Představení František Blázen
DESCRIPTION:František blázen – příběh o svatém showmanovi\n\n\nPříběh o svatém showmanovi. One man show o sv. Františku z Assisi\, který chtěl být skromný – a šly za ním davy.  Autorský projekt inspirovaný narativním divadlem Daria Fo. \n\n\n\n\nKdyž František kázal\, tak při tom tančil a zpíval\, proto je i vyprávění o Františkovi roztančené a rozezpívané. Byl to svým způsobem extremista; když plnil svoje poslání\, tak nešetřil tělo\, a tak se taky snažím moc nešetřit a zkoumat hranice svých sil. \nVyprávění legend bylo u samého počátku evropského divadla\, tak se inspiruji u jarmarečních vypravěčů a u začátků commedie dell arte a hledám vyjádření\, které je zábavné pro dnešního diváka. \n\nAutor: Jan Horák\nDélka představení: 75 min\n\n  \n______________________________ \nO autorovi:\n‚‚Jsem hercem na volné noze. Spolupracuji na nezávislých projektech nebo vytvářím vlastní. S divadlem jednoho herce cestuji po celé republice\, po Slovensku i dál.‘‘
URL:https://kpsmichov.cz/en/program/predstaveni-frantisek-blazen/
LOCATION:Chrám\, Komunitní prostor Smíchov Na Doubkové 8\, Praha 5\, kraj hlavní město praha\, 150 00\, Česká republika
CATEGORIES:Duchovní záležitosti,Kultura v prostoru
ATTACH;FMTTYPE=image/jpeg:https://kpsmichov.cz/wp-content/uploads/2025/04/frantisek-plakat-smichov-scaled.jpg
END:VEVENT
END:VCALENDAR