BEGIN:VCALENDAR
VERSION:2.0
PRODID:-//Komunitní prostor Smíchov - ECPv6.15.20//NONSGML v1.0//EN
CALSCALE:GREGORIAN
METHOD:PUBLISH
X-WR-CALNAME:Komunitní prostor Smíchov
X-ORIGINAL-URL:https://kpsmichov.cz/en
X-WR-CALDESC:Events for Komunitní prostor Smíchov
REFRESH-INTERVAL;VALUE=DURATION:PT1H
X-Robots-Tag:noindex
X-PUBLISHED-TTL:PT1H
BEGIN:VTIMEZONE
TZID:Europe/Prague
BEGIN:DAYLIGHT
TZOFFSETFROM:+0100
TZOFFSETTO:+0200
TZNAME:CEST
DTSTART:20240331T010000
END:DAYLIGHT
BEGIN:STANDARD
TZOFFSETFROM:+0200
TZOFFSETTO:+0100
TZNAME:CET
DTSTART:20241027T010000
END:STANDARD
BEGIN:DAYLIGHT
TZOFFSETFROM:+0100
TZOFFSETTO:+0200
TZNAME:CEST
DTSTART:20250330T010000
END:DAYLIGHT
BEGIN:STANDARD
TZOFFSETFROM:+0200
TZOFFSETTO:+0100
TZNAME:CET
DTSTART:20251026T010000
END:STANDARD
BEGIN:DAYLIGHT
TZOFFSETFROM:+0100
TZOFFSETTO:+0200
TZNAME:CEST
DTSTART:20260329T010000
END:DAYLIGHT
BEGIN:STANDARD
TZOFFSETFROM:+0200
TZOFFSETTO:+0100
TZNAME:CET
DTSTART:20261025T010000
END:STANDARD
END:VTIMEZONE
BEGIN:VEVENT
DTSTART;TZID=Europe/Prague:20250327T190000
DTEND;TZID=Europe/Prague:20250327T203000
DTSTAMP:20260421T054402
CREATED:20250323T132206Z
LAST-MODIFIED:20250712T135223Z
UID:8253-1743102000-1743107400@kpsmichov.cz
SUMMARY:Setkání s polárníkem Jaroslavem Pavlíčkem
DESCRIPTION:Jak přežít v divočině? Přijďte zapomenout na problémy všedního městského dne a poslechnout si příběhy soužití s drsnou přírodou.\nPolárník Jaroslav Pavlíček (webová stránka) bude vyprávět ve čtvrtek 27.3. v 19:00 ve sborové místnosti u nás v kostele.
URL:https://kpsmichov.cz/en/program/polarnik-pavlicek/
LOCATION:Sborovka\, Na Doubkové 8\, Praha 5\, kraj hlavní město praha\, 150 00\, Česká republika
CATEGORIES:Společné večery
ATTACH;FMTTYPE=image/jpeg:https://kpsmichov.cz/wp-content/uploads/2025/03/486111548_1099766698857503_8638081052568569246_n.jpg
END:VEVENT
END:VCALENDAR