BEGIN:VCALENDAR
VERSION:2.0
PRODID:-//Komunitní prostor Smíchov - ECPv6.15.20//NONSGML v1.0//EN
CALSCALE:GREGORIAN
METHOD:PUBLISH
X-WR-CALNAME:Komunitní prostor Smíchov
X-ORIGINAL-URL:https://kpsmichov.cz/en
X-WR-CALDESC:Events for Komunitní prostor Smíchov
REFRESH-INTERVAL;VALUE=DURATION:PT1H
X-Robots-Tag:noindex
X-PUBLISHED-TTL:PT1H
BEGIN:VTIMEZONE
TZID:Europe/Prague
BEGIN:DAYLIGHT
TZOFFSETFROM:+0100
TZOFFSETTO:+0200
TZNAME:CEST
DTSTART:20240331T010000
END:DAYLIGHT
BEGIN:STANDARD
TZOFFSETFROM:+0200
TZOFFSETTO:+0100
TZNAME:CET
DTSTART:20241027T010000
END:STANDARD
BEGIN:DAYLIGHT
TZOFFSETFROM:+0100
TZOFFSETTO:+0200
TZNAME:CEST
DTSTART:20250330T010000
END:DAYLIGHT
BEGIN:STANDARD
TZOFFSETFROM:+0200
TZOFFSETTO:+0100
TZNAME:CET
DTSTART:20251026T010000
END:STANDARD
BEGIN:DAYLIGHT
TZOFFSETFROM:+0100
TZOFFSETTO:+0200
TZNAME:CEST
DTSTART:20260329T010000
END:DAYLIGHT
BEGIN:STANDARD
TZOFFSETFROM:+0200
TZOFFSETTO:+0100
TZNAME:CET
DTSTART:20261025T010000
END:STANDARD
END:VTIMEZONE
BEGIN:VEVENT
DTSTART;TZID=Europe/Prague:20250411T170000
DTEND;TZID=Europe/Prague:20250411T230000
DTSTAMP:20260421T084709
CREATED:20250325T010808Z
LAST-MODIFIED:20250712T134842Z
UID:8297-1744390800-1744412400@kpsmichov.cz
SUMMARY:Otvíračka kavárny Santoška
DESCRIPTION:Přijďte s námi oslavit příchod teplejších dnů do nově vzniklé Kavárny Santoška\, která se nachází nedaleko parku Santoška na pražském Smíchově.\n\n Co vás čeká?\n.\n 17:00 – Start & Grilovačka – Vůně pečeného masa\, skvělé vege-jídlo a pohodová atmosféra.\n 19:00 – Kapela na schodech – Živá hudba přímo na schodech historické budovy!\n 21:00 – DJ Johny Ackah – Závěr večera ve stylu skvělých beatů!\n.\nPřijďte si užít pohodový večer s přáteli\, dobrým jídlem a skvělou hudbou. Těšíme se na vás! 
URL:https://kpsmichov.cz/en/program/otviracka-kavarny-santoska/
LOCATION:Kavárna\, Komunitní prostor Smíchov Na Doubkové 8\, Praha 5\, kraj hlavní město praha\, 150 00\, Česká republika
CATEGORIES:Sousedská setkání
ATTACH;FMTTYPE=image/png:https://kpsmichov.cz/wp-content/uploads/2025/03/Santoska_opening_IG4.png
END:VEVENT
END:VCALENDAR