BEGIN:VCALENDAR
VERSION:2.0
PRODID:-//Komunitní prostor Smíchov - ECPv6.15.20//NONSGML v1.0//EN
CALSCALE:GREGORIAN
METHOD:PUBLISH
X-WR-CALNAME:Komunitní prostor Smíchov
X-ORIGINAL-URL:https://kpsmichov.cz/en
X-WR-CALDESC:Events for Komunitní prostor Smíchov
REFRESH-INTERVAL;VALUE=DURATION:PT1H
X-Robots-Tag:noindex
X-PUBLISHED-TTL:PT1H
BEGIN:VTIMEZONE
TZID:Europe/Prague
BEGIN:DAYLIGHT
TZOFFSETFROM:+0100
TZOFFSETTO:+0200
TZNAME:CEST
DTSTART:20220327T010000
END:DAYLIGHT
BEGIN:STANDARD
TZOFFSETFROM:+0200
TZOFFSETTO:+0100
TZNAME:CET
DTSTART:20221030T010000
END:STANDARD
BEGIN:DAYLIGHT
TZOFFSETFROM:+0100
TZOFFSETTO:+0200
TZNAME:CEST
DTSTART:20230326T010000
END:DAYLIGHT
BEGIN:STANDARD
TZOFFSETFROM:+0200
TZOFFSETTO:+0100
TZNAME:CET
DTSTART:20231029T010000
END:STANDARD
BEGIN:DAYLIGHT
TZOFFSETFROM:+0100
TZOFFSETTO:+0200
TZNAME:CEST
DTSTART:20240331T010000
END:DAYLIGHT
BEGIN:STANDARD
TZOFFSETFROM:+0200
TZOFFSETTO:+0100
TZNAME:CET
DTSTART:20241027T010000
END:STANDARD
END:VTIMEZONE
BEGIN:VEVENT
DTSTART;TZID=Europe/Prague:20230825T180000
DTEND;TZID=Europe/Prague:20230825T220000
DTSTAMP:20260421T024111
CREATED:20230816T123733Z
LAST-MODIFIED:20240502T202028Z
UID:4767-1692986400-1693000800@kpsmichov.cz
SUMMARY:Opening Galerie Na Věky a vernisáž výstavy DUŠE MÍNÍ ČLOVĚK ČINÍ
DESCRIPTION:Srdečně zveme na opening Galerie Na Věky\, kterou zahájí výstava DUŠE MÍNÍ ČLOVĚK ČINÍ 26. 8. – 27. 10. 2023Vernisáž: 25. 8. 2023 v 18 hodinVystavující: Ágnes Čechová\, Michaela Jamborová\, Karolína KopřivováKurátoři: Jan Kieweg\, Karolína Lapešová DUŠE MÍNÍ ČLOVĚK ČINÍPéče je obecně brána jako praktika\, kterou můžeme vykonávat vůči sobě nebo vůči jiným\, aniž by to bylo na první pohled zřetelné. Sama duše je předmětem zájmu již mnohá staletí a v mnohých oblastech\, nejvýrazněji se však projevila ve filozofii\, kde se duše stala předmětem rozličných polemik. Zájem o duši sledujeme již od starověkého Řecka u prvních velkých filozofů Platóna a Sokrata. Péčí o duši se na našem území zabýval například Jan Patočka (Epimeleia peri tés psychés) a od konce minulého století se těší velkému zájmu v širší společnosti. Psychiatrie nám pomáhá léčit choroby\, psychologie osvětluje neduhy a přivádí nás na správnou a osobitou cestu životem\, který je však plný úskalí. Pečování o duši jakožto fenomén se v posledních dekádách transformoval například do osobních rituálů a “trendů” self-care\, ve kterých věnujeme čas sami sobě. Péče o sebe sama je do jisté míry jakýmsi obranným reflexem a často i nutnou odpovědí na každodenní stresové situace i na přehršel informací a návodů\, jak žít lepší život\, které se na nás valí ze všech stran. Umělkyně\, které byly pro výstavu vybrány\, k tématu přistupují každá svým osobitým způsobem. Autorky Ágnes Čechová\, Michaela Jamborová a Karolína Kopřivová skrze různorodá média (fotografie\, video\, textil) ukazují možnosti péče o sebe a o své mentální zdraví. Návštěvník*ice tak může poznat\, co všechno může spadat pod péči o duši\, a zamyslet se nad tím\, jak on*a sám*sama tuto péči provozuje.Součástí vernisáže bude performance Solidarita v trauma autorů a autorek: Kristina Hlavinková\, Jana Chmelařová\, Michaela Jamborová\, Kristina Kouklová\, Lukáš Smatana a Ian Young.  Více informací o Galerii Na Věky								\n				\n				\n				\n							\n			\n		\n						\n				\n				\n				\n							\n							\n					\n						Facebook
URL:https://kpsmichov.cz/en/program/opening-galerie-na-veky-a-vernisaz-vystavy-duse-mini-clovek-cini/
LOCATION:Galerie Na Věky\, Na Doubkové 8\, Praha\, 150 00\, Česká republika
CATEGORIES:Kultura v prostoru
ATTACH;FMTTYPE=image/jpeg:https://kpsmichov.cz/wp-content/uploads/2023/08/tiskoviny.jpg
END:VEVENT
END:VCALENDAR