BEGIN:VCALENDAR
VERSION:2.0
PRODID:-//Komunitní prostor Smíchov - ECPv6.15.20//NONSGML v1.0//EN
CALSCALE:GREGORIAN
METHOD:PUBLISH
X-WR-CALNAME:Komunitní prostor Smíchov
X-ORIGINAL-URL:https://kpsmichov.cz/en
X-WR-CALDESC:Events for Komunitní prostor Smíchov
REFRESH-INTERVAL;VALUE=DURATION:PT1H
X-Robots-Tag:noindex
X-PUBLISHED-TTL:PT1H
BEGIN:VTIMEZONE
TZID:Europe/Prague
BEGIN:DAYLIGHT
TZOFFSETFROM:+0100
TZOFFSETTO:+0200
TZNAME:CEST
DTSTART:20220327T010000
END:DAYLIGHT
BEGIN:STANDARD
TZOFFSETFROM:+0200
TZOFFSETTO:+0100
TZNAME:CET
DTSTART:20221030T010000
END:STANDARD
BEGIN:DAYLIGHT
TZOFFSETFROM:+0100
TZOFFSETTO:+0200
TZNAME:CEST
DTSTART:20230326T010000
END:DAYLIGHT
BEGIN:STANDARD
TZOFFSETFROM:+0200
TZOFFSETTO:+0100
TZNAME:CET
DTSTART:20231029T010000
END:STANDARD
BEGIN:DAYLIGHT
TZOFFSETFROM:+0100
TZOFFSETTO:+0200
TZNAME:CEST
DTSTART:20240331T010000
END:DAYLIGHT
BEGIN:STANDARD
TZOFFSETFROM:+0200
TZOFFSETTO:+0100
TZNAME:CET
DTSTART:20241027T010000
END:STANDARD
END:VTIMEZONE
BEGIN:VEVENT
DTSTART;TZID=Europe/Prague:20230602T173000
DTEND;TZID=Europe/Prague:20230602T173000
DTSTAMP:20260421T054223
CREATED:20230525T123603Z
LAST-MODIFIED:20240503T205838Z
UID:4452-1685727000-1685727000@kpsmichov.cz
SUMMARY:Noc kostelů
DESCRIPTION:Zveme na nabitý program jubilejního 15. ročníku Noci Kostelů k nám do ČCE na Smíchově\npředběžný line-up: \n17:30 – 19:00\nZahájení – Te Deum Charpentier\nÚvodní slovo\nSPZ\n19:00 – 19:45\nprohlídka kostela\n20:00 – 20:45\nkoncert Tomáš Niesner ~ na terase\n21:00 – 21:45\n~ prohlídka kostela\n~ taneční improvizace v komunitní zahradě na střeše\n~ Martin Lepšík – renezanční moteta + čtení textů a zamyšlení farářky Anny Pokorné\n22:00 – 22:45\nkoncert Žárský\, Růžička\n23:00 – oficiální konec\n~ v mezičase možnost občerstvení dole v kavárně\, během programů také u baru na horní terase\nTěšíme se na Vás!
URL:https://kpsmichov.cz/en/program/noc-kostelu/
CATEGORIES:Duchovní záležitosti,Kultura v prostoru,Sousedská setkání
ATTACH;FMTTYPE=image/jpeg:https://kpsmichov.cz/wp-content/uploads/2023/05/348867729_265093156093838_3771159792078325727_n.jpg
END:VEVENT
END:VCALENDAR