BEGIN:VCALENDAR
VERSION:2.0
PRODID:-//Komunitní prostor Smíchov - ECPv6.15.20//NONSGML v1.0//EN
CALSCALE:GREGORIAN
METHOD:PUBLISH
X-WR-CALNAME:Komunitní prostor Smíchov
X-ORIGINAL-URL:https://kpsmichov.cz/en
X-WR-CALDESC:Events for Komunitní prostor Smíchov
REFRESH-INTERVAL;VALUE=DURATION:PT1H
X-Robots-Tag:noindex
X-PUBLISHED-TTL:PT1H
BEGIN:VTIMEZONE
TZID:Europe/Prague
BEGIN:DAYLIGHT
TZOFFSETFROM:+0100
TZOFFSETTO:+0200
TZNAME:CEST
DTSTART:20230326T010000
END:DAYLIGHT
BEGIN:STANDARD
TZOFFSETFROM:+0200
TZOFFSETTO:+0100
TZNAME:CET
DTSTART:20231029T010000
END:STANDARD
BEGIN:DAYLIGHT
TZOFFSETFROM:+0100
TZOFFSETTO:+0200
TZNAME:CEST
DTSTART:20240331T010000
END:DAYLIGHT
BEGIN:STANDARD
TZOFFSETFROM:+0200
TZOFFSETTO:+0100
TZNAME:CET
DTSTART:20241027T010000
END:STANDARD
BEGIN:DAYLIGHT
TZOFFSETFROM:+0100
TZOFFSETTO:+0200
TZNAME:CEST
DTSTART:20250330T010000
END:DAYLIGHT
BEGIN:STANDARD
TZOFFSETFROM:+0200
TZOFFSETTO:+0100
TZNAME:CET
DTSTART:20251026T010000
END:STANDARD
END:VTIMEZONE
BEGIN:VEVENT
DTSTART;TZID=Europe/Prague:20240123T170000
DTEND;TZID=Europe/Prague:20240123T220000
DTSTAMP:20260423T103539
CREATED:20240101T231819Z
LAST-MODIFIED:20250712T144705Z
UID:5466-1706029200-1706047200@kpsmichov.cz
SUMMARY:Lednová sousedská
DESCRIPTION:Milí zlatí\, srdečně zveme na „prostě lednovou“Přiďte\, bude:\n17:00-19:00výtvarná dílna na kůrupop-up makety s ilustrátorkou Hannou Kovtunděti (4+) i dospělí\n-asi celou dobu-oheň před kostelembuřty\, jablka v cukru i horká polévka\n-asi celou dobu-pingpong a fotbálek v kostele\n20:00jazz-klasik koncert v kavárněBeSaTi trio (FO\, UA\, ČR)2 kytary a kontrabasSamuel Weinfurter\, Bergur Johannesen\, Timur Berežnyj\nZVÁNI VŠICHNI
URL:https://kpsmichov.cz/en/program/lednova-sousedska/
CATEGORIES:Sousedská setkání
ATTACH;FMTTYPE=image/jpeg:https://kpsmichov.cz/wp-content/uploads/2024/01/419220968_807813898052243_7565355275347345386_n.jpg
END:VEVENT
END:VCALENDAR