BEGIN:VCALENDAR
VERSION:2.0
PRODID:-//Komunitní prostor Smíchov - ECPv6.15.20//NONSGML v1.0//EN
CALSCALE:GREGORIAN
METHOD:PUBLISH
X-WR-CALNAME:Komunitní prostor Smíchov
X-ORIGINAL-URL:https://kpsmichov.cz/en
X-WR-CALDESC:Events for Komunitní prostor Smíchov
REFRESH-INTERVAL;VALUE=DURATION:PT1H
X-Robots-Tag:noindex
X-PUBLISHED-TTL:PT1H
BEGIN:VTIMEZONE
TZID:Europe/Prague
BEGIN:DAYLIGHT
TZOFFSETFROM:+0100
TZOFFSETTO:+0200
TZNAME:CEST
DTSTART:20230326T010000
END:DAYLIGHT
BEGIN:STANDARD
TZOFFSETFROM:+0200
TZOFFSETTO:+0100
TZNAME:CET
DTSTART:20231029T010000
END:STANDARD
BEGIN:DAYLIGHT
TZOFFSETFROM:+0100
TZOFFSETTO:+0200
TZNAME:CEST
DTSTART:20240331T010000
END:DAYLIGHT
BEGIN:STANDARD
TZOFFSETFROM:+0200
TZOFFSETTO:+0100
TZNAME:CET
DTSTART:20241027T010000
END:STANDARD
BEGIN:DAYLIGHT
TZOFFSETFROM:+0100
TZOFFSETTO:+0200
TZNAME:CEST
DTSTART:20250330T010000
END:DAYLIGHT
BEGIN:STANDARD
TZOFFSETFROM:+0200
TZOFFSETTO:+0100
TZNAME:CET
DTSTART:20251026T010000
END:STANDARD
END:VTIMEZONE
BEGIN:VEVENT
DTSTART;TZID=Europe/Prague:20240601T173000
DTEND;TZID=Europe/Prague:20240601T183000
DTSTAMP:20260420T211546
CREATED:20240529T204929Z
LAST-MODIFIED:20240529T224707Z
UID:6702-1717263000-1717266600@kpsmichov.cz
SUMMARY:Koncert Sedmihlásek
DESCRIPTION:Dětský pěvecký sbor Sedmihlásek slaví půl století!\nMožná si pamatujete na pány Svěráka a Uhlíře a na jejich Hodiny zpěvu. Pamatujete si také na děti v lavicích? Zpěváci se ve sboru za ty roky trochu proměnili\, ale radost a nadšení ze zpěvu zůstává. \nPřijďte si s námi užít odpoledne na Den dětí a oslavit naše narozeniny. Těšit se můžete na všechna oddělení sboru\, písničky známe i neznámé\, české i zahraniční.
URL:https://kpsmichov.cz/en/program/koncert-sedmihlasek/
LOCATION:Chrám\, Komunitní prostor Smíchov Na Doubkové 8\, Praha 5\, kraj hlavní město praha\, 150 00\, Česká republika
CATEGORIES:Kultura v prostoru
ATTACH;FMTTYPE=application/pdf:https://kpsmichov.cz/wp-content/uploads/2024/05/dETSKY-PEVECKY-SBOR.pdf
END:VEVENT
END:VCALENDAR