BEGIN:VCALENDAR
VERSION:2.0
PRODID:-//Komunitní prostor Smíchov - ECPv6.15.20//NONSGML v1.0//EN
CALSCALE:GREGORIAN
METHOD:PUBLISH
X-WR-CALNAME:Komunitní prostor Smíchov
X-ORIGINAL-URL:https://kpsmichov.cz/en
X-WR-CALDESC:Events for Komunitní prostor Smíchov
REFRESH-INTERVAL;VALUE=DURATION:PT1H
X-Robots-Tag:noindex
X-PUBLISHED-TTL:PT1H
BEGIN:VTIMEZONE
TZID:Europe/Prague
BEGIN:DAYLIGHT
TZOFFSETFROM:+0100
TZOFFSETTO:+0200
TZNAME:CEST
DTSTART:20240331T010000
END:DAYLIGHT
BEGIN:STANDARD
TZOFFSETFROM:+0200
TZOFFSETTO:+0100
TZNAME:CET
DTSTART:20241027T010000
END:STANDARD
BEGIN:DAYLIGHT
TZOFFSETFROM:+0100
TZOFFSETTO:+0200
TZNAME:CEST
DTSTART:20250330T010000
END:DAYLIGHT
BEGIN:STANDARD
TZOFFSETFROM:+0200
TZOFFSETTO:+0100
TZNAME:CET
DTSTART:20251026T010000
END:STANDARD
BEGIN:DAYLIGHT
TZOFFSETFROM:+0100
TZOFFSETTO:+0200
TZNAME:CEST
DTSTART:20260329T010000
END:DAYLIGHT
BEGIN:STANDARD
TZOFFSETFROM:+0200
TZOFFSETTO:+0100
TZNAME:CET
DTSTART:20261025T010000
END:STANDARD
END:VTIMEZONE
BEGIN:VEVENT
DTSTART;TZID=Europe/Prague:20251106T193000
DTEND;TZID=Europe/Prague:20251106T210000
DTSTAMP:20260421T055103
CREATED:20251021T015308Z
LAST-MODIFIED:20251021T015415Z
UID:9052-1762457400-1762462800@kpsmichov.cz
SUMMARY:Canti di Praga: Requiem Gabriela Faurého
DESCRIPTION:Zveme Vás na koncert věnovaný jednomu z nejkrásnějších duchovních děl hudební historie – Requiem Gabriela Faurého. Zaposlouchejte se do tónů\, které spojují klid\, pokoru a víru v naději věčného života. \nGabriel Fauré (1845–1924) byl významný francouzský hudební skladatel\, varhaník a pedagog\, považovaný za jednu z klíčových postav francouzské hudby přelomu 19. a 20. století. Jeho dílo propojovalo konec romantismu s modernismem a ovlivnilo mnoho skladatelů 20. století. Jednou z jeho nejznámnějších skladeb je Requiem v d-moll\, sborově-orchestrální aranžmá zádušní mše pocházející z let 1887–1890. \n  \nDoprovází: Klimentští muzikanti\, Ondřej Mejsnar \nDiriguje: Jan Svejkovský
URL:https://kpsmichov.cz/en/program/koncert-canti-di-praga-gabriel-faure-requiem/
LOCATION:Chrám\, Komunitní prostor Smíchov Na Doubkové 8\, Praha 5\, kraj hlavní město praha\, 150 00\, Česká republika
CATEGORIES:Kultura v prostoru
ATTACH;FMTTYPE=application/pdf:https://kpsmichov.cz/wp-content/uploads/2025/10/Canti_Faure_requiem_pozvanka.pdf
END:VEVENT
END:VCALENDAR