BEGIN:VCALENDAR
VERSION:2.0
PRODID:-//Komunitní prostor Smíchov - ECPv6.15.20//NONSGML v1.0//EN
CALSCALE:GREGORIAN
METHOD:PUBLISH
X-WR-CALNAME:Komunitní prostor Smíchov
X-ORIGINAL-URL:https://kpsmichov.cz/en
X-WR-CALDESC:Events for Komunitní prostor Smíchov
REFRESH-INTERVAL;VALUE=DURATION:PT1H
X-Robots-Tag:noindex
X-PUBLISHED-TTL:PT1H
BEGIN:VTIMEZONE
TZID:Europe/Prague
BEGIN:DAYLIGHT
TZOFFSETFROM:+0100
TZOFFSETTO:+0200
TZNAME:CEST
DTSTART:20230326T010000
END:DAYLIGHT
BEGIN:STANDARD
TZOFFSETFROM:+0200
TZOFFSETTO:+0100
TZNAME:CET
DTSTART:20231029T010000
END:STANDARD
BEGIN:DAYLIGHT
TZOFFSETFROM:+0100
TZOFFSETTO:+0200
TZNAME:CEST
DTSTART:20240331T010000
END:DAYLIGHT
BEGIN:STANDARD
TZOFFSETFROM:+0200
TZOFFSETTO:+0100
TZNAME:CET
DTSTART:20241027T010000
END:STANDARD
BEGIN:DAYLIGHT
TZOFFSETFROM:+0100
TZOFFSETTO:+0200
TZNAME:CEST
DTSTART:20250330T010000
END:DAYLIGHT
BEGIN:STANDARD
TZOFFSETFROM:+0200
TZOFFSETTO:+0100
TZNAME:CET
DTSTART:20251026T010000
END:STANDARD
END:VTIMEZONE
BEGIN:VEVENT
DTSTART;TZID=Europe/Prague:20240424T200000
DTEND;TZID=Europe/Prague:20240424T230000
DTSTAMP:20260420T234817
CREATED:20240418T121317Z
LAST-MODIFIED:20240527T211016Z
UID:10004777-1713988800-1713999600@kpsmichov.cz
SUMMARY:Kavárenský OPEN JAM
DESCRIPTION:Další Jam session v naší kavárně Na Věky.\n\n\nVezměte si své nástroje (fantazii se meze nekladou\, vítáme i triangl či vozembouch)\, společně si zahudebničíme. Nebo si jen přijďte poslechnout ostatní. \n\n\nBude nazvučeno\, dostupné 2 mikrofony\, klávesy\, kombo na kytaru. Jestli máte nějaký speciální nástroj a nejste si jisti\, zdali jsme na vás dostatečně vybaveni\, stačí se zeptat v diskuzi události.\nJídlo a pití na baru. Budeme se těšit!\n\nvstupné: zdarma\nENG\nAnother jam session held in our Café Na Věky. This time\, we’re gonna try to give it a bit of a structure and will have a host. The rules are gonna be set at the beginning of the jam.\n\nBring your instruments\, whatever you like and can play (a rattle counts\, too)\, join us and let’s make music together– or just come to listen to others and enjoy the music being played. \n\n\nSound system and basic musical equipment assured\, 2 mics\, an electric piano\, a guitar combo amp. If you want to bring something seemingly special and you’re not sure whether we can manage\, check and ask in the discussion section of this event post.\nFood and drinks at the bar. See ya!\n\nfree entrance
URL:https://kpsmichov.cz/en/program/kavarensky-open-jam/2024-04-24/
CATEGORIES:Společné večery
ATTACH;FMTTYPE=image/jpeg:https://kpsmichov.cz/wp-content/uploads/2024/04/j38-scaled.jpg
END:VEVENT
END:VCALENDAR