BEGIN:VCALENDAR
VERSION:2.0
PRODID:-//Komunitní prostor Smíchov - ECPv6.15.20//NONSGML v1.0//EN
CALSCALE:GREGORIAN
METHOD:PUBLISH
X-WR-CALNAME:Komunitní prostor Smíchov
X-ORIGINAL-URL:https://kpsmichov.cz/en
X-WR-CALDESC:Events for Komunitní prostor Smíchov
REFRESH-INTERVAL;VALUE=DURATION:PT1H
X-Robots-Tag:noindex
X-PUBLISHED-TTL:PT1H
BEGIN:VTIMEZONE
TZID:Europe/Prague
BEGIN:DAYLIGHT
TZOFFSETFROM:+0100
TZOFFSETTO:+0200
TZNAME:CEST
DTSTART:20240331T010000
END:DAYLIGHT
BEGIN:STANDARD
TZOFFSETFROM:+0200
TZOFFSETTO:+0100
TZNAME:CET
DTSTART:20241027T010000
END:STANDARD
BEGIN:DAYLIGHT
TZOFFSETFROM:+0100
TZOFFSETTO:+0200
TZNAME:CEST
DTSTART:20250330T010000
END:DAYLIGHT
BEGIN:STANDARD
TZOFFSETFROM:+0200
TZOFFSETTO:+0100
TZNAME:CET
DTSTART:20251026T010000
END:STANDARD
BEGIN:DAYLIGHT
TZOFFSETFROM:+0100
TZOFFSETTO:+0200
TZNAME:CEST
DTSTART:20260329T010000
END:DAYLIGHT
BEGIN:STANDARD
TZOFFSETFROM:+0200
TZOFFSETTO:+0100
TZNAME:CET
DTSTART:20261025T010000
END:STANDARD
END:VTIMEZONE
BEGIN:VEVENT
DTSTART;TZID=Europe/Prague:20251028T180000
DTEND;TZID=Europe/Prague:20251028T200000
DTSTAMP:20260421T085148
CREATED:20250919T162940Z
LAST-MODIFIED:20250919T163254Z
UID:8900-1761674400-1761681600@kpsmichov.cz
SUMMARY:HuMuS+ bombastickej koncert II
DESCRIPTION:Po dvou letech je to zpět! Připravte si trumpety\, vuvuzely\, konfety a vlaječky na další nezapomenutelný hudební večer. Pražský mužský sbor HuMuS se opět rozšiřuje do velkolepého tělesa HuMuS+ – více než 40 hlasů\, které vás pohltí svou energií\, harmoniemi a radostí ze společného zpívání.\nDiriguje: Jaroslav Šindler ml. \nOdkaz na FB událost: https://fb.me/e/cogAzu0Re \n\n\nCena: 150\,-Kč zlevněné vstupné (děti\, senioři\, ztp\, apod.)\n           250\,-Kč v předprodeji na Goout\n           350\,-Kč na místě
URL:https://kpsmichov.cz/en/program/humus-bombastickej-koncert-ii/
LOCATION:Chrám\, Komunitní prostor Smíchov Na Doubkové 8\, Praha 5\, kraj hlavní město praha\, 150 00\, Česká republika
CATEGORIES:Kultura v prostoru
ATTACH;FMTTYPE=image/png:https://kpsmichov.cz/wp-content/uploads/2025/09/humus10_v2_1920-x-10053-scaled.png
END:VEVENT
END:VCALENDAR