BEGIN:VCALENDAR
VERSION:2.0
PRODID:-//Komunitní prostor Smíchov - ECPv6.15.20//NONSGML v1.0//EN
CALSCALE:GREGORIAN
METHOD:PUBLISH
X-WR-CALNAME:Komunitní prostor Smíchov
X-ORIGINAL-URL:https://kpsmichov.cz/en
X-WR-CALDESC:Events for Komunitní prostor Smíchov
REFRESH-INTERVAL;VALUE=DURATION:PT1H
X-Robots-Tag:noindex
X-PUBLISHED-TTL:PT1H
BEGIN:VTIMEZONE
TZID:Europe/Prague
BEGIN:DAYLIGHT
TZOFFSETFROM:+0100
TZOFFSETTO:+0200
TZNAME:CEST
DTSTART:20240331T010000
END:DAYLIGHT
BEGIN:STANDARD
TZOFFSETFROM:+0200
TZOFFSETTO:+0100
TZNAME:CET
DTSTART:20241027T010000
END:STANDARD
BEGIN:DAYLIGHT
TZOFFSETFROM:+0100
TZOFFSETTO:+0200
TZNAME:CEST
DTSTART:20250330T010000
END:DAYLIGHT
BEGIN:STANDARD
TZOFFSETFROM:+0200
TZOFFSETTO:+0100
TZNAME:CET
DTSTART:20251026T010000
END:STANDARD
BEGIN:DAYLIGHT
TZOFFSETFROM:+0100
TZOFFSETTO:+0200
TZNAME:CEST
DTSTART:20260329T010000
END:DAYLIGHT
BEGIN:STANDARD
TZOFFSETFROM:+0200
TZOFFSETTO:+0100
TZNAME:CET
DTSTART:20261025T010000
END:STANDARD
END:VTIMEZONE
BEGIN:VEVENT
DTSTART;TZID=Europe/Prague:20251110T203000
DTEND;TZID=Europe/Prague:20251110T220000
DTSTAMP:20260421T070719
CREATED:20251101T141433Z
LAST-MODIFIED:20251101T151010Z
UID:9074-1762806600-1762812000@kpsmichov.cz
SUMMARY:Filmové promítání: Adelheid
DESCRIPTION:Příběh o vztahu českého důstojníka Viktora s Adelheid\, dcerou vysokého nacistického činovníka – popisuje napětí mezi Čechy a Němci v poválečném období. Viz ČSFD. \nVstupné dobrovolné. \nPromítat se bude v patře kavárny.
URL:https://kpsmichov.cz/en/program/filmove-promitani-adelheid/
LOCATION:Kavárna\, Komunitní prostor Smíchov Na Doubkové 8\, Praha 5\, kraj hlavní město praha\, 150 00\, Česká republika
CATEGORIES:Společné večery,Živé téma
ATTACH;FMTTYPE=image/jpeg:https://kpsmichov.cz/wp-content/uploads/2025/11/Adelheid_2.jpg
END:VEVENT
END:VCALENDAR