BEGIN:VCALENDAR
VERSION:2.0
PRODID:-//Komunitní prostor Smíchov - ECPv6.15.20//NONSGML v1.0//EN
CALSCALE:GREGORIAN
METHOD:PUBLISH
X-WR-CALNAME:Komunitní prostor Smíchov
X-ORIGINAL-URL:https://kpsmichov.cz/en
X-WR-CALDESC:Events for Komunitní prostor Smíchov
REFRESH-INTERVAL;VALUE=DURATION:PT1H
X-Robots-Tag:noindex
X-PUBLISHED-TTL:PT1H
BEGIN:VTIMEZONE
TZID:Europe/Prague
BEGIN:DAYLIGHT
TZOFFSETFROM:+0100
TZOFFSETTO:+0200
TZNAME:CEST
DTSTART:20220327T010000
END:DAYLIGHT
BEGIN:STANDARD
TZOFFSETFROM:+0200
TZOFFSETTO:+0100
TZNAME:CET
DTSTART:20221030T010000
END:STANDARD
BEGIN:DAYLIGHT
TZOFFSETFROM:+0100
TZOFFSETTO:+0200
TZNAME:CEST
DTSTART:20230326T010000
END:DAYLIGHT
BEGIN:STANDARD
TZOFFSETFROM:+0200
TZOFFSETTO:+0100
TZNAME:CET
DTSTART:20231029T010000
END:STANDARD
BEGIN:DAYLIGHT
TZOFFSETFROM:+0100
TZOFFSETTO:+0200
TZNAME:CEST
DTSTART:20240331T010000
END:DAYLIGHT
BEGIN:STANDARD
TZOFFSETFROM:+0200
TZOFFSETTO:+0100
TZNAME:CET
DTSTART:20241027T010000
END:STANDARD
END:VTIMEZONE
BEGIN:VEVENT
DTSTART;TZID=Europe/Prague:20230519T180000
DTEND;TZID=Europe/Prague:20230520T233000
DTSTAMP:20260421T024300
CREATED:20230418T113922Z
LAST-MODIFIED:20240503T210006Z
UID:4251-1684519200-1684625400@kpsmichov.cz
SUMMARY:Festival Koloběh
DESCRIPTION:—English version below—\n  \n\nDruhý ročník studentského kulturního festivalu KOLOBĚH je tu!\ndivadlo/ hudba/ diskuze/ chill na terase/ workshopy/ dj / meditace /setkání\nFestival hudby\, kultury\, divadel a jarní Smíchovské pohody\nSousedský- studentský festival Koloběh – 2. ročník\, pod hlavičkou Komunitního prostoru\, vznikl jako prostor pro prezentaci umělecky – vzdělávacího projektu Laboratoř zaměřeného na spolupráci se studenty s OMJ (odlišným mateřským jazykem)\, ve kterém se rok potkávali divadelní lektoři se studenty z blízkých středních škol zejména v prostoru KP. Z jejich vzájemného ovlivňování a spolupráce vznikli dvě inscenace\, kterých premiéra proběhne právě v rámci festivalu Koloběh 2023\nTěšit se můžete na koncerty\, studentská divadelní představení\, sporty\, dílny pro děti\, jógu\, workshop pohybové improvizace s živou hudbou\, pohoštění z naší kavárny\, bar s chill out zónou na terase nebo třeba večerní meditaci a DJ.\nProstě bude živo před kostelem\, v něm i na jeho střeše. \nZastavte se_v běhu KOLOBĚHU.\n  \nWe cordially invite you to the first year of the neighbors theater festival KOLOBĚH\ntheater / music / discussion / chill / workshops / food / meeting\nThe main threads of the festival are theater and music presentations by students of the Grammar School Na Zatlance and Jan Neruda Grammar School in Prague. In addition\, we are preparing for you: neighbourly common lunch\, coffee\, cakes and snacks from Kavárna Na Věky\, concerts\, sports\, rooftop yoga\, workshops of playfight\, movement improvisation and also for kids. So you will definitely not get bored in front of church\, in it and neither on the rooftop in chill.out zone \nADMISSION\nvoluntarily
URL:https://kpsmichov.cz/en/program/festival-kolobeh/
CATEGORIES:Kultura v prostoru,Sousedská setkání
ATTACH;FMTTYPE=image/jpeg:https://kpsmichov.cz/wp-content/uploads/2023/04/welcome-1-scaled.jpg
END:VEVENT
END:VCALENDAR