BEGIN:VCALENDAR
VERSION:2.0
PRODID:-//Komunitní prostor Smíchov - ECPv6.15.20//NONSGML v1.0//EN
CALSCALE:GREGORIAN
METHOD:PUBLISH
X-WR-CALNAME:Komunitní prostor Smíchov
X-ORIGINAL-URL:https://kpsmichov.cz/en
X-WR-CALDESC:Events for Komunitní prostor Smíchov
REFRESH-INTERVAL;VALUE=DURATION:PT1H
X-Robots-Tag:noindex
X-PUBLISHED-TTL:PT1H
BEGIN:VTIMEZONE
TZID:Europe/Prague
BEGIN:DAYLIGHT
TZOFFSETFROM:+0100
TZOFFSETTO:+0200
TZNAME:CEST
DTSTART:20230326T010000
END:DAYLIGHT
BEGIN:STANDARD
TZOFFSETFROM:+0200
TZOFFSETTO:+0100
TZNAME:CET
DTSTART:20231029T010000
END:STANDARD
BEGIN:DAYLIGHT
TZOFFSETFROM:+0100
TZOFFSETTO:+0200
TZNAME:CEST
DTSTART:20240331T010000
END:DAYLIGHT
BEGIN:STANDARD
TZOFFSETFROM:+0200
TZOFFSETTO:+0100
TZNAME:CET
DTSTART:20241027T010000
END:STANDARD
BEGIN:DAYLIGHT
TZOFFSETFROM:+0100
TZOFFSETTO:+0200
TZNAME:CEST
DTSTART:20250330T010000
END:DAYLIGHT
BEGIN:STANDARD
TZOFFSETFROM:+0200
TZOFFSETTO:+0100
TZNAME:CET
DTSTART:20251026T010000
END:STANDARD
END:VTIMEZONE
BEGIN:VEVENT
DTSTART;TZID=Europe/Prague:20240808T190000
DTEND;TZID=Europe/Prague:20240808T210000
DTSTAMP:20260421T072344
CREATED:20240731T222832Z
LAST-MODIFIED:20250712T143815Z
UID:10005153-1723143600-1723150800@kpsmichov.cz
SUMMARY:DJ AK4.2
DESCRIPTION:HUDEBNÍ DJ’S ČTVRTKY\nPojďte se nechat přenést do vln a zvuků elektronické hudby během všech srpnových čtvrtečních letních večerů venku na zeleni před kostelem.\n\nDJ AK4.2 nám během svých večerů představí různorodé styly elektronické hudby a doplní tak naše kulturně laděný srpen – Na Věky – hudbou\, při které se dá povídat\, rozlplývat i se hýbat.\n\nKaždý čtvrteční srpnový večer 19-21 hodvstup zdarma\nodkaz na tvorbu: linktr.ee/Ak4_2 \n \n 
URL:https://kpsmichov.cz/en/program/dj-ak4-2/2024-08-08/
LOCATION:Kavárna\, Komunitní prostor Smíchov Na Doubkové 8\, Praha 5\, kraj hlavní město praha\, 150 00\, Česká republika
CATEGORIES:Kultura v prostoru,Společné večery
ATTACH;FMTTYPE=image/png:https://kpsmichov.cz/wp-content/uploads/2024/08/johny.png
END:VEVENT
END:VCALENDAR