BEGIN:VCALENDAR
VERSION:2.0
PRODID:-//Komunitní prostor Smíchov - ECPv6.15.20//NONSGML v1.0//EN
CALSCALE:GREGORIAN
METHOD:PUBLISH
X-WR-CALNAME:Komunitní prostor Smíchov
X-ORIGINAL-URL:https://kpsmichov.cz/en
X-WR-CALDESC:Events for Komunitní prostor Smíchov
REFRESH-INTERVAL;VALUE=DURATION:PT1H
X-Robots-Tag:noindex
X-PUBLISHED-TTL:PT1H
BEGIN:VTIMEZONE
TZID:Europe/Prague
BEGIN:DAYLIGHT
TZOFFSETFROM:+0100
TZOFFSETTO:+0200
TZNAME:CEST
DTSTART:20210328T010000
END:DAYLIGHT
BEGIN:STANDARD
TZOFFSETFROM:+0200
TZOFFSETTO:+0100
TZNAME:CET
DTSTART:20211031T010000
END:STANDARD
BEGIN:DAYLIGHT
TZOFFSETFROM:+0100
TZOFFSETTO:+0200
TZNAME:CEST
DTSTART:20220327T010000
END:DAYLIGHT
BEGIN:STANDARD
TZOFFSETFROM:+0200
TZOFFSETTO:+0100
TZNAME:CET
DTSTART:20221030T010000
END:STANDARD
BEGIN:DAYLIGHT
TZOFFSETFROM:+0100
TZOFFSETTO:+0200
TZNAME:CEST
DTSTART:20230326T010000
END:DAYLIGHT
BEGIN:STANDARD
TZOFFSETFROM:+0200
TZOFFSETTO:+0100
TZNAME:CET
DTSTART:20231029T010000
END:STANDARD
END:VTIMEZONE
BEGIN:VEVENT
DTSTART;TZID=Europe/Prague:20221202T193000
DTEND;TZID=Europe/Prague:20221202T210000
DTSTAMP:20260421T150416
CREATED:20221130T114522Z
LAST-MODIFIED:20240503T210710Z
UID:2061-1670009400-1670014800@kpsmichov.cz
SUMMARY:Divadelní představení: The lost paradise
DESCRIPTION:19:30 / chrám / kdokoliv / doporučené vstupné 200 Kč\npříběh ženy\, která končí ve vězení pro svou touhu po upřímném vztahu a dítěti / představení je v perštině\, s českými a anglickými titulky / po představení následuje diskuze s íránskou autorkou
URL:https://kpsmichov.cz/en/program/divadelni-predstaveni-the-lost-paradise/
CATEGORIES:Kultura v prostoru,Živé téma
ATTACH;FMTTYPE=image/jpeg:https://kpsmichov.cz/wp-content/uploads/2022/11/Komunitni-Prostor-smichov-poster-2022.jpeg
END:VEVENT
END:VCALENDAR