BEGIN:VCALENDAR
VERSION:2.0
PRODID:-//Komunitní prostor Smíchov - ECPv6.15.20//NONSGML v1.0//EN
CALSCALE:GREGORIAN
METHOD:PUBLISH
X-WR-CALNAME:Komunitní prostor Smíchov
X-ORIGINAL-URL:https://kpsmichov.cz/en
X-WR-CALDESC:Events for Komunitní prostor Smíchov
REFRESH-INTERVAL;VALUE=DURATION:PT1H
X-Robots-Tag:noindex
X-PUBLISHED-TTL:PT1H
BEGIN:VTIMEZONE
TZID:Europe/Prague
BEGIN:DAYLIGHT
TZOFFSETFROM:+0100
TZOFFSETTO:+0200
TZNAME:CEST
DTSTART:20220327T010000
END:DAYLIGHT
BEGIN:STANDARD
TZOFFSETFROM:+0200
TZOFFSETTO:+0100
TZNAME:CET
DTSTART:20221030T010000
END:STANDARD
BEGIN:DAYLIGHT
TZOFFSETFROM:+0100
TZOFFSETTO:+0200
TZNAME:CEST
DTSTART:20230326T010000
END:DAYLIGHT
BEGIN:STANDARD
TZOFFSETFROM:+0200
TZOFFSETTO:+0100
TZNAME:CET
DTSTART:20231029T010000
END:STANDARD
BEGIN:DAYLIGHT
TZOFFSETFROM:+0100
TZOFFSETTO:+0200
TZNAME:CEST
DTSTART:20240331T010000
END:DAYLIGHT
BEGIN:STANDARD
TZOFFSETFROM:+0200
TZOFFSETTO:+0100
TZNAME:CET
DTSTART:20241027T010000
END:STANDARD
END:VTIMEZONE
BEGIN:VEVENT
DTSTART;TZID=Europe/Prague:20231214T180000
DTEND;TZID=Europe/Prague:20231214T210000
DTSTAMP:20260421T073628
CREATED:20231202T142705Z
LAST-MODIFIED:20250712T144759Z
UID:5337-1702576800-1702587600@kpsmichov.cz
SUMMARY:Cyklus koncertů Šest na pětce: Zemlinsky Quartet
DESCRIPTION:vstupenky na portálu GoOut \nZemlinsky Quartet již od svého založení v roce 1994 navazuje na bohatou tradici české kvartetní školy. V roce 2010 se stalo vítězem mezinárodní soutěže smyčcových kvartet ve francouzském Bordeaux\, je také laureátem mezinárodních soutěží smyčcových kvartet v kanadském Banffu (2007)\, v Praze (Pražské jaro 2005) a v Londýně (2006)\, kde zároveň získalo Cenu publika. Soubor též zvítězil na dalších soutěžích v Čechách i na Slovensku (1999 – Beethovenův Hradec\, 2003 – New Talent Bratislava\, 2004 – Cena hudobnej kritiky Žilina a Mezinárodní soutěž Nadace B. Martinů Praha). V roce 2005 byla kvartetu udělena Cena Českého spolku pro komorní hudbu a v roce 2009 cena Nadace Alexandra Zemlinského ve Vídni. \nZemlinského kvarteto pravidelně koncertuje v České republice i v zahraničí (Německo\, Rakousko\, Francie\, Itálie\, Švýcarsko\, Belgie\, Španělsko\, Velká Británie\, Irsko\, Bulharsko\, Maďarsko\, Slovensko\, Kanada\, USA\, Brazílie\, Jižní Korea); vystoupilo např. ve Wigmore Hall v Londýně\, v Cité de la Musique v Paříži\, v Library of Congress ve Washingtonu\, v Seoul Arts Center v Jižní Koreji nebo opakovaně na Pražském Jaru. Jeho repertoár tvoří více než 200 děl českých i světových skladatelů a zahrnuje také nové kompozice současných autorů. Soubor vytvořil množství nahrávek pro Český rozhlas včetně kompletního kvartetního díla F. X. Richtera. Jednotliví členové Zemlinského kvarteta se věnují také sólové hře – jsou držiteli cen z mezinárodních soutěží (soutěž L. Spohra Weimar\, Concertino Praga\, soutěž Rotary Clubu Norimberk\, Beethovenův Hradec\, Kocianova houslová soutěž aj.). \nProgram: \n\nLeoš Janáček: Smyčcový kvartet č. 1 z podnětu Tolstého Kreutzerovy sonáty\nAlexander Zemlinsky: Smyčcový kvartet č. 1 A dur op. 4\nLudwig van Beethoven: Smyčcový kvartet č. 9 C dur\, Op. 59/ 3
URL:https://kpsmichov.cz/en/program/cyklus-koncertu-sest-na-petce-zemlinsky-quartet/
LOCATION:Chrám\, Komunitní prostor Smíchov Na Doubkové 8\, Praha 5\, kraj hlavní město praha\, 150 00\, Česká republika
CATEGORIES:Kultura v prostoru
ATTACH;FMTTYPE=image/jpeg:https://kpsmichov.cz/wp-content/uploads/2023/12/udA¡lost-fb-zemlinsky-quartet-6na5-2-1.jpg
END:VEVENT
END:VCALENDAR