BEGIN:VCALENDAR
VERSION:2.0
PRODID:-//Komunitní prostor Smíchov - ECPv6.15.20//NONSGML v1.0//EN
CALSCALE:GREGORIAN
METHOD:PUBLISH
X-WR-CALNAME:Komunitní prostor Smíchov
X-ORIGINAL-URL:https://kpsmichov.cz/en
X-WR-CALDESC:Events for Komunitní prostor Smíchov
REFRESH-INTERVAL;VALUE=DURATION:PT1H
X-Robots-Tag:noindex
X-PUBLISHED-TTL:PT1H
BEGIN:VTIMEZONE
TZID:Europe/Prague
BEGIN:DAYLIGHT
TZOFFSETFROM:+0100
TZOFFSETTO:+0200
TZNAME:CEST
DTSTART:20230326T010000
END:DAYLIGHT
BEGIN:STANDARD
TZOFFSETFROM:+0200
TZOFFSETTO:+0100
TZNAME:CET
DTSTART:20231029T010000
END:STANDARD
BEGIN:DAYLIGHT
TZOFFSETFROM:+0100
TZOFFSETTO:+0200
TZNAME:CEST
DTSTART:20240331T010000
END:DAYLIGHT
BEGIN:STANDARD
TZOFFSETFROM:+0200
TZOFFSETTO:+0100
TZNAME:CET
DTSTART:20241027T010000
END:STANDARD
BEGIN:DAYLIGHT
TZOFFSETFROM:+0100
TZOFFSETTO:+0200
TZNAME:CEST
DTSTART:20250330T010000
END:DAYLIGHT
BEGIN:STANDARD
TZOFFSETFROM:+0200
TZOFFSETTO:+0100
TZNAME:CET
DTSTART:20251026T010000
END:STANDARD
END:VTIMEZONE
BEGIN:VEVENT
DTSTART;TZID=Europe/Prague:20241003T180000
DTEND;TZID=Europe/Prague:20241003T210000
DTSTAMP:20260421T083723
CREATED:20240928T230921Z
LAST-MODIFIED:20250712T145615Z
UID:7395-1727978400-1727989200@kpsmichov.cz
SUMMARY:Cyklus koncertů Šest na pětce: Smíšený pěvecký sbor Punkt & klavíristka Anna Gaálová
DESCRIPTION:18:00 / horní patro kavárny / atreé s Jiřím Slabihoudkem – úvod k nadcházejícímu koncertu \n19:00 / chrám/ zahájení koncertu \nSrdečně zveme na zahajovací koncert druhého ročníku koncertů klasické hudby Šest na pětce.\nPunkt byl založen roku 2015 jako smíšený studentský sbor při Pražské konzervatoři\, prvními sbormistry byli tehdejší žáci v oborech skladba a dirigování Alena Hron (dříve Jelínková) a Jiří Trtík. Původním cílem bylo provádět skladby spolužáků-skladatelů\, brzy se však repertoár sboru rozšířil na další soudobé tvůrce nejen z České republiky. Za působení Aleny Hron získal sbor několik ocenění včetně prvních cen na mezinárodních soutěžích v Bosně a Hercegovině (2018) a Belgii (2019). V současné době se těleso stále soustředí na soudobou hudbu\, nicméně zařazuje do repertoáru také starší skladby a úpravy lidových písní. Od roku 2022 vede sbor student dirigování na pražské HAMU Igor Karpilovskij. Punkt absolvoval pod jeho vedením mimo jiné soutěžní přehlídku ve španělské Tolose (2022) či Svátky písní Olomouc (2023). \nAnna Gaálová začala hrát na klavír v pěti letech\, přičemž první roky byla pod vedením pedagožky Jany Horákové na ZUŠ Děčín. V tomto období získala řadu ocenění z národních a mezinárodních soutěží. Mezi ně patří například soutěž Prague Junior Note\, Amadeus Brno a Broumovská klávesa. Studium na ZUŠ Děčín ukončila 3. místem na Mezinárodní smetanovské soutěži v Plzni. Mezi roky 2014 – 2020 studovala na Pražské konzervatoři pod vedením MgA. Milana Langera. Již v prvním ročníku získala první místa ze soutěží Broumovská klávesa a Pro Bohemia Ostrava. Zároveň se opakovaně stala laureátkou soutěžní přehlídky Mladý klavír. V roce 2017 získala 1.cenu v kategorii do 22 let na Brněnské klavírní soutěži a 2. cenu v italské Gorizii. Mezi její největší soutěžní úspěchy z dob studia na konzervatoři patří např. 3. cena a ocenění za nejlepší interpretaci skladby Pancha Vladigerova na soutěži Pancho Vladigerov Piano Competition v Bulharsku. V současné době studuje na Akademii múzických umění v Praze – HAMU ve třídě doc. MgA. Iva Kahánka\, Ph.D. V dubnu 2021 byla jednou ze sólistek cyklu Janáčkovy filharmonie „Mladí sólisté“\, kde si zahrála 1. klavírní koncert S. Prokofjeva. Na přelomu roku 2021/2022 vystoupila v rámci komorního projektu České filharmonie Not Without Joy ve Dvořákově síni pražského Rudolfina. V roce 2023 se stala laureátkou Soutěže Nadace Bohuslava Martinů a Mezinárodní Smetanovské soutěže v Plzni. \nIgor Karpilovskij – sbormistr\nAnna Gaálová – klavír \nProgram: \n\nFrancis Poulenc: Salve Regina\nLeoš Janáček: Frýdecká Panna Maria z cyklu Po zarostlém chodníčku\nBohuslav Martinů: Zvěstování a Sen z cyklu Čtyři písně o Marii\nDarja Kukal Moiseeva: Cyklus písní pro smíšený sbor na texty Jana Skácela\nLeoš Janáček: cyklus V mlhách\nMark Karpilovskij: O vodě – cyklus čtyř sborů na texty Antonína Sovy\narr. Miroslav Raichl: Deset úprav lidových písní (výběr)\n\n  \nPředprodej vstupenek na portálu GoOut\, základní vstupné 400 Kč\, zvýhodněné 240/150 Kč \nNa celý koncertní cyklus si lze pořídit abonmá\, které zahrnuje výhodnější cenu a garantované místo v chrámu na všech šesti koncertech a doprovodném programu. Cena abonmá na všechny koncerty: 1800 Kč /Studenti\, senioři\, ZTP a ZTP/P 1000 Kč / žáci a studenti hudebních škol 600 Kč. \nS velkou vděčností děkujeme všem partnerům a podporovatelům:\nMinisterstvo kultury ČR (Smetana 200\, Rok české hudby)\, Městská část Praha 5\, Ochranný svaz autorský\, Státní fond kultury a Českobratrské církvi evangelické
URL:https://kpsmichov.cz/en/program/cyklus-koncertu-sest-na-petce-punkt/
LOCATION:Chrám\, Komunitní prostor Smíchov Na Doubkové 8\, Praha 5\, kraj hlavní město praha\, 150 00\, Česká republika
CATEGORIES:Kultura v prostoru
ATTACH;FMTTYPE=image/jpeg:https://kpsmichov.cz/wp-content/uploads/2024/09/punkt_final_jpg-scaled.jpg
END:VEVENT
END:VCALENDAR